BEGIN:VCALENDAR
VERSION:2.0
PRODID:-//Early Years Online Hub - ECPv6.15.20//NONSGML v1.0//EN
CALSCALE:GREGORIAN
METHOD:PUBLISH
X-WR-CALNAME:Early Years Online Hub
X-ORIGINAL-URL:https://earlyyearsonlinehub.org.au
X-WR-CALDESC:Events for Early Years Online Hub
REFRESH-INTERVAL;VALUE=DURATION:PT1H
X-Robots-Tag:noindex
X-PUBLISHED-TTL:PT1H
BEGIN:VTIMEZONE
TZID:Australia/Melbourne
BEGIN:STANDARD
TZOFFSETFROM:+1100
TZOFFSETTO:+1000
TZNAME:AEST
DTSTART:20240406T160000
END:STANDARD
BEGIN:DAYLIGHT
TZOFFSETFROM:+1000
TZOFFSETTO:+1100
TZNAME:AEDT
DTSTART:20241005T160000
END:DAYLIGHT
BEGIN:STANDARD
TZOFFSETFROM:+1100
TZOFFSETTO:+1000
TZNAME:AEST
DTSTART:20250405T160000
END:STANDARD
BEGIN:DAYLIGHT
TZOFFSETFROM:+1000
TZOFFSETTO:+1100
TZNAME:AEDT
DTSTART:20251004T160000
END:DAYLIGHT
BEGIN:STANDARD
TZOFFSETFROM:+1100
TZOFFSETTO:+1000
TZNAME:AEST
DTSTART:20260404T160000
END:STANDARD
BEGIN:DAYLIGHT
TZOFFSETFROM:+1000
TZOFFSETTO:+1100
TZNAME:AEDT
DTSTART:20261003T160000
END:DAYLIGHT
END:VTIMEZONE
BEGIN:VEVENT
DTSTART;TZID=Australia/Melbourne:20251114T100000
DTEND;TZID=Australia/Melbourne:20251114T140000
DTSTAMP:20260424T050425
CREATED:20251104T224245Z
LAST-MODIFIED:20251104T224245Z
UID:10008059-1763114400-1763128800@earlyyearsonlinehub.org.au
SUMMARY:Safe Kids Safe Seats Robinvale
DESCRIPTION:Come along to a Family-Friendly\, Educational\, and Hands-on event hosted and supported by Kidsafe — giving people the chance to see proper restraint setups\, ask questions\, and access accurate\, up-to-date information and safety laws. \n\nDATE: Friday 14th November\nTIME: 10:00AM – 2:00PM\nPLACE: Robinvale Leisure Centre (Main Car Park)\nFree BBQ and fruit cups on the day!
URL:https://earlyyearsonlinehub.org.au/event/safe-kids-safe-seats-robinvale/
LOCATION:Robinvale Leisure Centre\, 75 Latje Road\, ROBINVALE\, VIC\, 3549\, Australia
CATEGORIES:Local Events
ATTACH;FMTTYPE=image/png:https://earlyyearsonlinehub.org.au/wp-content/uploads/2025/11/Social-Post-SSSK-Robinvale.png
END:VEVENT
BEGIN:VEVENT
DTSTART;TZID=Australia/Melbourne:20251114T100000
DTEND;TZID=Australia/Melbourne:20251114T110000
DTSTAMP:20260424T050425
CREATED:20250717T231620Z
LAST-MODIFIED:20250923T233302Z
UID:10000295-1763114400-1763118000@earlyyearsonlinehub.org.au
SUMMARY:Jump and Jive Playgroup Robinvale
DESCRIPTION:Playgroups are informal sessions where mums\, dads\, grandparents\, caregivers\, children and babies meet together in a relaxed environment. \nAll children from 0 to 5 years\, including babies\, love new experiences and benefit from developing sensory\, social and communication skills through activities at playgroup. \nJump and Jive Playgroup from 10am until 11am Fridays at the Robinvale Leisure Centre 75 Latje Rd\, Robinvale \nSessions are held during Victorian school terms.
URL:https://earlyyearsonlinehub.org.au/event/jump-and-jive-playgroup-robinvale/2025-11-14/
LOCATION:Robinvale Leisure Centre\, 75 Latje Road\, ROBINVALE\, VIC\, 3549\, Australia
CATEGORIES:Weekly Programs
ATTACH;FMTTYPE=image/png:https://earlyyearsonlinehub.org.au/wp-content/uploads/2025/06/Ni1t49YYi3mjyu9hd8HoPD.png
END:VEVENT
BEGIN:VEVENT
DTSTART;TZID=Australia/Melbourne:20251107T100000
DTEND;TZID=Australia/Melbourne:20251107T110000
DTSTAMP:20260424T050425
CREATED:20250717T231620Z
LAST-MODIFIED:20250923T233302Z
UID:10000294-1762509600-1762513200@earlyyearsonlinehub.org.au
SUMMARY:Jump and Jive Playgroup Robinvale
DESCRIPTION:Playgroups are informal sessions where mums\, dads\, grandparents\, caregivers\, children and babies meet together in a relaxed environment. \nAll children from 0 to 5 years\, including babies\, love new experiences and benefit from developing sensory\, social and communication skills through activities at playgroup. \nJump and Jive Playgroup from 10am until 11am Fridays at the Robinvale Leisure Centre 75 Latje Rd\, Robinvale \nSessions are held during Victorian school terms.
URL:https://earlyyearsonlinehub.org.au/event/jump-and-jive-playgroup-robinvale/2025-11-07/
LOCATION:Robinvale Leisure Centre\, 75 Latje Road\, ROBINVALE\, VIC\, 3549\, Australia
CATEGORIES:Weekly Programs
ATTACH;FMTTYPE=image/png:https://earlyyearsonlinehub.org.au/wp-content/uploads/2025/06/Ni1t49YYi3mjyu9hd8HoPD.png
END:VEVENT
BEGIN:VEVENT
DTSTART;TZID=Australia/Melbourne:20251031T100000
DTEND;TZID=Australia/Melbourne:20251031T110000
DTSTAMP:20260424T050425
CREATED:20250717T231620Z
LAST-MODIFIED:20250923T233302Z
UID:10000293-1761904800-1761908400@earlyyearsonlinehub.org.au
SUMMARY:Jump and Jive Playgroup Robinvale
DESCRIPTION:Playgroups are informal sessions where mums\, dads\, grandparents\, caregivers\, children and babies meet together in a relaxed environment. \nAll children from 0 to 5 years\, including babies\, love new experiences and benefit from developing sensory\, social and communication skills through activities at playgroup. \nJump and Jive Playgroup from 10am until 11am Fridays at the Robinvale Leisure Centre 75 Latje Rd\, Robinvale \nSessions are held during Victorian school terms.
URL:https://earlyyearsonlinehub.org.au/event/jump-and-jive-playgroup-robinvale/2025-10-31/
LOCATION:Robinvale Leisure Centre\, 75 Latje Road\, ROBINVALE\, VIC\, 3549\, Australia
CATEGORIES:Weekly Programs
ATTACH;FMTTYPE=image/png:https://earlyyearsonlinehub.org.au/wp-content/uploads/2025/06/Ni1t49YYi3mjyu9hd8HoPD.png
END:VEVENT
BEGIN:VEVENT
DTSTART;TZID=Australia/Melbourne:20251024T100000
DTEND;TZID=Australia/Melbourne:20251024T110000
DTSTAMP:20260424T050425
CREATED:20250717T231620Z
LAST-MODIFIED:20250923T233302Z
UID:10000292-1761300000-1761303600@earlyyearsonlinehub.org.au
SUMMARY:Jump and Jive Playgroup Robinvale
DESCRIPTION:Playgroups are informal sessions where mums\, dads\, grandparents\, caregivers\, children and babies meet together in a relaxed environment. \nAll children from 0 to 5 years\, including babies\, love new experiences and benefit from developing sensory\, social and communication skills through activities at playgroup. \nJump and Jive Playgroup from 10am until 11am Fridays at the Robinvale Leisure Centre 75 Latje Rd\, Robinvale \nSessions are held during Victorian school terms.
URL:https://earlyyearsonlinehub.org.au/event/jump-and-jive-playgroup-robinvale/2025-10-24/
LOCATION:Robinvale Leisure Centre\, 75 Latje Road\, ROBINVALE\, VIC\, 3549\, Australia
CATEGORIES:Weekly Programs
ATTACH;FMTTYPE=image/png:https://earlyyearsonlinehub.org.au/wp-content/uploads/2025/06/Ni1t49YYi3mjyu9hd8HoPD.png
END:VEVENT
BEGIN:VEVENT
DTSTART;TZID=Australia/Melbourne:20251017T100000
DTEND;TZID=Australia/Melbourne:20251017T110000
DTSTAMP:20260424T050425
CREATED:20250717T231620Z
LAST-MODIFIED:20250923T233302Z
UID:10000291-1760695200-1760698800@earlyyearsonlinehub.org.au
SUMMARY:Jump and Jive Playgroup Robinvale
DESCRIPTION:Playgroups are informal sessions where mums\, dads\, grandparents\, caregivers\, children and babies meet together in a relaxed environment. \nAll children from 0 to 5 years\, including babies\, love new experiences and benefit from developing sensory\, social and communication skills through activities at playgroup. \nJump and Jive Playgroup from 10am until 11am Fridays at the Robinvale Leisure Centre 75 Latje Rd\, Robinvale \nSessions are held during Victorian school terms.
URL:https://earlyyearsonlinehub.org.au/event/jump-and-jive-playgroup-robinvale/2025-10-17/
LOCATION:Robinvale Leisure Centre\, 75 Latje Road\, ROBINVALE\, VIC\, 3549\, Australia
CATEGORIES:Weekly Programs
ATTACH;FMTTYPE=image/png:https://earlyyearsonlinehub.org.au/wp-content/uploads/2025/06/Ni1t49YYi3mjyu9hd8HoPD.png
END:VEVENT
BEGIN:VEVENT
DTSTART;TZID=Australia/Melbourne:20251010T100000
DTEND;TZID=Australia/Melbourne:20251010T110000
DTSTAMP:20260424T050425
CREATED:20250717T231620Z
LAST-MODIFIED:20250923T233302Z
UID:10000290-1760090400-1760094000@earlyyearsonlinehub.org.au
SUMMARY:Jump and Jive Playgroup Robinvale
DESCRIPTION:Playgroups are informal sessions where mums\, dads\, grandparents\, caregivers\, children and babies meet together in a relaxed environment. \nAll children from 0 to 5 years\, including babies\, love new experiences and benefit from developing sensory\, social and communication skills through activities at playgroup. \nJump and Jive Playgroup from 10am until 11am Fridays at the Robinvale Leisure Centre 75 Latje Rd\, Robinvale \nSessions are held during Victorian school terms.
URL:https://earlyyearsonlinehub.org.au/event/jump-and-jive-playgroup-robinvale/2025-10-10/
LOCATION:Robinvale Leisure Centre\, 75 Latje Road\, ROBINVALE\, VIC\, 3549\, Australia
CATEGORIES:Weekly Programs
ATTACH;FMTTYPE=image/png:https://earlyyearsonlinehub.org.au/wp-content/uploads/2025/06/Ni1t49YYi3mjyu9hd8HoPD.png
END:VEVENT
BEGIN:VEVENT
DTSTART;TZID=Australia/Melbourne:20250919T100000
DTEND;TZID=Australia/Melbourne:20250919T110000
DTSTAMP:20260424T050425
CREATED:20250717T231620Z
LAST-MODIFIED:20250923T233302Z
UID:10000287-1758276000-1758279600@earlyyearsonlinehub.org.au
SUMMARY:Jump and Jive Playgroup Robinvale
DESCRIPTION:Playgroups are informal sessions where mums\, dads\, grandparents\, caregivers\, children and babies meet together in a relaxed environment. \nAll children from 0 to 5 years\, including babies\, love new experiences and benefit from developing sensory\, social and communication skills through activities at playgroup. \nJump and Jive Playgroup from 10am until 11am Fridays at the Robinvale Leisure Centre 75 Latje Rd\, Robinvale \nSessions are held during Victorian school terms.
URL:https://earlyyearsonlinehub.org.au/event/jump-and-jive-playgroup-robinvale/2025-09-19/
LOCATION:Robinvale Leisure Centre\, 75 Latje Road\, ROBINVALE\, VIC\, 3549\, Australia
CATEGORIES:Weekly Programs
ATTACH;FMTTYPE=image/png:https://earlyyearsonlinehub.org.au/wp-content/uploads/2025/06/Ni1t49YYi3mjyu9hd8HoPD.png
END:VEVENT
BEGIN:VEVENT
DTSTART;TZID=Australia/Melbourne:20250912T100000
DTEND;TZID=Australia/Melbourne:20250912T110000
DTSTAMP:20260424T050425
CREATED:20250717T231620Z
LAST-MODIFIED:20250923T233302Z
UID:10000286-1757671200-1757674800@earlyyearsonlinehub.org.au
SUMMARY:Jump and Jive Playgroup Robinvale
DESCRIPTION:Playgroups are informal sessions where mums\, dads\, grandparents\, caregivers\, children and babies meet together in a relaxed environment. \nAll children from 0 to 5 years\, including babies\, love new experiences and benefit from developing sensory\, social and communication skills through activities at playgroup. \nJump and Jive Playgroup from 10am until 11am Fridays at the Robinvale Leisure Centre 75 Latje Rd\, Robinvale \nSessions are held during Victorian school terms.
URL:https://earlyyearsonlinehub.org.au/event/jump-and-jive-playgroup-robinvale/2025-09-12/
LOCATION:Robinvale Leisure Centre\, 75 Latje Road\, ROBINVALE\, VIC\, 3549\, Australia
CATEGORIES:Weekly Programs
ATTACH;FMTTYPE=image/png:https://earlyyearsonlinehub.org.au/wp-content/uploads/2025/06/Ni1t49YYi3mjyu9hd8HoPD.png
END:VEVENT
BEGIN:VEVENT
DTSTART;TZID=Australia/Melbourne:20250905T100000
DTEND;TZID=Australia/Melbourne:20250905T110000
DTSTAMP:20260424T050425
CREATED:20250717T231620Z
LAST-MODIFIED:20250923T233302Z
UID:10000285-1757066400-1757070000@earlyyearsonlinehub.org.au
SUMMARY:Jump and Jive Playgroup Robinvale
DESCRIPTION:Playgroups are informal sessions where mums\, dads\, grandparents\, caregivers\, children and babies meet together in a relaxed environment. \nAll children from 0 to 5 years\, including babies\, love new experiences and benefit from developing sensory\, social and communication skills through activities at playgroup. \nJump and Jive Playgroup from 10am until 11am Fridays at the Robinvale Leisure Centre 75 Latje Rd\, Robinvale \nSessions are held during Victorian school terms.
URL:https://earlyyearsonlinehub.org.au/event/jump-and-jive-playgroup-robinvale/2025-09-05/
LOCATION:Robinvale Leisure Centre\, 75 Latje Road\, ROBINVALE\, VIC\, 3549\, Australia
CATEGORIES:Weekly Programs
ATTACH;FMTTYPE=image/png:https://earlyyearsonlinehub.org.au/wp-content/uploads/2025/06/Ni1t49YYi3mjyu9hd8HoPD.png
END:VEVENT
BEGIN:VEVENT
DTSTART;TZID=Australia/Melbourne:20250829T100000
DTEND;TZID=Australia/Melbourne:20250829T110000
DTSTAMP:20260424T050425
CREATED:20250717T231620Z
LAST-MODIFIED:20250923T233302Z
UID:10000284-1756461600-1756465200@earlyyearsonlinehub.org.au
SUMMARY:Jump and Jive Playgroup Robinvale
DESCRIPTION:Playgroups are informal sessions where mums\, dads\, grandparents\, caregivers\, children and babies meet together in a relaxed environment. \nAll children from 0 to 5 years\, including babies\, love new experiences and benefit from developing sensory\, social and communication skills through activities at playgroup. \nJump and Jive Playgroup from 10am until 11am Fridays at the Robinvale Leisure Centre 75 Latje Rd\, Robinvale \nSessions are held during Victorian school terms.
URL:https://earlyyearsonlinehub.org.au/event/jump-and-jive-playgroup-robinvale/2025-08-29/
LOCATION:Robinvale Leisure Centre\, 75 Latje Road\, ROBINVALE\, VIC\, 3549\, Australia
CATEGORIES:Weekly Programs
ATTACH;FMTTYPE=image/png:https://earlyyearsonlinehub.org.au/wp-content/uploads/2025/06/Ni1t49YYi3mjyu9hd8HoPD.png
END:VEVENT
BEGIN:VEVENT
DTSTART;TZID=Australia/Melbourne:20250822T100000
DTEND;TZID=Australia/Melbourne:20250822T110000
DTSTAMP:20260424T050425
CREATED:20250717T231620Z
LAST-MODIFIED:20250923T233302Z
UID:10000283-1755856800-1755860400@earlyyearsonlinehub.org.au
SUMMARY:Jump and Jive Playgroup Robinvale
DESCRIPTION:Playgroups are informal sessions where mums\, dads\, grandparents\, caregivers\, children and babies meet together in a relaxed environment. \nAll children from 0 to 5 years\, including babies\, love new experiences and benefit from developing sensory\, social and communication skills through activities at playgroup. \nJump and Jive Playgroup from 10am until 11am Fridays at the Robinvale Leisure Centre 75 Latje Rd\, Robinvale \nSessions are held during Victorian school terms.
URL:https://earlyyearsonlinehub.org.au/event/jump-and-jive-playgroup-robinvale/2025-08-22/
LOCATION:Robinvale Leisure Centre\, 75 Latje Road\, ROBINVALE\, VIC\, 3549\, Australia
CATEGORIES:Weekly Programs
ATTACH;FMTTYPE=image/png:https://earlyyearsonlinehub.org.au/wp-content/uploads/2025/06/Ni1t49YYi3mjyu9hd8HoPD.png
END:VEVENT
BEGIN:VEVENT
DTSTART;TZID=Australia/Melbourne:20250815T100000
DTEND;TZID=Australia/Melbourne:20250815T110000
DTSTAMP:20260424T050425
CREATED:20250717T231620Z
LAST-MODIFIED:20250923T233302Z
UID:10000282-1755252000-1755255600@earlyyearsonlinehub.org.au
SUMMARY:Jump and Jive Playgroup Robinvale
DESCRIPTION:Playgroups are informal sessions where mums\, dads\, grandparents\, caregivers\, children and babies meet together in a relaxed environment. \nAll children from 0 to 5 years\, including babies\, love new experiences and benefit from developing sensory\, social and communication skills through activities at playgroup. \nJump and Jive Playgroup from 10am until 11am Fridays at the Robinvale Leisure Centre 75 Latje Rd\, Robinvale \nSessions are held during Victorian school terms.
URL:https://earlyyearsonlinehub.org.au/event/jump-and-jive-playgroup-robinvale/2025-08-15/
LOCATION:Robinvale Leisure Centre\, 75 Latje Road\, ROBINVALE\, VIC\, 3549\, Australia
CATEGORIES:Weekly Programs
ATTACH;FMTTYPE=image/png:https://earlyyearsonlinehub.org.au/wp-content/uploads/2025/06/Ni1t49YYi3mjyu9hd8HoPD.png
END:VEVENT
BEGIN:VEVENT
DTSTART;TZID=Australia/Melbourne:20250808T100000
DTEND;TZID=Australia/Melbourne:20250808T110000
DTSTAMP:20260424T050425
CREATED:20250717T231620Z
LAST-MODIFIED:20250923T233302Z
UID:10000281-1754647200-1754650800@earlyyearsonlinehub.org.au
SUMMARY:Jump and Jive Playgroup Robinvale
DESCRIPTION:Playgroups are informal sessions where mums\, dads\, grandparents\, caregivers\, children and babies meet together in a relaxed environment. \nAll children from 0 to 5 years\, including babies\, love new experiences and benefit from developing sensory\, social and communication skills through activities at playgroup. \nJump and Jive Playgroup from 10am until 11am Fridays at the Robinvale Leisure Centre 75 Latje Rd\, Robinvale \nSessions are held during Victorian school terms.
URL:https://earlyyearsonlinehub.org.au/event/jump-and-jive-playgroup-robinvale/2025-08-08/
LOCATION:Robinvale Leisure Centre\, 75 Latje Road\, ROBINVALE\, VIC\, 3549\, Australia
CATEGORIES:Weekly Programs
ATTACH;FMTTYPE=image/png:https://earlyyearsonlinehub.org.au/wp-content/uploads/2025/06/Ni1t49YYi3mjyu9hd8HoPD.png
END:VEVENT
BEGIN:VEVENT
DTSTART;TZID=Australia/Melbourne:20250801T100000
DTEND;TZID=Australia/Melbourne:20250801T110000
DTSTAMP:20260424T050425
CREATED:20250717T231620Z
LAST-MODIFIED:20250923T233302Z
UID:10000280-1754042400-1754046000@earlyyearsonlinehub.org.au
SUMMARY:Jump and Jive Playgroup Robinvale
DESCRIPTION:Playgroups are informal sessions where mums\, dads\, grandparents\, caregivers\, children and babies meet together in a relaxed environment. \nAll children from 0 to 5 years\, including babies\, love new experiences and benefit from developing sensory\, social and communication skills through activities at playgroup. \nJump and Jive Playgroup from 10am until 11am Fridays at the Robinvale Leisure Centre 75 Latje Rd\, Robinvale \nSessions are held during Victorian school terms.
URL:https://earlyyearsonlinehub.org.au/event/jump-and-jive-playgroup-robinvale/2025-08-01/
LOCATION:Robinvale Leisure Centre\, 75 Latje Road\, ROBINVALE\, VIC\, 3549\, Australia
CATEGORIES:Weekly Programs
ATTACH;FMTTYPE=image/png:https://earlyyearsonlinehub.org.au/wp-content/uploads/2025/06/Ni1t49YYi3mjyu9hd8HoPD.png
END:VEVENT
BEGIN:VEVENT
DTSTART;TZID=Australia/Melbourne:20250725T100000
DTEND;TZID=Australia/Melbourne:20250725T110000
DTSTAMP:20260424T050425
CREATED:20250717T231620Z
LAST-MODIFIED:20250923T233302Z
UID:10000025-1753437600-1753441200@earlyyearsonlinehub.org.au
SUMMARY:Jump and Jive Playgroup Robinvale
DESCRIPTION:Playgroups are informal sessions where mums\, dads\, grandparents\, caregivers\, children and babies meet together in a relaxed environment. \nAll children from 0 to 5 years\, including babies\, love new experiences and benefit from developing sensory\, social and communication skills through activities at playgroup. \nJump and Jive Playgroup from 10am until 11am Fridays at the Robinvale Leisure Centre 75 Latje Rd\, Robinvale \nSessions are held during Victorian school terms.
URL:https://earlyyearsonlinehub.org.au/event/jump-and-jive-playgroup-robinvale/2025-07-25/
LOCATION:Robinvale Leisure Centre\, 75 Latje Road\, ROBINVALE\, VIC\, 3549\, Australia
CATEGORIES:Weekly Programs
ATTACH;FMTTYPE=image/png:https://earlyyearsonlinehub.org.au/wp-content/uploads/2025/06/Ni1t49YYi3mjyu9hd8HoPD.png
END:VEVENT
END:VCALENDAR