BEGIN:VCALENDAR
VERSION:2.0
PRODID:-//Early Years Online Hub - ECPv6.15.20//NONSGML v1.0//EN
CALSCALE:GREGORIAN
METHOD:PUBLISH
X-WR-CALNAME:Early Years Online Hub
X-ORIGINAL-URL:https://earlyyearsonlinehub.org.au
X-WR-CALDESC:Events for Early Years Online Hub
REFRESH-INTERVAL;VALUE=DURATION:PT1H
X-Robots-Tag:noindex
X-PUBLISHED-TTL:PT1H
BEGIN:VTIMEZONE
TZID:Australia/Melbourne
BEGIN:STANDARD
TZOFFSETFROM:+1100
TZOFFSETTO:+1000
TZNAME:AEST
DTSTART:20290331T160000
END:STANDARD
BEGIN:DAYLIGHT
TZOFFSETFROM:+1000
TZOFFSETTO:+1100
TZNAME:AEDT
DTSTART:20291006T160000
END:DAYLIGHT
BEGIN:STANDARD
TZOFFSETFROM:+1100
TZOFFSETTO:+1000
TZNAME:AEST
DTSTART:20300406T160000
END:STANDARD
BEGIN:DAYLIGHT
TZOFFSETFROM:+1000
TZOFFSETTO:+1100
TZNAME:AEDT
DTSTART:20301005T160000
END:DAYLIGHT
BEGIN:STANDARD
TZOFFSETFROM:+1100
TZOFFSETTO:+1000
TZNAME:AEST
DTSTART:20310405T160000
END:STANDARD
BEGIN:DAYLIGHT
TZOFFSETFROM:+1000
TZOFFSETTO:+1100
TZNAME:AEDT
DTSTART:20311004T160000
END:DAYLIGHT
BEGIN:STANDARD
TZOFFSETFROM:+1100
TZOFFSETTO:+1000
TZNAME:AEST
DTSTART:20320403T160000
END:STANDARD
BEGIN:DAYLIGHT
TZOFFSETFROM:+1000
TZOFFSETTO:+1100
TZNAME:AEDT
DTSTART:20321002T160000
END:DAYLIGHT
END:VTIMEZONE
BEGIN:VEVENT
DTSTART;TZID=Australia/Melbourne:20300913T100000
DTEND;TZID=Australia/Melbourne:20300913T113000
DTSTAMP:20260425T015003
CREATED:20260305T023352Z
LAST-MODIFIED:20260305T023352Z
UID:10004540-1915524000-1915529400@earlyyearsonlinehub.org.au
SUMMARY:Jump and Jive Playgroup Robinvale
DESCRIPTION:Playgroups are informal sessions where mums\, dads\, grandparents\, caregivers\, children and babies meet together in a relaxed environment. \nAll children from 0 to 5 years\, including babies\, love new experiences and benefit from developing sensory\, social and communication skills through activities at playgroup. \nJump and Jive Playgroup from 10am until 11:30am Fridays at the Robinvale Leisure Centre 75 Latje Rd\, Robinvale \nSessions are held during Victorian school terms.
URL:https://earlyyearsonlinehub.org.au/event/jump-and-jive-playgroup-robinvale-2/2030-09-13/
LOCATION:Robinvale Leisure Centre\, 75 Latje Road\, ROBINVALE\, VIC\, 3549\, Australia
CATEGORIES:Weekly Programs
ATTACH;FMTTYPE=image/png:https://earlyyearsonlinehub.org.au/wp-content/uploads/2025/06/Ni1t49YYi3mjyu9hd8HoPD.png
END:VEVENT
BEGIN:VEVENT
DTSTART;TZID=Australia/Melbourne:20300920T100000
DTEND;TZID=Australia/Melbourne:20300920T113000
DTSTAMP:20260425T015003
CREATED:20260305T023352Z
LAST-MODIFIED:20260305T023352Z
UID:10004541-1916128800-1916134200@earlyyearsonlinehub.org.au
SUMMARY:Jump and Jive Playgroup Robinvale
DESCRIPTION:Playgroups are informal sessions where mums\, dads\, grandparents\, caregivers\, children and babies meet together in a relaxed environment. \nAll children from 0 to 5 years\, including babies\, love new experiences and benefit from developing sensory\, social and communication skills through activities at playgroup. \nJump and Jive Playgroup from 10am until 11:30am Fridays at the Robinvale Leisure Centre 75 Latje Rd\, Robinvale \nSessions are held during Victorian school terms.
URL:https://earlyyearsonlinehub.org.au/event/jump-and-jive-playgroup-robinvale-2/2030-09-20/
LOCATION:Robinvale Leisure Centre\, 75 Latje Road\, ROBINVALE\, VIC\, 3549\, Australia
CATEGORIES:Weekly Programs
ATTACH;FMTTYPE=image/png:https://earlyyearsonlinehub.org.au/wp-content/uploads/2025/06/Ni1t49YYi3mjyu9hd8HoPD.png
END:VEVENT
BEGIN:VEVENT
DTSTART;TZID=Australia/Melbourne:20300927T100000
DTEND;TZID=Australia/Melbourne:20300927T113000
DTSTAMP:20260425T015003
CREATED:20260305T023352Z
LAST-MODIFIED:20260305T023352Z
UID:10009079-1916733600-1916739000@earlyyearsonlinehub.org.au
SUMMARY:Jump and Jive Playgroup Robinvale
DESCRIPTION:Playgroups are informal sessions where mums\, dads\, grandparents\, caregivers\, children and babies meet together in a relaxed environment. \nAll children from 0 to 5 years\, including babies\, love new experiences and benefit from developing sensory\, social and communication skills through activities at playgroup. \nJump and Jive Playgroup from 10am until 11:30am Fridays at the Robinvale Leisure Centre 75 Latje Rd\, Robinvale \nSessions are held during Victorian school terms.
URL:https://earlyyearsonlinehub.org.au/event/jump-and-jive-playgroup-robinvale-2/2030-09-27/
LOCATION:Robinvale Leisure Centre\, 75 Latje Road\, ROBINVALE\, VIC\, 3549\, Australia
CATEGORIES:Weekly Programs
ATTACH;FMTTYPE=image/png:https://earlyyearsonlinehub.org.au/wp-content/uploads/2025/06/Ni1t49YYi3mjyu9hd8HoPD.png
END:VEVENT
BEGIN:VEVENT
DTSTART;TZID=Australia/Melbourne:20301004T100000
DTEND;TZID=Australia/Melbourne:20301004T113000
DTSTAMP:20260425T015003
CREATED:20260305T023352Z
LAST-MODIFIED:20260305T023352Z
UID:10009080-1917338400-1917343800@earlyyearsonlinehub.org.au
SUMMARY:Jump and Jive Playgroup Robinvale
DESCRIPTION:Playgroups are informal sessions where mums\, dads\, grandparents\, caregivers\, children and babies meet together in a relaxed environment. \nAll children from 0 to 5 years\, including babies\, love new experiences and benefit from developing sensory\, social and communication skills through activities at playgroup. \nJump and Jive Playgroup from 10am until 11:30am Fridays at the Robinvale Leisure Centre 75 Latje Rd\, Robinvale \nSessions are held during Victorian school terms.
URL:https://earlyyearsonlinehub.org.au/event/jump-and-jive-playgroup-robinvale-2/2030-10-04/
LOCATION:Robinvale Leisure Centre\, 75 Latje Road\, ROBINVALE\, VIC\, 3549\, Australia
CATEGORIES:Weekly Programs
ATTACH;FMTTYPE=image/png:https://earlyyearsonlinehub.org.au/wp-content/uploads/2025/06/Ni1t49YYi3mjyu9hd8HoPD.png
END:VEVENT
BEGIN:VEVENT
DTSTART;TZID=Australia/Melbourne:20301011T100000
DTEND;TZID=Australia/Melbourne:20301011T113000
DTSTAMP:20260425T015003
CREATED:20260305T023352Z
LAST-MODIFIED:20260305T023352Z
UID:10009081-1917943200-1917948600@earlyyearsonlinehub.org.au
SUMMARY:Jump and Jive Playgroup Robinvale
DESCRIPTION:Playgroups are informal sessions where mums\, dads\, grandparents\, caregivers\, children and babies meet together in a relaxed environment. \nAll children from 0 to 5 years\, including babies\, love new experiences and benefit from developing sensory\, social and communication skills through activities at playgroup. \nJump and Jive Playgroup from 10am until 11:30am Fridays at the Robinvale Leisure Centre 75 Latje Rd\, Robinvale \nSessions are held during Victorian school terms.
URL:https://earlyyearsonlinehub.org.au/event/jump-and-jive-playgroup-robinvale-2/2030-10-11/
LOCATION:Robinvale Leisure Centre\, 75 Latje Road\, ROBINVALE\, VIC\, 3549\, Australia
CATEGORIES:Weekly Programs
ATTACH;FMTTYPE=image/png:https://earlyyearsonlinehub.org.au/wp-content/uploads/2025/06/Ni1t49YYi3mjyu9hd8HoPD.png
END:VEVENT
BEGIN:VEVENT
DTSTART;TZID=Australia/Melbourne:20301018T100000
DTEND;TZID=Australia/Melbourne:20301018T113000
DTSTAMP:20260425T015003
CREATED:20260305T023352Z
LAST-MODIFIED:20260305T023352Z
UID:10009082-1918548000-1918553400@earlyyearsonlinehub.org.au
SUMMARY:Jump and Jive Playgroup Robinvale
DESCRIPTION:Playgroups are informal sessions where mums\, dads\, grandparents\, caregivers\, children and babies meet together in a relaxed environment. \nAll children from 0 to 5 years\, including babies\, love new experiences and benefit from developing sensory\, social and communication skills through activities at playgroup. \nJump and Jive Playgroup from 10am until 11:30am Fridays at the Robinvale Leisure Centre 75 Latje Rd\, Robinvale \nSessions are held during Victorian school terms.
URL:https://earlyyearsonlinehub.org.au/event/jump-and-jive-playgroup-robinvale-2/2030-10-18/
LOCATION:Robinvale Leisure Centre\, 75 Latje Road\, ROBINVALE\, VIC\, 3549\, Australia
CATEGORIES:Weekly Programs
ATTACH;FMTTYPE=image/png:https://earlyyearsonlinehub.org.au/wp-content/uploads/2025/06/Ni1t49YYi3mjyu9hd8HoPD.png
END:VEVENT
BEGIN:VEVENT
DTSTART;TZID=Australia/Melbourne:20301025T100000
DTEND;TZID=Australia/Melbourne:20301025T113000
DTSTAMP:20260425T015003
CREATED:20260305T023352Z
LAST-MODIFIED:20260305T023352Z
UID:10009083-1919152800-1919158200@earlyyearsonlinehub.org.au
SUMMARY:Jump and Jive Playgroup Robinvale
DESCRIPTION:Playgroups are informal sessions where mums\, dads\, grandparents\, caregivers\, children and babies meet together in a relaxed environment. \nAll children from 0 to 5 years\, including babies\, love new experiences and benefit from developing sensory\, social and communication skills through activities at playgroup. \nJump and Jive Playgroup from 10am until 11:30am Fridays at the Robinvale Leisure Centre 75 Latje Rd\, Robinvale \nSessions are held during Victorian school terms.
URL:https://earlyyearsonlinehub.org.au/event/jump-and-jive-playgroup-robinvale-2/2030-10-25/
LOCATION:Robinvale Leisure Centre\, 75 Latje Road\, ROBINVALE\, VIC\, 3549\, Australia
CATEGORIES:Weekly Programs
ATTACH;FMTTYPE=image/png:https://earlyyearsonlinehub.org.au/wp-content/uploads/2025/06/Ni1t49YYi3mjyu9hd8HoPD.png
END:VEVENT
BEGIN:VEVENT
DTSTART;TZID=Australia/Melbourne:20301101T100000
DTEND;TZID=Australia/Melbourne:20301101T113000
DTSTAMP:20260425T015003
CREATED:20260305T023352Z
LAST-MODIFIED:20260305T023352Z
UID:10009084-1919757600-1919763000@earlyyearsonlinehub.org.au
SUMMARY:Jump and Jive Playgroup Robinvale
DESCRIPTION:Playgroups are informal sessions where mums\, dads\, grandparents\, caregivers\, children and babies meet together in a relaxed environment. \nAll children from 0 to 5 years\, including babies\, love new experiences and benefit from developing sensory\, social and communication skills through activities at playgroup. \nJump and Jive Playgroup from 10am until 11:30am Fridays at the Robinvale Leisure Centre 75 Latje Rd\, Robinvale \nSessions are held during Victorian school terms.
URL:https://earlyyearsonlinehub.org.au/event/jump-and-jive-playgroup-robinvale-2/2030-11-01/
LOCATION:Robinvale Leisure Centre\, 75 Latje Road\, ROBINVALE\, VIC\, 3549\, Australia
CATEGORIES:Weekly Programs
ATTACH;FMTTYPE=image/png:https://earlyyearsonlinehub.org.au/wp-content/uploads/2025/06/Ni1t49YYi3mjyu9hd8HoPD.png
END:VEVENT
BEGIN:VEVENT
DTSTART;TZID=Australia/Melbourne:20301108T100000
DTEND;TZID=Australia/Melbourne:20301108T113000
DTSTAMP:20260425T015003
CREATED:20260305T023352Z
LAST-MODIFIED:20260305T023352Z
UID:10009085-1920362400-1920367800@earlyyearsonlinehub.org.au
SUMMARY:Jump and Jive Playgroup Robinvale
DESCRIPTION:Playgroups are informal sessions where mums\, dads\, grandparents\, caregivers\, children and babies meet together in a relaxed environment. \nAll children from 0 to 5 years\, including babies\, love new experiences and benefit from developing sensory\, social and communication skills through activities at playgroup. \nJump and Jive Playgroup from 10am until 11:30am Fridays at the Robinvale Leisure Centre 75 Latje Rd\, Robinvale \nSessions are held during Victorian school terms.
URL:https://earlyyearsonlinehub.org.au/event/jump-and-jive-playgroup-robinvale-2/2030-11-08/
LOCATION:Robinvale Leisure Centre\, 75 Latje Road\, ROBINVALE\, VIC\, 3549\, Australia
CATEGORIES:Weekly Programs
ATTACH;FMTTYPE=image/png:https://earlyyearsonlinehub.org.au/wp-content/uploads/2025/06/Ni1t49YYi3mjyu9hd8HoPD.png
END:VEVENT
BEGIN:VEVENT
DTSTART;TZID=Australia/Melbourne:20301115T100000
DTEND;TZID=Australia/Melbourne:20301115T113000
DTSTAMP:20260425T015003
CREATED:20260305T023352Z
LAST-MODIFIED:20260305T023352Z
UID:10009086-1920967200-1920972600@earlyyearsonlinehub.org.au
SUMMARY:Jump and Jive Playgroup Robinvale
DESCRIPTION:Playgroups are informal sessions where mums\, dads\, grandparents\, caregivers\, children and babies meet together in a relaxed environment. \nAll children from 0 to 5 years\, including babies\, love new experiences and benefit from developing sensory\, social and communication skills through activities at playgroup. \nJump and Jive Playgroup from 10am until 11:30am Fridays at the Robinvale Leisure Centre 75 Latje Rd\, Robinvale \nSessions are held during Victorian school terms.
URL:https://earlyyearsonlinehub.org.au/event/jump-and-jive-playgroup-robinvale-2/2030-11-15/
LOCATION:Robinvale Leisure Centre\, 75 Latje Road\, ROBINVALE\, VIC\, 3549\, Australia
CATEGORIES:Weekly Programs
ATTACH;FMTTYPE=image/png:https://earlyyearsonlinehub.org.au/wp-content/uploads/2025/06/Ni1t49YYi3mjyu9hd8HoPD.png
END:VEVENT
BEGIN:VEVENT
DTSTART;TZID=Australia/Melbourne:20301122T100000
DTEND;TZID=Australia/Melbourne:20301122T113000
DTSTAMP:20260425T015003
CREATED:20260305T023352Z
LAST-MODIFIED:20260305T023352Z
UID:10009087-1921572000-1921577400@earlyyearsonlinehub.org.au
SUMMARY:Jump and Jive Playgroup Robinvale
DESCRIPTION:Playgroups are informal sessions where mums\, dads\, grandparents\, caregivers\, children and babies meet together in a relaxed environment. \nAll children from 0 to 5 years\, including babies\, love new experiences and benefit from developing sensory\, social and communication skills through activities at playgroup. \nJump and Jive Playgroup from 10am until 11:30am Fridays at the Robinvale Leisure Centre 75 Latje Rd\, Robinvale \nSessions are held during Victorian school terms.
URL:https://earlyyearsonlinehub.org.au/event/jump-and-jive-playgroup-robinvale-2/2030-11-22/
LOCATION:Robinvale Leisure Centre\, 75 Latje Road\, ROBINVALE\, VIC\, 3549\, Australia
CATEGORIES:Weekly Programs
ATTACH;FMTTYPE=image/png:https://earlyyearsonlinehub.org.au/wp-content/uploads/2025/06/Ni1t49YYi3mjyu9hd8HoPD.png
END:VEVENT
BEGIN:VEVENT
DTSTART;TZID=Australia/Melbourne:20301129T100000
DTEND;TZID=Australia/Melbourne:20301129T113000
DTSTAMP:20260425T015003
CREATED:20260305T023352Z
LAST-MODIFIED:20260305T023352Z
UID:10009088-1922176800-1922182200@earlyyearsonlinehub.org.au
SUMMARY:Jump and Jive Playgroup Robinvale
DESCRIPTION:Playgroups are informal sessions where mums\, dads\, grandparents\, caregivers\, children and babies meet together in a relaxed environment. \nAll children from 0 to 5 years\, including babies\, love new experiences and benefit from developing sensory\, social and communication skills through activities at playgroup. \nJump and Jive Playgroup from 10am until 11:30am Fridays at the Robinvale Leisure Centre 75 Latje Rd\, Robinvale \nSessions are held during Victorian school terms.
URL:https://earlyyearsonlinehub.org.au/event/jump-and-jive-playgroup-robinvale-2/2030-11-29/
LOCATION:Robinvale Leisure Centre\, 75 Latje Road\, ROBINVALE\, VIC\, 3549\, Australia
CATEGORIES:Weekly Programs
ATTACH;FMTTYPE=image/png:https://earlyyearsonlinehub.org.au/wp-content/uploads/2025/06/Ni1t49YYi3mjyu9hd8HoPD.png
END:VEVENT
BEGIN:VEVENT
DTSTART;TZID=Australia/Melbourne:20301206T100000
DTEND;TZID=Australia/Melbourne:20301206T113000
DTSTAMP:20260425T015003
CREATED:20260305T023352Z
LAST-MODIFIED:20260305T023352Z
UID:10009089-1922781600-1922787000@earlyyearsonlinehub.org.au
SUMMARY:Jump and Jive Playgroup Robinvale
DESCRIPTION:Playgroups are informal sessions where mums\, dads\, grandparents\, caregivers\, children and babies meet together in a relaxed environment. \nAll children from 0 to 5 years\, including babies\, love new experiences and benefit from developing sensory\, social and communication skills through activities at playgroup. \nJump and Jive Playgroup from 10am until 11:30am Fridays at the Robinvale Leisure Centre 75 Latje Rd\, Robinvale \nSessions are held during Victorian school terms.
URL:https://earlyyearsonlinehub.org.au/event/jump-and-jive-playgroup-robinvale-2/2030-12-06/
LOCATION:Robinvale Leisure Centre\, 75 Latje Road\, ROBINVALE\, VIC\, 3549\, Australia
CATEGORIES:Weekly Programs
ATTACH;FMTTYPE=image/png:https://earlyyearsonlinehub.org.au/wp-content/uploads/2025/06/Ni1t49YYi3mjyu9hd8HoPD.png
END:VEVENT
BEGIN:VEVENT
DTSTART;TZID=Australia/Melbourne:20301213T100000
DTEND;TZID=Australia/Melbourne:20301213T113000
DTSTAMP:20260425T015003
CREATED:20260305T023352Z
LAST-MODIFIED:20260305T023352Z
UID:10009090-1923386400-1923391800@earlyyearsonlinehub.org.au
SUMMARY:Jump and Jive Playgroup Robinvale
DESCRIPTION:Playgroups are informal sessions where mums\, dads\, grandparents\, caregivers\, children and babies meet together in a relaxed environment. \nAll children from 0 to 5 years\, including babies\, love new experiences and benefit from developing sensory\, social and communication skills through activities at playgroup. \nJump and Jive Playgroup from 10am until 11:30am Fridays at the Robinvale Leisure Centre 75 Latje Rd\, Robinvale \nSessions are held during Victorian school terms.
URL:https://earlyyearsonlinehub.org.au/event/jump-and-jive-playgroup-robinvale-2/2030-12-13/
LOCATION:Robinvale Leisure Centre\, 75 Latje Road\, ROBINVALE\, VIC\, 3549\, Australia
CATEGORIES:Weekly Programs
ATTACH;FMTTYPE=image/png:https://earlyyearsonlinehub.org.au/wp-content/uploads/2025/06/Ni1t49YYi3mjyu9hd8HoPD.png
END:VEVENT
BEGIN:VEVENT
DTSTART;TZID=Australia/Melbourne:20301220T100000
DTEND;TZID=Australia/Melbourne:20301220T113000
DTSTAMP:20260425T015003
CREATED:20260305T023352Z
LAST-MODIFIED:20260305T023352Z
UID:10009091-1923991200-1923996600@earlyyearsonlinehub.org.au
SUMMARY:Jump and Jive Playgroup Robinvale
DESCRIPTION:Playgroups are informal sessions where mums\, dads\, grandparents\, caregivers\, children and babies meet together in a relaxed environment. \nAll children from 0 to 5 years\, including babies\, love new experiences and benefit from developing sensory\, social and communication skills through activities at playgroup. \nJump and Jive Playgroup from 10am until 11:30am Fridays at the Robinvale Leisure Centre 75 Latje Rd\, Robinvale \nSessions are held during Victorian school terms.
URL:https://earlyyearsonlinehub.org.au/event/jump-and-jive-playgroup-robinvale-2/2030-12-20/
LOCATION:Robinvale Leisure Centre\, 75 Latje Road\, ROBINVALE\, VIC\, 3549\, Australia
CATEGORIES:Weekly Programs
ATTACH;FMTTYPE=image/png:https://earlyyearsonlinehub.org.au/wp-content/uploads/2025/06/Ni1t49YYi3mjyu9hd8HoPD.png
END:VEVENT
BEGIN:VEVENT
DTSTART;TZID=Australia/Melbourne:20301227T100000
DTEND;TZID=Australia/Melbourne:20301227T113000
DTSTAMP:20260425T015003
CREATED:20260305T023352Z
LAST-MODIFIED:20260305T023352Z
UID:10009092-1924596000-1924601400@earlyyearsonlinehub.org.au
SUMMARY:Jump and Jive Playgroup Robinvale
DESCRIPTION:Playgroups are informal sessions where mums\, dads\, grandparents\, caregivers\, children and babies meet together in a relaxed environment. \nAll children from 0 to 5 years\, including babies\, love new experiences and benefit from developing sensory\, social and communication skills through activities at playgroup. \nJump and Jive Playgroup from 10am until 11:30am Fridays at the Robinvale Leisure Centre 75 Latje Rd\, Robinvale \nSessions are held during Victorian school terms.
URL:https://earlyyearsonlinehub.org.au/event/jump-and-jive-playgroup-robinvale-2/2030-12-27/
LOCATION:Robinvale Leisure Centre\, 75 Latje Road\, ROBINVALE\, VIC\, 3549\, Australia
CATEGORIES:Weekly Programs
ATTACH;FMTTYPE=image/png:https://earlyyearsonlinehub.org.au/wp-content/uploads/2025/06/Ni1t49YYi3mjyu9hd8HoPD.png
END:VEVENT
BEGIN:VEVENT
DTSTART;TZID=Australia/Melbourne:20310103T100000
DTEND;TZID=Australia/Melbourne:20310103T113000
DTSTAMP:20260425T015003
CREATED:20260305T023352Z
LAST-MODIFIED:20260305T023352Z
UID:10009093-1925200800-1925206200@earlyyearsonlinehub.org.au
SUMMARY:Jump and Jive Playgroup Robinvale
DESCRIPTION:Playgroups are informal sessions where mums\, dads\, grandparents\, caregivers\, children and babies meet together in a relaxed environment. \nAll children from 0 to 5 years\, including babies\, love new experiences and benefit from developing sensory\, social and communication skills through activities at playgroup. \nJump and Jive Playgroup from 10am until 11:30am Fridays at the Robinvale Leisure Centre 75 Latje Rd\, Robinvale \nSessions are held during Victorian school terms.
URL:https://earlyyearsonlinehub.org.au/event/jump-and-jive-playgroup-robinvale-2/2031-01-03/
LOCATION:Robinvale Leisure Centre\, 75 Latje Road\, ROBINVALE\, VIC\, 3549\, Australia
CATEGORIES:Weekly Programs
ATTACH;FMTTYPE=image/png:https://earlyyearsonlinehub.org.au/wp-content/uploads/2025/06/Ni1t49YYi3mjyu9hd8HoPD.png
END:VEVENT
BEGIN:VEVENT
DTSTART;TZID=Australia/Melbourne:20310110T100000
DTEND;TZID=Australia/Melbourne:20310110T113000
DTSTAMP:20260425T015003
CREATED:20260305T023352Z
LAST-MODIFIED:20260305T023352Z
UID:10009094-1925805600-1925811000@earlyyearsonlinehub.org.au
SUMMARY:Jump and Jive Playgroup Robinvale
DESCRIPTION:Playgroups are informal sessions where mums\, dads\, grandparents\, caregivers\, children and babies meet together in a relaxed environment. \nAll children from 0 to 5 years\, including babies\, love new experiences and benefit from developing sensory\, social and communication skills through activities at playgroup. \nJump and Jive Playgroup from 10am until 11:30am Fridays at the Robinvale Leisure Centre 75 Latje Rd\, Robinvale \nSessions are held during Victorian school terms.
URL:https://earlyyearsonlinehub.org.au/event/jump-and-jive-playgroup-robinvale-2/2031-01-10/
LOCATION:Robinvale Leisure Centre\, 75 Latje Road\, ROBINVALE\, VIC\, 3549\, Australia
CATEGORIES:Weekly Programs
ATTACH;FMTTYPE=image/png:https://earlyyearsonlinehub.org.au/wp-content/uploads/2025/06/Ni1t49YYi3mjyu9hd8HoPD.png
END:VEVENT
BEGIN:VEVENT
DTSTART;TZID=Australia/Melbourne:20310117T100000
DTEND;TZID=Australia/Melbourne:20310117T113000
DTSTAMP:20260425T015003
CREATED:20260305T023352Z
LAST-MODIFIED:20260305T023352Z
UID:10009095-1926410400-1926415800@earlyyearsonlinehub.org.au
SUMMARY:Jump and Jive Playgroup Robinvale
DESCRIPTION:Playgroups are informal sessions where mums\, dads\, grandparents\, caregivers\, children and babies meet together in a relaxed environment. \nAll children from 0 to 5 years\, including babies\, love new experiences and benefit from developing sensory\, social and communication skills through activities at playgroup. \nJump and Jive Playgroup from 10am until 11:30am Fridays at the Robinvale Leisure Centre 75 Latje Rd\, Robinvale \nSessions are held during Victorian school terms.
URL:https://earlyyearsonlinehub.org.au/event/jump-and-jive-playgroup-robinvale-2/2031-01-17/
LOCATION:Robinvale Leisure Centre\, 75 Latje Road\, ROBINVALE\, VIC\, 3549\, Australia
CATEGORIES:Weekly Programs
ATTACH;FMTTYPE=image/png:https://earlyyearsonlinehub.org.au/wp-content/uploads/2025/06/Ni1t49YYi3mjyu9hd8HoPD.png
END:VEVENT
BEGIN:VEVENT
DTSTART;TZID=Australia/Melbourne:20310124T100000
DTEND;TZID=Australia/Melbourne:20310124T113000
DTSTAMP:20260425T015003
CREATED:20260305T023352Z
LAST-MODIFIED:20260305T023352Z
UID:10009096-1927015200-1927020600@earlyyearsonlinehub.org.au
SUMMARY:Jump and Jive Playgroup Robinvale
DESCRIPTION:Playgroups are informal sessions where mums\, dads\, grandparents\, caregivers\, children and babies meet together in a relaxed environment. \nAll children from 0 to 5 years\, including babies\, love new experiences and benefit from developing sensory\, social and communication skills through activities at playgroup. \nJump and Jive Playgroup from 10am until 11:30am Fridays at the Robinvale Leisure Centre 75 Latje Rd\, Robinvale \nSessions are held during Victorian school terms.
URL:https://earlyyearsonlinehub.org.au/event/jump-and-jive-playgroup-robinvale-2/2031-01-24/
LOCATION:Robinvale Leisure Centre\, 75 Latje Road\, ROBINVALE\, VIC\, 3549\, Australia
CATEGORIES:Weekly Programs
ATTACH;FMTTYPE=image/png:https://earlyyearsonlinehub.org.au/wp-content/uploads/2025/06/Ni1t49YYi3mjyu9hd8HoPD.png
END:VEVENT
BEGIN:VEVENT
DTSTART;TZID=Australia/Melbourne:20310131T100000
DTEND;TZID=Australia/Melbourne:20310131T113000
DTSTAMP:20260425T015003
CREATED:20260305T023352Z
LAST-MODIFIED:20260305T023352Z
UID:10009097-1927620000-1927625400@earlyyearsonlinehub.org.au
SUMMARY:Jump and Jive Playgroup Robinvale
DESCRIPTION:Playgroups are informal sessions where mums\, dads\, grandparents\, caregivers\, children and babies meet together in a relaxed environment. \nAll children from 0 to 5 years\, including babies\, love new experiences and benefit from developing sensory\, social and communication skills through activities at playgroup. \nJump and Jive Playgroup from 10am until 11:30am Fridays at the Robinvale Leisure Centre 75 Latje Rd\, Robinvale \nSessions are held during Victorian school terms.
URL:https://earlyyearsonlinehub.org.au/event/jump-and-jive-playgroup-robinvale-2/2031-01-31/
LOCATION:Robinvale Leisure Centre\, 75 Latje Road\, ROBINVALE\, VIC\, 3549\, Australia
CATEGORIES:Weekly Programs
ATTACH;FMTTYPE=image/png:https://earlyyearsonlinehub.org.au/wp-content/uploads/2025/06/Ni1t49YYi3mjyu9hd8HoPD.png
END:VEVENT
BEGIN:VEVENT
DTSTART;TZID=Australia/Melbourne:20310207T100000
DTEND;TZID=Australia/Melbourne:20310207T113000
DTSTAMP:20260425T015003
CREATED:20260305T023352Z
LAST-MODIFIED:20260305T023352Z
UID:10009098-1928224800-1928230200@earlyyearsonlinehub.org.au
SUMMARY:Jump and Jive Playgroup Robinvale
DESCRIPTION:Playgroups are informal sessions where mums\, dads\, grandparents\, caregivers\, children and babies meet together in a relaxed environment. \nAll children from 0 to 5 years\, including babies\, love new experiences and benefit from developing sensory\, social and communication skills through activities at playgroup. \nJump and Jive Playgroup from 10am until 11:30am Fridays at the Robinvale Leisure Centre 75 Latje Rd\, Robinvale \nSessions are held during Victorian school terms.
URL:https://earlyyearsonlinehub.org.au/event/jump-and-jive-playgroup-robinvale-2/2031-02-07/
LOCATION:Robinvale Leisure Centre\, 75 Latje Road\, ROBINVALE\, VIC\, 3549\, Australia
CATEGORIES:Weekly Programs
ATTACH;FMTTYPE=image/png:https://earlyyearsonlinehub.org.au/wp-content/uploads/2025/06/Ni1t49YYi3mjyu9hd8HoPD.png
END:VEVENT
BEGIN:VEVENT
DTSTART;TZID=Australia/Melbourne:20310214T100000
DTEND;TZID=Australia/Melbourne:20310214T113000
DTSTAMP:20260425T015003
CREATED:20260305T023352Z
LAST-MODIFIED:20260305T023352Z
UID:10009099-1928829600-1928835000@earlyyearsonlinehub.org.au
SUMMARY:Jump and Jive Playgroup Robinvale
DESCRIPTION:Playgroups are informal sessions where mums\, dads\, grandparents\, caregivers\, children and babies meet together in a relaxed environment. \nAll children from 0 to 5 years\, including babies\, love new experiences and benefit from developing sensory\, social and communication skills through activities at playgroup. \nJump and Jive Playgroup from 10am until 11:30am Fridays at the Robinvale Leisure Centre 75 Latje Rd\, Robinvale \nSessions are held during Victorian school terms.
URL:https://earlyyearsonlinehub.org.au/event/jump-and-jive-playgroup-robinvale-2/2031-02-14/
LOCATION:Robinvale Leisure Centre\, 75 Latje Road\, ROBINVALE\, VIC\, 3549\, Australia
CATEGORIES:Weekly Programs
ATTACH;FMTTYPE=image/png:https://earlyyearsonlinehub.org.au/wp-content/uploads/2025/06/Ni1t49YYi3mjyu9hd8HoPD.png
END:VEVENT
BEGIN:VEVENT
DTSTART;TZID=Australia/Melbourne:20310221T100000
DTEND;TZID=Australia/Melbourne:20310221T113000
DTSTAMP:20260425T015003
CREATED:20260305T023352Z
LAST-MODIFIED:20260305T023352Z
UID:10009100-1929434400-1929439800@earlyyearsonlinehub.org.au
SUMMARY:Jump and Jive Playgroup Robinvale
DESCRIPTION:Playgroups are informal sessions where mums\, dads\, grandparents\, caregivers\, children and babies meet together in a relaxed environment. \nAll children from 0 to 5 years\, including babies\, love new experiences and benefit from developing sensory\, social and communication skills through activities at playgroup. \nJump and Jive Playgroup from 10am until 11:30am Fridays at the Robinvale Leisure Centre 75 Latje Rd\, Robinvale \nSessions are held during Victorian school terms.
URL:https://earlyyearsonlinehub.org.au/event/jump-and-jive-playgroup-robinvale-2/2031-02-21/
LOCATION:Robinvale Leisure Centre\, 75 Latje Road\, ROBINVALE\, VIC\, 3549\, Australia
CATEGORIES:Weekly Programs
ATTACH;FMTTYPE=image/png:https://earlyyearsonlinehub.org.au/wp-content/uploads/2025/06/Ni1t49YYi3mjyu9hd8HoPD.png
END:VEVENT
BEGIN:VEVENT
DTSTART;TZID=Australia/Melbourne:20310228T100000
DTEND;TZID=Australia/Melbourne:20310228T113000
DTSTAMP:20260425T015003
CREATED:20260305T023352Z
LAST-MODIFIED:20260305T023352Z
UID:10009101-1930039200-1930044600@earlyyearsonlinehub.org.au
SUMMARY:Jump and Jive Playgroup Robinvale
DESCRIPTION:Playgroups are informal sessions where mums\, dads\, grandparents\, caregivers\, children and babies meet together in a relaxed environment. \nAll children from 0 to 5 years\, including babies\, love new experiences and benefit from developing sensory\, social and communication skills through activities at playgroup. \nJump and Jive Playgroup from 10am until 11:30am Fridays at the Robinvale Leisure Centre 75 Latje Rd\, Robinvale \nSessions are held during Victorian school terms.
URL:https://earlyyearsonlinehub.org.au/event/jump-and-jive-playgroup-robinvale-2/2031-02-28/
LOCATION:Robinvale Leisure Centre\, 75 Latje Road\, ROBINVALE\, VIC\, 3549\, Australia
CATEGORIES:Weekly Programs
ATTACH;FMTTYPE=image/png:https://earlyyearsonlinehub.org.au/wp-content/uploads/2025/06/Ni1t49YYi3mjyu9hd8HoPD.png
END:VEVENT
END:VCALENDAR