BEGIN:VCALENDAR
VERSION:2.0
PRODID:-//Early Years Online Hub - ECPv6.15.20//NONSGML v1.0//EN
CALSCALE:GREGORIAN
METHOD:PUBLISH
X-WR-CALNAME:Early Years Online Hub
X-ORIGINAL-URL:https://earlyyearsonlinehub.org.au
X-WR-CALDESC:Events for Early Years Online Hub
REFRESH-INTERVAL;VALUE=DURATION:PT1H
X-Robots-Tag:noindex
X-PUBLISHED-TTL:PT1H
BEGIN:VTIMEZONE
TZID:Australia/Melbourne
BEGIN:STANDARD
TZOFFSETFROM:+1100
TZOFFSETTO:+1000
TZNAME:AEST
DTSTART:20240406T160000
END:STANDARD
BEGIN:DAYLIGHT
TZOFFSETFROM:+1000
TZOFFSETTO:+1100
TZNAME:AEDT
DTSTART:20241005T160000
END:DAYLIGHT
BEGIN:STANDARD
TZOFFSETFROM:+1100
TZOFFSETTO:+1000
TZNAME:AEST
DTSTART:20250405T160000
END:STANDARD
BEGIN:DAYLIGHT
TZOFFSETFROM:+1000
TZOFFSETTO:+1100
TZNAME:AEDT
DTSTART:20251004T160000
END:DAYLIGHT
BEGIN:STANDARD
TZOFFSETFROM:+1100
TZOFFSETTO:+1000
TZNAME:AEST
DTSTART:20260404T160000
END:STANDARD
BEGIN:DAYLIGHT
TZOFFSETFROM:+1000
TZOFFSETTO:+1100
TZNAME:AEDT
DTSTART:20261003T160000
END:DAYLIGHT
END:VTIMEZONE
BEGIN:VEVENT
DTSTART;TZID=Australia/Melbourne:20250820T100000
DTEND;TZID=Australia/Melbourne:20250820T113000
DTSTAMP:20260424T065558
CREATED:20250717T231420Z
LAST-MODIFIED:20250924T030130Z
UID:10001842-1755684000-1755689400@earlyyearsonlinehub.org.au
SUMMARY:Play n Learn Playgroup - Robinvale
DESCRIPTION:Playgroups are informal sessions where mums\, dads\, grandparents\, caregivers\, children and babies meet together in a relaxed environment. \nAll children from 0 to 5 years\, including babies\, love new experiences and benefit from developing sensory\, social and communication skills through activities at playgroup. \nPlay n Learn Playgroup from 10am until 11:30am Wednesdays at the Robinvale Hall 13 Watkin Street Robinvale \nSessions are held during Victorian school terms.
URL:https://earlyyearsonlinehub.org.au/event/play-n-learn-playgroup-robinvale/2025-08-20/
LOCATION:RDHS Early Years Hall\, 13 Watkin Street\, Robinvale\, Victoria\, 3549\, Australia
CATEGORIES:Weekly Programs
ATTACH;FMTTYPE=image/png:https://earlyyearsonlinehub.org.au/wp-content/uploads/2025/06/Ni1t49YYi3mjyu9hd8HoPD.png
END:VEVENT
BEGIN:VEVENT
DTSTART;TZID=Australia/Melbourne:20250814T095000
DTEND;TZID=Australia/Melbourne:20250814T095000
DTSTAMP:20260424T065558
CREATED:20250625T034908Z
LAST-MODIFIED:20250924T035815Z
UID:10004623-1755165000-1755165000@earlyyearsonlinehub.org.au
SUMMARY:Poly Play Playgroup Robinvale (0-5 years)
DESCRIPTION:Playgroups are informal sessions where mums\, dads\, grandparents\, caregivers\, children and babies meet together in a relaxed environment. \nAll children from 0 to 5 years\, including babies\, love new experiences and benefit from developing sensory\, social and communication skills through activities at playgroup. \nPoly Play Playgroup from 10am until 11:30am Thursdays at the Robinvale Hall 13 Watkin Street Robinvale \nSessions are held during Victorian school terms.
URL:https://earlyyearsonlinehub.org.au/event/poly-play-robinvale/2025-08-14/
LOCATION:RDHS Early Years Hall\, 13 Watkin Street\, Robinvale\, Victoria\, 3549\, Australia
CATEGORIES:Weekly Programs
ATTACH;FMTTYPE=image/png:https://earlyyearsonlinehub.org.au/wp-content/uploads/2025/06/Ni1t49YYi3mjyu9hd8HoPD.png
END:VEVENT
BEGIN:VEVENT
DTSTART;TZID=Australia/Melbourne:20250813T100000
DTEND;TZID=Australia/Melbourne:20250813T113000
DTSTAMP:20260424T065558
CREATED:20250717T231420Z
LAST-MODIFIED:20250924T030130Z
UID:10001841-1755079200-1755084600@earlyyearsonlinehub.org.au
SUMMARY:Play n Learn Playgroup - Robinvale
DESCRIPTION:Playgroups are informal sessions where mums\, dads\, grandparents\, caregivers\, children and babies meet together in a relaxed environment. \nAll children from 0 to 5 years\, including babies\, love new experiences and benefit from developing sensory\, social and communication skills through activities at playgroup. \nPlay n Learn Playgroup from 10am until 11:30am Wednesdays at the Robinvale Hall 13 Watkin Street Robinvale \nSessions are held during Victorian school terms.
URL:https://earlyyearsonlinehub.org.au/event/play-n-learn-playgroup-robinvale/2025-08-13/
LOCATION:RDHS Early Years Hall\, 13 Watkin Street\, Robinvale\, Victoria\, 3549\, Australia
CATEGORIES:Weekly Programs
ATTACH;FMTTYPE=image/png:https://earlyyearsonlinehub.org.au/wp-content/uploads/2025/06/Ni1t49YYi3mjyu9hd8HoPD.png
END:VEVENT
BEGIN:VEVENT
DTSTART;TZID=Australia/Melbourne:20250807T095000
DTEND;TZID=Australia/Melbourne:20250807T095000
DTSTAMP:20260424T065558
CREATED:20250625T034908Z
LAST-MODIFIED:20250924T035815Z
UID:10004622-1754560200-1754560200@earlyyearsonlinehub.org.au
SUMMARY:Poly Play Playgroup Robinvale (0-5 years)
DESCRIPTION:Playgroups are informal sessions where mums\, dads\, grandparents\, caregivers\, children and babies meet together in a relaxed environment. \nAll children from 0 to 5 years\, including babies\, love new experiences and benefit from developing sensory\, social and communication skills through activities at playgroup. \nPoly Play Playgroup from 10am until 11:30am Thursdays at the Robinvale Hall 13 Watkin Street Robinvale \nSessions are held during Victorian school terms.
URL:https://earlyyearsonlinehub.org.au/event/poly-play-robinvale/2025-08-07/
LOCATION:RDHS Early Years Hall\, 13 Watkin Street\, Robinvale\, Victoria\, 3549\, Australia
CATEGORIES:Weekly Programs
ATTACH;FMTTYPE=image/png:https://earlyyearsonlinehub.org.au/wp-content/uploads/2025/06/Ni1t49YYi3mjyu9hd8HoPD.png
END:VEVENT
BEGIN:VEVENT
DTSTART;TZID=Australia/Melbourne:20250806T100000
DTEND;TZID=Australia/Melbourne:20250806T113000
DTSTAMP:20260424T065558
CREATED:20250717T231420Z
LAST-MODIFIED:20250924T030130Z
UID:10001840-1754474400-1754479800@earlyyearsonlinehub.org.au
SUMMARY:Play n Learn Playgroup - Robinvale
DESCRIPTION:Playgroups are informal sessions where mums\, dads\, grandparents\, caregivers\, children and babies meet together in a relaxed environment. \nAll children from 0 to 5 years\, including babies\, love new experiences and benefit from developing sensory\, social and communication skills through activities at playgroup. \nPlay n Learn Playgroup from 10am until 11:30am Wednesdays at the Robinvale Hall 13 Watkin Street Robinvale \nSessions are held during Victorian school terms.
URL:https://earlyyearsonlinehub.org.au/event/play-n-learn-playgroup-robinvale/2025-08-06/
LOCATION:RDHS Early Years Hall\, 13 Watkin Street\, Robinvale\, Victoria\, 3549\, Australia
CATEGORIES:Weekly Programs
ATTACH;FMTTYPE=image/png:https://earlyyearsonlinehub.org.au/wp-content/uploads/2025/06/Ni1t49YYi3mjyu9hd8HoPD.png
END:VEVENT
BEGIN:VEVENT
DTSTART;TZID=Australia/Melbourne:20250731T095000
DTEND;TZID=Australia/Melbourne:20250731T095000
DTSTAMP:20260424T065558
CREATED:20250625T034908Z
LAST-MODIFIED:20250924T035815Z
UID:10004621-1753955400-1753955400@earlyyearsonlinehub.org.au
SUMMARY:Poly Play Playgroup Robinvale (0-5 years)
DESCRIPTION:Playgroups are informal sessions where mums\, dads\, grandparents\, caregivers\, children and babies meet together in a relaxed environment. \nAll children from 0 to 5 years\, including babies\, love new experiences and benefit from developing sensory\, social and communication skills through activities at playgroup. \nPoly Play Playgroup from 10am until 11:30am Thursdays at the Robinvale Hall 13 Watkin Street Robinvale \nSessions are held during Victorian school terms.
URL:https://earlyyearsonlinehub.org.au/event/poly-play-robinvale/2025-07-31/
LOCATION:RDHS Early Years Hall\, 13 Watkin Street\, Robinvale\, Victoria\, 3549\, Australia
CATEGORIES:Weekly Programs
ATTACH;FMTTYPE=image/png:https://earlyyearsonlinehub.org.au/wp-content/uploads/2025/06/Ni1t49YYi3mjyu9hd8HoPD.png
END:VEVENT
BEGIN:VEVENT
DTSTART;TZID=Australia/Melbourne:20250730T100000
DTEND;TZID=Australia/Melbourne:20250730T113000
DTSTAMP:20260424T065558
CREATED:20250717T231420Z
LAST-MODIFIED:20250924T030130Z
UID:10001839-1753869600-1753875000@earlyyearsonlinehub.org.au
SUMMARY:Play n Learn Playgroup - Robinvale
DESCRIPTION:Playgroups are informal sessions where mums\, dads\, grandparents\, caregivers\, children and babies meet together in a relaxed environment. \nAll children from 0 to 5 years\, including babies\, love new experiences and benefit from developing sensory\, social and communication skills through activities at playgroup. \nPlay n Learn Playgroup from 10am until 11:30am Wednesdays at the Robinvale Hall 13 Watkin Street Robinvale \nSessions are held during Victorian school terms.
URL:https://earlyyearsonlinehub.org.au/event/play-n-learn-playgroup-robinvale/2025-07-30/
LOCATION:RDHS Early Years Hall\, 13 Watkin Street\, Robinvale\, Victoria\, 3549\, Australia
CATEGORIES:Weekly Programs
ATTACH;FMTTYPE=image/png:https://earlyyearsonlinehub.org.au/wp-content/uploads/2025/06/Ni1t49YYi3mjyu9hd8HoPD.png
END:VEVENT
BEGIN:VEVENT
DTSTART;TZID=Australia/Melbourne:20250724T095000
DTEND;TZID=Australia/Melbourne:20250724T095000
DTSTAMP:20260424T065558
CREATED:20250625T034908Z
LAST-MODIFIED:20250924T035815Z
UID:10004620-1753350600-1753350600@earlyyearsonlinehub.org.au
SUMMARY:Poly Play Playgroup Robinvale (0-5 years)
DESCRIPTION:Playgroups are informal sessions where mums\, dads\, grandparents\, caregivers\, children and babies meet together in a relaxed environment. \nAll children from 0 to 5 years\, including babies\, love new experiences and benefit from developing sensory\, social and communication skills through activities at playgroup. \nPoly Play Playgroup from 10am until 11:30am Thursdays at the Robinvale Hall 13 Watkin Street Robinvale \nSessions are held during Victorian school terms.
URL:https://earlyyearsonlinehub.org.au/event/poly-play-robinvale/2025-07-24/
LOCATION:RDHS Early Years Hall\, 13 Watkin Street\, Robinvale\, Victoria\, 3549\, Australia
CATEGORIES:Weekly Programs
ATTACH;FMTTYPE=image/png:https://earlyyearsonlinehub.org.au/wp-content/uploads/2025/06/Ni1t49YYi3mjyu9hd8HoPD.png
END:VEVENT
BEGIN:VEVENT
DTSTART;TZID=Australia/Melbourne:20250723T100000
DTEND;TZID=Australia/Melbourne:20250723T113000
DTSTAMP:20260424T065558
CREATED:20250717T231420Z
LAST-MODIFIED:20250924T030130Z
UID:10000024-1753264800-1753270200@earlyyearsonlinehub.org.au
SUMMARY:Play n Learn Playgroup - Robinvale
DESCRIPTION:Playgroups are informal sessions where mums\, dads\, grandparents\, caregivers\, children and babies meet together in a relaxed environment. \nAll children from 0 to 5 years\, including babies\, love new experiences and benefit from developing sensory\, social and communication skills through activities at playgroup. \nPlay n Learn Playgroup from 10am until 11:30am Wednesdays at the Robinvale Hall 13 Watkin Street Robinvale \nSessions are held during Victorian school terms.
URL:https://earlyyearsonlinehub.org.au/event/play-n-learn-playgroup-robinvale/2025-07-23/
LOCATION:RDHS Early Years Hall\, 13 Watkin Street\, Robinvale\, Victoria\, 3549\, Australia
CATEGORIES:Weekly Programs
ATTACH;FMTTYPE=image/png:https://earlyyearsonlinehub.org.au/wp-content/uploads/2025/06/Ni1t49YYi3mjyu9hd8HoPD.png
END:VEVENT
BEGIN:VEVENT
DTSTART;TZID=Australia/Melbourne:20250717T095000
DTEND;TZID=Australia/Melbourne:20250717T095000
DTSTAMP:20260424T065558
CREATED:20250625T034908Z
LAST-MODIFIED:20250924T035815Z
UID:10004619-1752745800-1752745800@earlyyearsonlinehub.org.au
SUMMARY:Poly Play Playgroup Robinvale (0-5 years)
DESCRIPTION:Playgroups are informal sessions where mums\, dads\, grandparents\, caregivers\, children and babies meet together in a relaxed environment. \nAll children from 0 to 5 years\, including babies\, love new experiences and benefit from developing sensory\, social and communication skills through activities at playgroup. \nPoly Play Playgroup from 10am until 11:30am Thursdays at the Robinvale Hall 13 Watkin Street Robinvale \nSessions are held during Victorian school terms.
URL:https://earlyyearsonlinehub.org.au/event/poly-play-robinvale/2025-07-17/
LOCATION:RDHS Early Years Hall\, 13 Watkin Street\, Robinvale\, Victoria\, 3549\, Australia
CATEGORIES:Weekly Programs
ATTACH;FMTTYPE=image/png:https://earlyyearsonlinehub.org.au/wp-content/uploads/2025/06/Ni1t49YYi3mjyu9hd8HoPD.png
END:VEVENT
END:VCALENDAR