BEGIN:VCALENDAR
VERSION:2.0
PRODID:-//Early Years Online Hub - ECPv6.15.20//NONSGML v1.0//EN
CALSCALE:GREGORIAN
METHOD:PUBLISH
X-WR-CALNAME:Early Years Online Hub
X-ORIGINAL-URL:https://earlyyearsonlinehub.org.au
X-WR-CALDESC:Events for Early Years Online Hub
REFRESH-INTERVAL;VALUE=DURATION:PT1H
X-Robots-Tag:noindex
X-PUBLISHED-TTL:PT1H
BEGIN:VTIMEZONE
TZID:Australia/Melbourne
BEGIN:STANDARD
TZOFFSETFROM:+1100
TZOFFSETTO:+1000
TZNAME:AEST
DTSTART:20240406T160000
END:STANDARD
BEGIN:DAYLIGHT
TZOFFSETFROM:+1000
TZOFFSETTO:+1100
TZNAME:AEDT
DTSTART:20241005T160000
END:DAYLIGHT
BEGIN:STANDARD
TZOFFSETFROM:+1100
TZOFFSETTO:+1000
TZNAME:AEST
DTSTART:20250405T160000
END:STANDARD
BEGIN:DAYLIGHT
TZOFFSETFROM:+1000
TZOFFSETTO:+1100
TZNAME:AEDT
DTSTART:20251004T160000
END:DAYLIGHT
BEGIN:STANDARD
TZOFFSETFROM:+1100
TZOFFSETTO:+1000
TZNAME:AEST
DTSTART:20260404T160000
END:STANDARD
BEGIN:DAYLIGHT
TZOFFSETFROM:+1000
TZOFFSETTO:+1100
TZNAME:AEDT
DTSTART:20261003T160000
END:DAYLIGHT
END:VTIMEZONE
BEGIN:VEVENT
DTSTART;TZID=Australia/Melbourne:20250908T110000
DTEND;TZID=Australia/Melbourne:20250908T120000
DTSTAMP:20260424T064510
CREATED:20250717T230117Z
LAST-MODIFIED:20251016T011929Z
UID:10003145-1757329200-1757332800@earlyyearsonlinehub.org.au
SUMMARY:Nyah West Smalltalk Supported Playgroup (0-5 years)
DESCRIPTION:Mallee Family Care’s Supported Playgroups and In Home Learning (IHL) sessions provide an opportunity for families to support children to play\, learn and prepare for kindergarten and school. Playgroups are also a great place to make friends. \nNyah West Smalltalk Supported Playgroup is held from 10am until 12pm\, each Monday at Nyah West Children’s Centre\, 13 Lloyd Street\, Nyah West. \nAll Mallee Family Care Supported Playgroups\, IHL and 1:1 Support sessions are FREE and facilitated by qualified staff who support families in their parenting/caring journey. \nSessions are held during Victorian school terms.
URL:https://earlyyearsonlinehub.org.au/event/smalltalk-plygroups-nyah-west-0-5-years/2025-09-08/
LOCATION:Nyah West Chilren’s Centre\, 31 Lloyd Street\, NYAH WEST\, VIC\, 3595\, Australia
CATEGORIES:Weekly Programs
ATTACH;FMTTYPE=image/png:https://earlyyearsonlinehub.org.au/wp-content/uploads/2025/06/mfc-playgroups.png
END:VEVENT
BEGIN:VEVENT
DTSTART;TZID=Australia/Melbourne:20250901T110000
DTEND;TZID=Australia/Melbourne:20250901T120000
DTSTAMP:20260424T064510
CREATED:20250717T230117Z
LAST-MODIFIED:20251016T011929Z
UID:10003144-1756724400-1756728000@earlyyearsonlinehub.org.au
SUMMARY:Nyah West Smalltalk Supported Playgroup (0-5 years)
DESCRIPTION:Mallee Family Care’s Supported Playgroups and In Home Learning (IHL) sessions provide an opportunity for families to support children to play\, learn and prepare for kindergarten and school. Playgroups are also a great place to make friends. \nNyah West Smalltalk Supported Playgroup is held from 10am until 12pm\, each Monday at Nyah West Children’s Centre\, 13 Lloyd Street\, Nyah West. \nAll Mallee Family Care Supported Playgroups\, IHL and 1:1 Support sessions are FREE and facilitated by qualified staff who support families in their parenting/caring journey. \nSessions are held during Victorian school terms.
URL:https://earlyyearsonlinehub.org.au/event/smalltalk-plygroups-nyah-west-0-5-years/2025-09-01/
LOCATION:Nyah West Chilren’s Centre\, 31 Lloyd Street\, NYAH WEST\, VIC\, 3595\, Australia
CATEGORIES:Weekly Programs
ATTACH;FMTTYPE=image/png:https://earlyyearsonlinehub.org.au/wp-content/uploads/2025/06/mfc-playgroups.png
END:VEVENT
BEGIN:VEVENT
DTSTART;TZID=Australia/Melbourne:20250825T110000
DTEND;TZID=Australia/Melbourne:20250825T120000
DTSTAMP:20260424T064510
CREATED:20250717T230117Z
LAST-MODIFIED:20251016T011929Z
UID:10003143-1756119600-1756123200@earlyyearsonlinehub.org.au
SUMMARY:Nyah West Smalltalk Supported Playgroup (0-5 years)
DESCRIPTION:Mallee Family Care’s Supported Playgroups and In Home Learning (IHL) sessions provide an opportunity for families to support children to play\, learn and prepare for kindergarten and school. Playgroups are also a great place to make friends. \nNyah West Smalltalk Supported Playgroup is held from 10am until 12pm\, each Monday at Nyah West Children’s Centre\, 13 Lloyd Street\, Nyah West. \nAll Mallee Family Care Supported Playgroups\, IHL and 1:1 Support sessions are FREE and facilitated by qualified staff who support families in their parenting/caring journey. \nSessions are held during Victorian school terms.
URL:https://earlyyearsonlinehub.org.au/event/smalltalk-plygroups-nyah-west-0-5-years/2025-08-25/
LOCATION:Nyah West Chilren’s Centre\, 31 Lloyd Street\, NYAH WEST\, VIC\, 3595\, Australia
CATEGORIES:Weekly Programs
ATTACH;FMTTYPE=image/png:https://earlyyearsonlinehub.org.au/wp-content/uploads/2025/06/mfc-playgroups.png
END:VEVENT
BEGIN:VEVENT
DTSTART;TZID=Australia/Melbourne:20250818T110000
DTEND;TZID=Australia/Melbourne:20250818T120000
DTSTAMP:20260424T064510
CREATED:20250717T230117Z
LAST-MODIFIED:20251016T011929Z
UID:10003142-1755514800-1755518400@earlyyearsonlinehub.org.au
SUMMARY:Nyah West Smalltalk Supported Playgroup (0-5 years)
DESCRIPTION:Mallee Family Care’s Supported Playgroups and In Home Learning (IHL) sessions provide an opportunity for families to support children to play\, learn and prepare for kindergarten and school. Playgroups are also a great place to make friends. \nNyah West Smalltalk Supported Playgroup is held from 10am until 12pm\, each Monday at Nyah West Children’s Centre\, 13 Lloyd Street\, Nyah West. \nAll Mallee Family Care Supported Playgroups\, IHL and 1:1 Support sessions are FREE and facilitated by qualified staff who support families in their parenting/caring journey. \nSessions are held during Victorian school terms.
URL:https://earlyyearsonlinehub.org.au/event/smalltalk-plygroups-nyah-west-0-5-years/2025-08-18/
LOCATION:Nyah West Chilren’s Centre\, 31 Lloyd Street\, NYAH WEST\, VIC\, 3595\, Australia
CATEGORIES:Weekly Programs
ATTACH;FMTTYPE=image/png:https://earlyyearsonlinehub.org.au/wp-content/uploads/2025/06/mfc-playgroups.png
END:VEVENT
BEGIN:VEVENT
DTSTART;TZID=Australia/Melbourne:20250811T110000
DTEND;TZID=Australia/Melbourne:20250811T120000
DTSTAMP:20260424T064510
CREATED:20250717T230117Z
LAST-MODIFIED:20251016T011929Z
UID:10003141-1754910000-1754913600@earlyyearsonlinehub.org.au
SUMMARY:Nyah West Smalltalk Supported Playgroup (0-5 years)
DESCRIPTION:Mallee Family Care’s Supported Playgroups and In Home Learning (IHL) sessions provide an opportunity for families to support children to play\, learn and prepare for kindergarten and school. Playgroups are also a great place to make friends. \nNyah West Smalltalk Supported Playgroup is held from 10am until 12pm\, each Monday at Nyah West Children’s Centre\, 13 Lloyd Street\, Nyah West. \nAll Mallee Family Care Supported Playgroups\, IHL and 1:1 Support sessions are FREE and facilitated by qualified staff who support families in their parenting/caring journey. \nSessions are held during Victorian school terms.
URL:https://earlyyearsonlinehub.org.au/event/smalltalk-plygroups-nyah-west-0-5-years/2025-08-11/
LOCATION:Nyah West Chilren’s Centre\, 31 Lloyd Street\, NYAH WEST\, VIC\, 3595\, Australia
CATEGORIES:Weekly Programs
ATTACH;FMTTYPE=image/png:https://earlyyearsonlinehub.org.au/wp-content/uploads/2025/06/mfc-playgroups.png
END:VEVENT
BEGIN:VEVENT
DTSTART;TZID=Australia/Melbourne:20250804T110000
DTEND;TZID=Australia/Melbourne:20250804T120000
DTSTAMP:20260424T064510
CREATED:20250717T230117Z
LAST-MODIFIED:20251016T011929Z
UID:10003140-1754305200-1754308800@earlyyearsonlinehub.org.au
SUMMARY:Nyah West Smalltalk Supported Playgroup (0-5 years)
DESCRIPTION:Mallee Family Care’s Supported Playgroups and In Home Learning (IHL) sessions provide an opportunity for families to support children to play\, learn and prepare for kindergarten and school. Playgroups are also a great place to make friends. \nNyah West Smalltalk Supported Playgroup is held from 10am until 12pm\, each Monday at Nyah West Children’s Centre\, 13 Lloyd Street\, Nyah West. \nAll Mallee Family Care Supported Playgroups\, IHL and 1:1 Support sessions are FREE and facilitated by qualified staff who support families in their parenting/caring journey. \nSessions are held during Victorian school terms.
URL:https://earlyyearsonlinehub.org.au/event/smalltalk-plygroups-nyah-west-0-5-years/2025-08-04/
LOCATION:Nyah West Chilren’s Centre\, 31 Lloyd Street\, NYAH WEST\, VIC\, 3595\, Australia
CATEGORIES:Weekly Programs
ATTACH;FMTTYPE=image/png:https://earlyyearsonlinehub.org.au/wp-content/uploads/2025/06/mfc-playgroups.png
END:VEVENT
BEGIN:VEVENT
DTSTART;TZID=Australia/Melbourne:20250728T110000
DTEND;TZID=Australia/Melbourne:20250728T120000
DTSTAMP:20260424T064510
CREATED:20250717T230117Z
LAST-MODIFIED:20251016T011929Z
UID:10003139-1753700400-1753704000@earlyyearsonlinehub.org.au
SUMMARY:Nyah West Smalltalk Supported Playgroup (0-5 years)
DESCRIPTION:Mallee Family Care’s Supported Playgroups and In Home Learning (IHL) sessions provide an opportunity for families to support children to play\, learn and prepare for kindergarten and school. Playgroups are also a great place to make friends. \nNyah West Smalltalk Supported Playgroup is held from 10am until 12pm\, each Monday at Nyah West Children’s Centre\, 13 Lloyd Street\, Nyah West. \nAll Mallee Family Care Supported Playgroups\, IHL and 1:1 Support sessions are FREE and facilitated by qualified staff who support families in their parenting/caring journey. \nSessions are held during Victorian school terms.
URL:https://earlyyearsonlinehub.org.au/event/smalltalk-plygroups-nyah-west-0-5-years/2025-07-28/
LOCATION:Nyah West Chilren’s Centre\, 31 Lloyd Street\, NYAH WEST\, VIC\, 3595\, Australia
CATEGORIES:Weekly Programs
ATTACH;FMTTYPE=image/png:https://earlyyearsonlinehub.org.au/wp-content/uploads/2025/06/mfc-playgroups.png
END:VEVENT
BEGIN:VEVENT
DTSTART;TZID=Australia/Melbourne:20250721T110000
DTEND;TZID=Australia/Melbourne:20250721T120000
DTSTAMP:20260424T064510
CREATED:20250717T230117Z
LAST-MODIFIED:20251016T011929Z
UID:10000021-1753095600-1753099200@earlyyearsonlinehub.org.au
SUMMARY:Nyah West Smalltalk Supported Playgroup (0-5 years)
DESCRIPTION:Mallee Family Care’s Supported Playgroups and In Home Learning (IHL) sessions provide an opportunity for families to support children to play\, learn and prepare for kindergarten and school. Playgroups are also a great place to make friends. \nNyah West Smalltalk Supported Playgroup is held from 10am until 12pm\, each Monday at Nyah West Children’s Centre\, 13 Lloyd Street\, Nyah West. \nAll Mallee Family Care Supported Playgroups\, IHL and 1:1 Support sessions are FREE and facilitated by qualified staff who support families in their parenting/caring journey. \nSessions are held during Victorian school terms.
URL:https://earlyyearsonlinehub.org.au/event/smalltalk-plygroups-nyah-west-0-5-years/2025-07-21/
LOCATION:Nyah West Chilren’s Centre\, 31 Lloyd Street\, NYAH WEST\, VIC\, 3595\, Australia
CATEGORIES:Weekly Programs
ATTACH;FMTTYPE=image/png:https://earlyyearsonlinehub.org.au/wp-content/uploads/2025/06/mfc-playgroups.png
END:VEVENT
END:VCALENDAR