BEGIN:VCALENDAR
VERSION:2.0
PRODID:-//Early Years Online Hub - ECPv6.15.20//NONSGML v1.0//EN
CALSCALE:GREGORIAN
METHOD:PUBLISH
X-WR-CALNAME:Early Years Online Hub
X-ORIGINAL-URL:https://earlyyearsonlinehub.org.au
X-WR-CALDESC:Events for Early Years Online Hub
REFRESH-INTERVAL;VALUE=DURATION:PT1H
X-Robots-Tag:noindex
X-PUBLISHED-TTL:PT1H
BEGIN:VTIMEZONE
TZID:Australia/Melbourne
BEGIN:STANDARD
TZOFFSETFROM:+1100
TZOFFSETTO:+1000
TZNAME:AEST
DTSTART:20290331T160000
END:STANDARD
BEGIN:DAYLIGHT
TZOFFSETFROM:+1000
TZOFFSETTO:+1100
TZNAME:AEDT
DTSTART:20291006T160000
END:DAYLIGHT
BEGIN:STANDARD
TZOFFSETFROM:+1100
TZOFFSETTO:+1000
TZNAME:AEST
DTSTART:20300406T160000
END:STANDARD
BEGIN:DAYLIGHT
TZOFFSETFROM:+1000
TZOFFSETTO:+1100
TZNAME:AEDT
DTSTART:20301005T160000
END:DAYLIGHT
BEGIN:STANDARD
TZOFFSETFROM:+1100
TZOFFSETTO:+1000
TZNAME:AEST
DTSTART:20310405T160000
END:STANDARD
BEGIN:DAYLIGHT
TZOFFSETFROM:+1000
TZOFFSETTO:+1100
TZNAME:AEDT
DTSTART:20311004T160000
END:DAYLIGHT
END:VTIMEZONE
BEGIN:VEVENT
DTSTART;TZID=Australia/Melbourne:20300731T121500
DTEND;TZID=Australia/Melbourne:20300731T134500
DTSTAMP:20260424T235226
CREATED:20250924T040402Z
LAST-MODIFIED:20251016T012942Z
UID:10005626-1911730500-1911735900@earlyyearsonlinehub.org.au
SUMMARY:Manangatang Smalltalk Supported Playgroup (0-5 years)
DESCRIPTION:Mallee Family Care’s Supported Playgroups and In Home Learning (IHL) sessions provide an opportunity for families to support children to play\, learn and prepare for kindergarten and school. Playgroups are also a great place to make friends. \nManangatang Smalltalk Supported Playgroup held from 12:15pm until 1:45pm Wednesdays at Manangatang Community Centre Robinvale-Sea Lake Road\, Manangatang \nAll our Supported Playgroups\, IHL and 1:1 Support sessions are FREE and facilitated by qualified staff who support families in their parenting/caring journey. \nSessions are held during Victorian school terms.
URL:https://earlyyearsonlinehub.org.au/event/smalltalk-playgroups-manangatang-0-5-years-2/2030-07-31/
LOCATION:Manangatang Communtiy Centre\, Robinbale-Seak Lake Road\, Manangatang\, Victoria\, 3546\, Australia
CATEGORIES:Weekly Programs
ATTACH;FMTTYPE=image/png:https://earlyyearsonlinehub.org.au/wp-content/uploads/2025/06/mfc-playgroups.png
END:VEVENT
BEGIN:VEVENT
DTSTART;TZID=Australia/Melbourne:20300807T121500
DTEND;TZID=Australia/Melbourne:20300807T134500
DTSTAMP:20260424T235226
CREATED:20250924T040402Z
LAST-MODIFIED:20251016T012942Z
UID:10005627-1912335300-1912340700@earlyyearsonlinehub.org.au
SUMMARY:Manangatang Smalltalk Supported Playgroup (0-5 years)
DESCRIPTION:Mallee Family Care’s Supported Playgroups and In Home Learning (IHL) sessions provide an opportunity for families to support children to play\, learn and prepare for kindergarten and school. Playgroups are also a great place to make friends. \nManangatang Smalltalk Supported Playgroup held from 12:15pm until 1:45pm Wednesdays at Manangatang Community Centre Robinvale-Sea Lake Road\, Manangatang \nAll our Supported Playgroups\, IHL and 1:1 Support sessions are FREE and facilitated by qualified staff who support families in their parenting/caring journey. \nSessions are held during Victorian school terms.
URL:https://earlyyearsonlinehub.org.au/event/smalltalk-playgroups-manangatang-0-5-years-2/2030-08-07/
LOCATION:Manangatang Communtiy Centre\, Robinbale-Seak Lake Road\, Manangatang\, Victoria\, 3546\, Australia
CATEGORIES:Weekly Programs
ATTACH;FMTTYPE=image/png:https://earlyyearsonlinehub.org.au/wp-content/uploads/2025/06/mfc-playgroups.png
END:VEVENT
BEGIN:VEVENT
DTSTART;TZID=Australia/Melbourne:20300814T121500
DTEND;TZID=Australia/Melbourne:20300814T134500
DTSTAMP:20260424T235226
CREATED:20250924T040402Z
LAST-MODIFIED:20251016T012942Z
UID:10005628-1912940100-1912945500@earlyyearsonlinehub.org.au
SUMMARY:Manangatang Smalltalk Supported Playgroup (0-5 years)
DESCRIPTION:Mallee Family Care’s Supported Playgroups and In Home Learning (IHL) sessions provide an opportunity for families to support children to play\, learn and prepare for kindergarten and school. Playgroups are also a great place to make friends. \nManangatang Smalltalk Supported Playgroup held from 12:15pm until 1:45pm Wednesdays at Manangatang Community Centre Robinvale-Sea Lake Road\, Manangatang \nAll our Supported Playgroups\, IHL and 1:1 Support sessions are FREE and facilitated by qualified staff who support families in their parenting/caring journey. \nSessions are held during Victorian school terms.
URL:https://earlyyearsonlinehub.org.au/event/smalltalk-playgroups-manangatang-0-5-years-2/2030-08-14/
LOCATION:Manangatang Communtiy Centre\, Robinbale-Seak Lake Road\, Manangatang\, Victoria\, 3546\, Australia
CATEGORIES:Weekly Programs
ATTACH;FMTTYPE=image/png:https://earlyyearsonlinehub.org.au/wp-content/uploads/2025/06/mfc-playgroups.png
END:VEVENT
BEGIN:VEVENT
DTSTART;TZID=Australia/Melbourne:20300821T121500
DTEND;TZID=Australia/Melbourne:20300821T134500
DTSTAMP:20260424T235226
CREATED:20250924T040402Z
LAST-MODIFIED:20251016T012942Z
UID:10005629-1913544900-1913550300@earlyyearsonlinehub.org.au
SUMMARY:Manangatang Smalltalk Supported Playgroup (0-5 years)
DESCRIPTION:Mallee Family Care’s Supported Playgroups and In Home Learning (IHL) sessions provide an opportunity for families to support children to play\, learn and prepare for kindergarten and school. Playgroups are also a great place to make friends. \nManangatang Smalltalk Supported Playgroup held from 12:15pm until 1:45pm Wednesdays at Manangatang Community Centre Robinvale-Sea Lake Road\, Manangatang \nAll our Supported Playgroups\, IHL and 1:1 Support sessions are FREE and facilitated by qualified staff who support families in their parenting/caring journey. \nSessions are held during Victorian school terms.
URL:https://earlyyearsonlinehub.org.au/event/smalltalk-playgroups-manangatang-0-5-years-2/2030-08-21/
LOCATION:Manangatang Communtiy Centre\, Robinbale-Seak Lake Road\, Manangatang\, Victoria\, 3546\, Australia
CATEGORIES:Weekly Programs
ATTACH;FMTTYPE=image/png:https://earlyyearsonlinehub.org.au/wp-content/uploads/2025/06/mfc-playgroups.png
END:VEVENT
BEGIN:VEVENT
DTSTART;TZID=Australia/Melbourne:20300828T121500
DTEND;TZID=Australia/Melbourne:20300828T134500
DTSTAMP:20260424T235226
CREATED:20250924T040402Z
LAST-MODIFIED:20251016T012942Z
UID:10005630-1914149700-1914155100@earlyyearsonlinehub.org.au
SUMMARY:Manangatang Smalltalk Supported Playgroup (0-5 years)
DESCRIPTION:Mallee Family Care’s Supported Playgroups and In Home Learning (IHL) sessions provide an opportunity for families to support children to play\, learn and prepare for kindergarten and school. Playgroups are also a great place to make friends. \nManangatang Smalltalk Supported Playgroup held from 12:15pm until 1:45pm Wednesdays at Manangatang Community Centre Robinvale-Sea Lake Road\, Manangatang \nAll our Supported Playgroups\, IHL and 1:1 Support sessions are FREE and facilitated by qualified staff who support families in their parenting/caring journey. \nSessions are held during Victorian school terms.
URL:https://earlyyearsonlinehub.org.au/event/smalltalk-playgroups-manangatang-0-5-years-2/2030-08-28/
LOCATION:Manangatang Communtiy Centre\, Robinbale-Seak Lake Road\, Manangatang\, Victoria\, 3546\, Australia
CATEGORIES:Weekly Programs
ATTACH;FMTTYPE=image/png:https://earlyyearsonlinehub.org.au/wp-content/uploads/2025/06/mfc-playgroups.png
END:VEVENT
BEGIN:VEVENT
DTSTART;TZID=Australia/Melbourne:20300904T121500
DTEND;TZID=Australia/Melbourne:20300904T134500
DTSTAMP:20260424T235226
CREATED:20250924T040402Z
LAST-MODIFIED:20251016T012942Z
UID:10005631-1914754500-1914759900@earlyyearsonlinehub.org.au
SUMMARY:Manangatang Smalltalk Supported Playgroup (0-5 years)
DESCRIPTION:Mallee Family Care’s Supported Playgroups and In Home Learning (IHL) sessions provide an opportunity for families to support children to play\, learn and prepare for kindergarten and school. Playgroups are also a great place to make friends. \nManangatang Smalltalk Supported Playgroup held from 12:15pm until 1:45pm Wednesdays at Manangatang Community Centre Robinvale-Sea Lake Road\, Manangatang \nAll our Supported Playgroups\, IHL and 1:1 Support sessions are FREE and facilitated by qualified staff who support families in their parenting/caring journey. \nSessions are held during Victorian school terms.
URL:https://earlyyearsonlinehub.org.au/event/smalltalk-playgroups-manangatang-0-5-years-2/2030-09-04/
LOCATION:Manangatang Communtiy Centre\, Robinbale-Seak Lake Road\, Manangatang\, Victoria\, 3546\, Australia
CATEGORIES:Weekly Programs
ATTACH;FMTTYPE=image/png:https://earlyyearsonlinehub.org.au/wp-content/uploads/2025/06/mfc-playgroups.png
END:VEVENT
BEGIN:VEVENT
DTSTART;TZID=Australia/Melbourne:20300911T121500
DTEND;TZID=Australia/Melbourne:20300911T134500
DTSTAMP:20260424T235226
CREATED:20250924T040402Z
LAST-MODIFIED:20251016T012942Z
UID:10005632-1915359300-1915364700@earlyyearsonlinehub.org.au
SUMMARY:Manangatang Smalltalk Supported Playgroup (0-5 years)
DESCRIPTION:Mallee Family Care’s Supported Playgroups and In Home Learning (IHL) sessions provide an opportunity for families to support children to play\, learn and prepare for kindergarten and school. Playgroups are also a great place to make friends. \nManangatang Smalltalk Supported Playgroup held from 12:15pm until 1:45pm Wednesdays at Manangatang Community Centre Robinvale-Sea Lake Road\, Manangatang \nAll our Supported Playgroups\, IHL and 1:1 Support sessions are FREE and facilitated by qualified staff who support families in their parenting/caring journey. \nSessions are held during Victorian school terms.
URL:https://earlyyearsonlinehub.org.au/event/smalltalk-playgroups-manangatang-0-5-years-2/2030-09-11/
LOCATION:Manangatang Communtiy Centre\, Robinbale-Seak Lake Road\, Manangatang\, Victoria\, 3546\, Australia
CATEGORIES:Weekly Programs
ATTACH;FMTTYPE=image/png:https://earlyyearsonlinehub.org.au/wp-content/uploads/2025/06/mfc-playgroups.png
END:VEVENT
BEGIN:VEVENT
DTSTART;TZID=Australia/Melbourne:20300918T121500
DTEND;TZID=Australia/Melbourne:20300918T134500
DTSTAMP:20260424T235226
CREATED:20250924T040402Z
LAST-MODIFIED:20251016T012942Z
UID:10005633-1915964100-1915969500@earlyyearsonlinehub.org.au
SUMMARY:Manangatang Smalltalk Supported Playgroup (0-5 years)
DESCRIPTION:Mallee Family Care’s Supported Playgroups and In Home Learning (IHL) sessions provide an opportunity for families to support children to play\, learn and prepare for kindergarten and school. Playgroups are also a great place to make friends. \nManangatang Smalltalk Supported Playgroup held from 12:15pm until 1:45pm Wednesdays at Manangatang Community Centre Robinvale-Sea Lake Road\, Manangatang \nAll our Supported Playgroups\, IHL and 1:1 Support sessions are FREE and facilitated by qualified staff who support families in their parenting/caring journey. \nSessions are held during Victorian school terms.
URL:https://earlyyearsonlinehub.org.au/event/smalltalk-playgroups-manangatang-0-5-years-2/2030-09-18/
LOCATION:Manangatang Communtiy Centre\, Robinbale-Seak Lake Road\, Manangatang\, Victoria\, 3546\, Australia
CATEGORIES:Weekly Programs
ATTACH;FMTTYPE=image/png:https://earlyyearsonlinehub.org.au/wp-content/uploads/2025/06/mfc-playgroups.png
END:VEVENT
BEGIN:VEVENT
DTSTART;TZID=Australia/Melbourne:20300925T121500
DTEND;TZID=Australia/Melbourne:20300925T134500
DTSTAMP:20260424T235226
CREATED:20250924T040402Z
LAST-MODIFIED:20251016T012942Z
UID:10005634-1916568900-1916574300@earlyyearsonlinehub.org.au
SUMMARY:Manangatang Smalltalk Supported Playgroup (0-5 years)
DESCRIPTION:Mallee Family Care’s Supported Playgroups and In Home Learning (IHL) sessions provide an opportunity for families to support children to play\, learn and prepare for kindergarten and school. Playgroups are also a great place to make friends. \nManangatang Smalltalk Supported Playgroup held from 12:15pm until 1:45pm Wednesdays at Manangatang Community Centre Robinvale-Sea Lake Road\, Manangatang \nAll our Supported Playgroups\, IHL and 1:1 Support sessions are FREE and facilitated by qualified staff who support families in their parenting/caring journey. \nSessions are held during Victorian school terms.
URL:https://earlyyearsonlinehub.org.au/event/smalltalk-playgroups-manangatang-0-5-years-2/2030-09-25/
LOCATION:Manangatang Communtiy Centre\, Robinbale-Seak Lake Road\, Manangatang\, Victoria\, 3546\, Australia
CATEGORIES:Weekly Programs
ATTACH;FMTTYPE=image/png:https://earlyyearsonlinehub.org.au/wp-content/uploads/2025/06/mfc-playgroups.png
END:VEVENT
BEGIN:VEVENT
DTSTART;TZID=Australia/Melbourne:20301002T121500
DTEND;TZID=Australia/Melbourne:20301002T134500
DTSTAMP:20260424T235226
CREATED:20250924T040402Z
LAST-MODIFIED:20251016T012942Z
UID:10005635-1917173700-1917179100@earlyyearsonlinehub.org.au
SUMMARY:Manangatang Smalltalk Supported Playgroup (0-5 years)
DESCRIPTION:Mallee Family Care’s Supported Playgroups and In Home Learning (IHL) sessions provide an opportunity for families to support children to play\, learn and prepare for kindergarten and school. Playgroups are also a great place to make friends. \nManangatang Smalltalk Supported Playgroup held from 12:15pm until 1:45pm Wednesdays at Manangatang Community Centre Robinvale-Sea Lake Road\, Manangatang \nAll our Supported Playgroups\, IHL and 1:1 Support sessions are FREE and facilitated by qualified staff who support families in their parenting/caring journey. \nSessions are held during Victorian school terms.
URL:https://earlyyearsonlinehub.org.au/event/smalltalk-playgroups-manangatang-0-5-years-2/2030-10-02/
LOCATION:Manangatang Communtiy Centre\, Robinbale-Seak Lake Road\, Manangatang\, Victoria\, 3546\, Australia
CATEGORIES:Weekly Programs
ATTACH;FMTTYPE=image/png:https://earlyyearsonlinehub.org.au/wp-content/uploads/2025/06/mfc-playgroups.png
END:VEVENT
BEGIN:VEVENT
DTSTART;TZID=Australia/Melbourne:20301009T121500
DTEND;TZID=Australia/Melbourne:20301009T134500
DTSTAMP:20260424T235226
CREATED:20250924T040402Z
LAST-MODIFIED:20251016T012942Z
UID:10008049-1917778500-1917783900@earlyyearsonlinehub.org.au
SUMMARY:Manangatang Smalltalk Supported Playgroup (0-5 years)
DESCRIPTION:Mallee Family Care’s Supported Playgroups and In Home Learning (IHL) sessions provide an opportunity for families to support children to play\, learn and prepare for kindergarten and school. Playgroups are also a great place to make friends. \nManangatang Smalltalk Supported Playgroup held from 12:15pm until 1:45pm Wednesdays at Manangatang Community Centre Robinvale-Sea Lake Road\, Manangatang \nAll our Supported Playgroups\, IHL and 1:1 Support sessions are FREE and facilitated by qualified staff who support families in their parenting/caring journey. \nSessions are held during Victorian school terms.
URL:https://earlyyearsonlinehub.org.au/event/smalltalk-playgroups-manangatang-0-5-years-2/2030-10-09/
LOCATION:Manangatang Communtiy Centre\, Robinbale-Seak Lake Road\, Manangatang\, Victoria\, 3546\, Australia
CATEGORIES:Weekly Programs
ATTACH;FMTTYPE=image/png:https://earlyyearsonlinehub.org.au/wp-content/uploads/2025/06/mfc-playgroups.png
END:VEVENT
BEGIN:VEVENT
DTSTART;TZID=Australia/Melbourne:20301016T121500
DTEND;TZID=Australia/Melbourne:20301016T134500
DTSTAMP:20260424T235226
CREATED:20250924T040402Z
LAST-MODIFIED:20251016T012942Z
UID:10008050-1918383300-1918388700@earlyyearsonlinehub.org.au
SUMMARY:Manangatang Smalltalk Supported Playgroup (0-5 years)
DESCRIPTION:Mallee Family Care’s Supported Playgroups and In Home Learning (IHL) sessions provide an opportunity for families to support children to play\, learn and prepare for kindergarten and school. Playgroups are also a great place to make friends. \nManangatang Smalltalk Supported Playgroup held from 12:15pm until 1:45pm Wednesdays at Manangatang Community Centre Robinvale-Sea Lake Road\, Manangatang \nAll our Supported Playgroups\, IHL and 1:1 Support sessions are FREE and facilitated by qualified staff who support families in their parenting/caring journey. \nSessions are held during Victorian school terms.
URL:https://earlyyearsonlinehub.org.au/event/smalltalk-playgroups-manangatang-0-5-years-2/2030-10-16/
LOCATION:Manangatang Communtiy Centre\, Robinbale-Seak Lake Road\, Manangatang\, Victoria\, 3546\, Australia
CATEGORIES:Weekly Programs
ATTACH;FMTTYPE=image/png:https://earlyyearsonlinehub.org.au/wp-content/uploads/2025/06/mfc-playgroups.png
END:VEVENT
END:VCALENDAR