BEGIN:VCALENDAR
VERSION:2.0
PRODID:-//Early Years Online Hub - ECPv6.15.20//NONSGML v1.0//EN
CALSCALE:GREGORIAN
METHOD:PUBLISH
X-ORIGINAL-URL:https://earlyyearsonlinehub.org.au
X-WR-CALDESC:Events for Early Years Online Hub
REFRESH-INTERVAL;VALUE=DURATION:PT1H
X-Robots-Tag:noindex
X-PUBLISHED-TTL:PT1H
BEGIN:VTIMEZONE
TZID:Australia/Melbourne
BEGIN:STANDARD
TZOFFSETFROM:+1100
TZOFFSETTO:+1000
TZNAME:AEST
DTSTART:20290331T160000
END:STANDARD
BEGIN:DAYLIGHT
TZOFFSETFROM:+1000
TZOFFSETTO:+1100
TZNAME:AEDT
DTSTART:20291006T160000
END:DAYLIGHT
BEGIN:STANDARD
TZOFFSETFROM:+1100
TZOFFSETTO:+1000
TZNAME:AEST
DTSTART:20300406T160000
END:STANDARD
BEGIN:DAYLIGHT
TZOFFSETFROM:+1000
TZOFFSETTO:+1100
TZNAME:AEDT
DTSTART:20301005T160000
END:DAYLIGHT
BEGIN:STANDARD
TZOFFSETFROM:+1100
TZOFFSETTO:+1000
TZNAME:AEST
DTSTART:20310405T160000
END:STANDARD
BEGIN:DAYLIGHT
TZOFFSETFROM:+1000
TZOFFSETTO:+1100
TZNAME:AEDT
DTSTART:20311004T160000
END:DAYLIGHT
END:VTIMEZONE
BEGIN:VEVENT
DTSTART;TZID=Australia/Melbourne:20300913T093000
DTEND;TZID=Australia/Melbourne:20300913T113000
DTSTAMP:20260425T011917
CREATED:20250717T225901Z
LAST-MODIFIED:20251016T011657Z
UID:10004530-1915522200-1915529400@earlyyearsonlinehub.org.au
SUMMARY:Lake Boga Smalltalk Supported Playgroup (0-5 years)
DESCRIPTION:Mallee Family Care’s Supported Playgroups and In Home Learning (IHL) sessions provide an opportunity for families to support children to play\, learn and prepare for kindergarten and school. Playgroups are also a great place to make friends. \nLake Boga Smalltalk Supported Playgroup is held from 9:30am until 11:30am each Friday at 15 Lalbert Road\, Lake Boga. \nAll Mallee Family Care Supported Playgroups\, IHL and 1:1 Support sessions are FREE and facilitated by qualified staff who support families in their parenting/caring journey. \nSessions are held during Victorian school terms.
URL:https://earlyyearsonlinehub.org.au/event/smalltalk-playgroup-lake-boga-0-5-years/2030-09-13/
LOCATION:Lake Boga Preschool\, 15 Lalbert Road\, LAKE BOGA\, VIC\, 3584\, Australia
CATEGORIES:Weekly Programs
ATTACH;FMTTYPE=image/png:https://earlyyearsonlinehub.org.au/wp-content/uploads/2025/06/mfc-playgroups.png
END:VEVENT
BEGIN:VEVENT
DTSTART;TZID=Australia/Melbourne:20300920T093000
DTEND;TZID=Australia/Melbourne:20300920T113000
DTSTAMP:20260425T011917
CREATED:20250717T225901Z
LAST-MODIFIED:20251016T011657Z
UID:10004531-1916127000-1916134200@earlyyearsonlinehub.org.au
SUMMARY:Lake Boga Smalltalk Supported Playgroup (0-5 years)
DESCRIPTION:Mallee Family Care’s Supported Playgroups and In Home Learning (IHL) sessions provide an opportunity for families to support children to play\, learn and prepare for kindergarten and school. Playgroups are also a great place to make friends. \nLake Boga Smalltalk Supported Playgroup is held from 9:30am until 11:30am each Friday at 15 Lalbert Road\, Lake Boga. \nAll Mallee Family Care Supported Playgroups\, IHL and 1:1 Support sessions are FREE and facilitated by qualified staff who support families in their parenting/caring journey. \nSessions are held during Victorian school terms.
URL:https://earlyyearsonlinehub.org.au/event/smalltalk-playgroup-lake-boga-0-5-years/2030-09-20/
LOCATION:Lake Boga Preschool\, 15 Lalbert Road\, LAKE BOGA\, VIC\, 3584\, Australia
CATEGORIES:Weekly Programs
ATTACH;FMTTYPE=image/png:https://earlyyearsonlinehub.org.au/wp-content/uploads/2025/06/mfc-playgroups.png
END:VEVENT
BEGIN:VEVENT
DTSTART;TZID=Australia/Melbourne:20300927T093000
DTEND;TZID=Australia/Melbourne:20300927T113000
DTSTAMP:20260425T011917
CREATED:20250717T225901Z
LAST-MODIFIED:20251016T011657Z
UID:10008032-1916731800-1916739000@earlyyearsonlinehub.org.au
SUMMARY:Lake Boga Smalltalk Supported Playgroup (0-5 years)
DESCRIPTION:Mallee Family Care’s Supported Playgroups and In Home Learning (IHL) sessions provide an opportunity for families to support children to play\, learn and prepare for kindergarten and school. Playgroups are also a great place to make friends. \nLake Boga Smalltalk Supported Playgroup is held from 9:30am until 11:30am each Friday at 15 Lalbert Road\, Lake Boga. \nAll Mallee Family Care Supported Playgroups\, IHL and 1:1 Support sessions are FREE and facilitated by qualified staff who support families in their parenting/caring journey. \nSessions are held during Victorian school terms.
URL:https://earlyyearsonlinehub.org.au/event/smalltalk-playgroup-lake-boga-0-5-years/2030-09-27/
LOCATION:Lake Boga Preschool\, 15 Lalbert Road\, LAKE BOGA\, VIC\, 3584\, Australia
CATEGORIES:Weekly Programs
ATTACH;FMTTYPE=image/png:https://earlyyearsonlinehub.org.au/wp-content/uploads/2025/06/mfc-playgroups.png
END:VEVENT
BEGIN:VEVENT
DTSTART;TZID=Australia/Melbourne:20301004T093000
DTEND;TZID=Australia/Melbourne:20301004T113000
DTSTAMP:20260425T011917
CREATED:20250717T225901Z
LAST-MODIFIED:20251016T011657Z
UID:10008033-1917336600-1917343800@earlyyearsonlinehub.org.au
SUMMARY:Lake Boga Smalltalk Supported Playgroup (0-5 years)
DESCRIPTION:Mallee Family Care’s Supported Playgroups and In Home Learning (IHL) sessions provide an opportunity for families to support children to play\, learn and prepare for kindergarten and school. Playgroups are also a great place to make friends. \nLake Boga Smalltalk Supported Playgroup is held from 9:30am until 11:30am each Friday at 15 Lalbert Road\, Lake Boga. \nAll Mallee Family Care Supported Playgroups\, IHL and 1:1 Support sessions are FREE and facilitated by qualified staff who support families in their parenting/caring journey. \nSessions are held during Victorian school terms.
URL:https://earlyyearsonlinehub.org.au/event/smalltalk-playgroup-lake-boga-0-5-years/2030-10-04/
LOCATION:Lake Boga Preschool\, 15 Lalbert Road\, LAKE BOGA\, VIC\, 3584\, Australia
CATEGORIES:Weekly Programs
ATTACH;FMTTYPE=image/png:https://earlyyearsonlinehub.org.au/wp-content/uploads/2025/06/mfc-playgroups.png
END:VEVENT
BEGIN:VEVENT
DTSTART;TZID=Australia/Melbourne:20301011T093000
DTEND;TZID=Australia/Melbourne:20301011T113000
DTSTAMP:20260425T011917
CREATED:20250717T225901Z
LAST-MODIFIED:20251016T011657Z
UID:10008034-1917941400-1917948600@earlyyearsonlinehub.org.au
SUMMARY:Lake Boga Smalltalk Supported Playgroup (0-5 years)
DESCRIPTION:Mallee Family Care’s Supported Playgroups and In Home Learning (IHL) sessions provide an opportunity for families to support children to play\, learn and prepare for kindergarten and school. Playgroups are also a great place to make friends. \nLake Boga Smalltalk Supported Playgroup is held from 9:30am until 11:30am each Friday at 15 Lalbert Road\, Lake Boga. \nAll Mallee Family Care Supported Playgroups\, IHL and 1:1 Support sessions are FREE and facilitated by qualified staff who support families in their parenting/caring journey. \nSessions are held during Victorian school terms.
URL:https://earlyyearsonlinehub.org.au/event/smalltalk-playgroup-lake-boga-0-5-years/2030-10-11/
LOCATION:Lake Boga Preschool\, 15 Lalbert Road\, LAKE BOGA\, VIC\, 3584\, Australia
CATEGORIES:Weekly Programs
ATTACH;FMTTYPE=image/png:https://earlyyearsonlinehub.org.au/wp-content/uploads/2025/06/mfc-playgroups.png
END:VEVENT
END:VCALENDAR