BEGIN:VCALENDAR
VERSION:2.0
PRODID:-//Early Years Online Hub - ECPv6.15.20//NONSGML v1.0//EN
CALSCALE:GREGORIAN
METHOD:PUBLISH
X-ORIGINAL-URL:https://earlyyearsonlinehub.org.au
X-WR-CALDESC:Events for Early Years Online Hub
REFRESH-INTERVAL;VALUE=DURATION:PT1H
X-Robots-Tag:noindex
X-PUBLISHED-TTL:PT1H
BEGIN:VTIMEZONE
TZID:Australia/Melbourne
BEGIN:STANDARD
TZOFFSETFROM:+1100
TZOFFSETTO:+1000
TZNAME:AEST
DTSTART:20240406T160000
END:STANDARD
BEGIN:DAYLIGHT
TZOFFSETFROM:+1000
TZOFFSETTO:+1100
TZNAME:AEDT
DTSTART:20241005T160000
END:DAYLIGHT
BEGIN:STANDARD
TZOFFSETFROM:+1100
TZOFFSETTO:+1000
TZNAME:AEST
DTSTART:20250405T160000
END:STANDARD
BEGIN:DAYLIGHT
TZOFFSETFROM:+1000
TZOFFSETTO:+1100
TZNAME:AEDT
DTSTART:20251004T160000
END:DAYLIGHT
BEGIN:STANDARD
TZOFFSETFROM:+1100
TZOFFSETTO:+1000
TZNAME:AEST
DTSTART:20260404T160000
END:STANDARD
BEGIN:DAYLIGHT
TZOFFSETFROM:+1000
TZOFFSETTO:+1100
TZNAME:AEDT
DTSTART:20261003T160000
END:DAYLIGHT
BEGIN:STANDARD
TZOFFSETFROM:+1100
TZOFFSETTO:+1000
TZNAME:AEST
DTSTART:20270403T160000
END:STANDARD
BEGIN:DAYLIGHT
TZOFFSETFROM:+1000
TZOFFSETTO:+1100
TZNAME:AEDT
DTSTART:20271002T160000
END:DAYLIGHT
END:VTIMEZONE
BEGIN:VEVENT
DTSTART;TZID=Australia/Melbourne:20260123T093000
DTEND;TZID=Australia/Melbourne:20260123T113000
DTSTAMP:20260424T024947
CREATED:20250717T225901Z
LAST-MODIFIED:20251016T011657Z
UID:10000564-1769160600-1769167800@earlyyearsonlinehub.org.au
SUMMARY:Lake Boga Smalltalk Supported Playgroup (0-5 years)
DESCRIPTION:Mallee Family Care’s Supported Playgroups and In Home Learning (IHL) sessions provide an opportunity for families to support children to play\, learn and prepare for kindergarten and school. Playgroups are also a great place to make friends. \nLake Boga Smalltalk Supported Playgroup is held from 9:30am until 11:30am each Friday at 15 Lalbert Road\, Lake Boga. \nAll Mallee Family Care Supported Playgroups\, IHL and 1:1 Support sessions are FREE and facilitated by qualified staff who support families in their parenting/caring journey. \nSessions are held during Victorian school terms.
URL:https://earlyyearsonlinehub.org.au/event/smalltalk-playgroup-lake-boga-0-5-years/2026-01-23/
LOCATION:Lake Boga Preschool\, 15 Lalbert Road\, LAKE BOGA\, VIC\, 3584\, Australia
CATEGORIES:Weekly Programs
ATTACH;FMTTYPE=image/png:https://earlyyearsonlinehub.org.au/wp-content/uploads/2025/06/mfc-playgroups.png
END:VEVENT
BEGIN:VEVENT
DTSTART;TZID=Australia/Melbourne:20251219T093000
DTEND;TZID=Australia/Melbourne:20251219T113000
DTSTAMP:20260424T024947
CREATED:20250717T225901Z
LAST-MODIFIED:20251016T011657Z
UID:10000559-1766136600-1766143800@earlyyearsonlinehub.org.au
SUMMARY:Lake Boga Smalltalk Supported Playgroup (0-5 years)
DESCRIPTION:Mallee Family Care’s Supported Playgroups and In Home Learning (IHL) sessions provide an opportunity for families to support children to play\, learn and prepare for kindergarten and school. Playgroups are also a great place to make friends. \nLake Boga Smalltalk Supported Playgroup is held from 9:30am until 11:30am each Friday at 15 Lalbert Road\, Lake Boga. \nAll Mallee Family Care Supported Playgroups\, IHL and 1:1 Support sessions are FREE and facilitated by qualified staff who support families in their parenting/caring journey. \nSessions are held during Victorian school terms.
URL:https://earlyyearsonlinehub.org.au/event/smalltalk-playgroup-lake-boga-0-5-years/2025-12-19/
LOCATION:Lake Boga Preschool\, 15 Lalbert Road\, LAKE BOGA\, VIC\, 3584\, Australia
CATEGORIES:Weekly Programs
ATTACH;FMTTYPE=image/png:https://earlyyearsonlinehub.org.au/wp-content/uploads/2025/06/mfc-playgroups.png
END:VEVENT
BEGIN:VEVENT
DTSTART;TZID=Australia/Melbourne:20251212T093000
DTEND;TZID=Australia/Melbourne:20251212T113000
DTSTAMP:20260424T024947
CREATED:20250717T225901Z
LAST-MODIFIED:20251016T011657Z
UID:10000558-1765531800-1765539000@earlyyearsonlinehub.org.au
SUMMARY:Lake Boga Smalltalk Supported Playgroup (0-5 years)
DESCRIPTION:Mallee Family Care’s Supported Playgroups and In Home Learning (IHL) sessions provide an opportunity for families to support children to play\, learn and prepare for kindergarten and school. Playgroups are also a great place to make friends. \nLake Boga Smalltalk Supported Playgroup is held from 9:30am until 11:30am each Friday at 15 Lalbert Road\, Lake Boga. \nAll Mallee Family Care Supported Playgroups\, IHL and 1:1 Support sessions are FREE and facilitated by qualified staff who support families in their parenting/caring journey. \nSessions are held during Victorian school terms.
URL:https://earlyyearsonlinehub.org.au/event/smalltalk-playgroup-lake-boga-0-5-years/2025-12-12/
LOCATION:Lake Boga Preschool\, 15 Lalbert Road\, LAKE BOGA\, VIC\, 3584\, Australia
CATEGORIES:Weekly Programs
ATTACH;FMTTYPE=image/png:https://earlyyearsonlinehub.org.au/wp-content/uploads/2025/06/mfc-playgroups.png
END:VEVENT
BEGIN:VEVENT
DTSTART;TZID=Australia/Melbourne:20251205T093000
DTEND;TZID=Australia/Melbourne:20251205T113000
DTSTAMP:20260424T024947
CREATED:20250717T225901Z
LAST-MODIFIED:20251016T011657Z
UID:10000557-1764927000-1764934200@earlyyearsonlinehub.org.au
SUMMARY:Lake Boga Smalltalk Supported Playgroup (0-5 years)
DESCRIPTION:Mallee Family Care’s Supported Playgroups and In Home Learning (IHL) sessions provide an opportunity for families to support children to play\, learn and prepare for kindergarten and school. Playgroups are also a great place to make friends. \nLake Boga Smalltalk Supported Playgroup is held from 9:30am until 11:30am each Friday at 15 Lalbert Road\, Lake Boga. \nAll Mallee Family Care Supported Playgroups\, IHL and 1:1 Support sessions are FREE and facilitated by qualified staff who support families in their parenting/caring journey. \nSessions are held during Victorian school terms.
URL:https://earlyyearsonlinehub.org.au/event/smalltalk-playgroup-lake-boga-0-5-years/2025-12-05/
LOCATION:Lake Boga Preschool\, 15 Lalbert Road\, LAKE BOGA\, VIC\, 3584\, Australia
CATEGORIES:Weekly Programs
ATTACH;FMTTYPE=image/png:https://earlyyearsonlinehub.org.au/wp-content/uploads/2025/06/mfc-playgroups.png
END:VEVENT
BEGIN:VEVENT
DTSTART;TZID=Australia/Melbourne:20251128T093000
DTEND;TZID=Australia/Melbourne:20251128T113000
DTSTAMP:20260424T024947
CREATED:20250717T225901Z
LAST-MODIFIED:20251016T011657Z
UID:10000556-1764322200-1764329400@earlyyearsonlinehub.org.au
SUMMARY:Lake Boga Smalltalk Supported Playgroup (0-5 years)
DESCRIPTION:Mallee Family Care’s Supported Playgroups and In Home Learning (IHL) sessions provide an opportunity for families to support children to play\, learn and prepare for kindergarten and school. Playgroups are also a great place to make friends. \nLake Boga Smalltalk Supported Playgroup is held from 9:30am until 11:30am each Friday at 15 Lalbert Road\, Lake Boga. \nAll Mallee Family Care Supported Playgroups\, IHL and 1:1 Support sessions are FREE and facilitated by qualified staff who support families in their parenting/caring journey. \nSessions are held during Victorian school terms.
URL:https://earlyyearsonlinehub.org.au/event/smalltalk-playgroup-lake-boga-0-5-years/2025-11-28/
LOCATION:Lake Boga Preschool\, 15 Lalbert Road\, LAKE BOGA\, VIC\, 3584\, Australia
CATEGORIES:Weekly Programs
ATTACH;FMTTYPE=image/png:https://earlyyearsonlinehub.org.au/wp-content/uploads/2025/06/mfc-playgroups.png
END:VEVENT
BEGIN:VEVENT
DTSTART;TZID=Australia/Melbourne:20251121T093000
DTEND;TZID=Australia/Melbourne:20251121T113000
DTSTAMP:20260424T024947
CREATED:20250717T225901Z
LAST-MODIFIED:20251016T011657Z
UID:10000555-1763717400-1763724600@earlyyearsonlinehub.org.au
SUMMARY:Lake Boga Smalltalk Supported Playgroup (0-5 years)
DESCRIPTION:Mallee Family Care’s Supported Playgroups and In Home Learning (IHL) sessions provide an opportunity for families to support children to play\, learn and prepare for kindergarten and school. Playgroups are also a great place to make friends. \nLake Boga Smalltalk Supported Playgroup is held from 9:30am until 11:30am each Friday at 15 Lalbert Road\, Lake Boga. \nAll Mallee Family Care Supported Playgroups\, IHL and 1:1 Support sessions are FREE and facilitated by qualified staff who support families in their parenting/caring journey. \nSessions are held during Victorian school terms.
URL:https://earlyyearsonlinehub.org.au/event/smalltalk-playgroup-lake-boga-0-5-years/2025-11-21/
LOCATION:Lake Boga Preschool\, 15 Lalbert Road\, LAKE BOGA\, VIC\, 3584\, Australia
CATEGORIES:Weekly Programs
ATTACH;FMTTYPE=image/png:https://earlyyearsonlinehub.org.au/wp-content/uploads/2025/06/mfc-playgroups.png
END:VEVENT
BEGIN:VEVENT
DTSTART;TZID=Australia/Melbourne:20251114T093000
DTEND;TZID=Australia/Melbourne:20251114T113000
DTSTAMP:20260424T024947
CREATED:20250717T225901Z
LAST-MODIFIED:20251016T011657Z
UID:10000554-1763112600-1763119800@earlyyearsonlinehub.org.au
SUMMARY:Lake Boga Smalltalk Supported Playgroup (0-5 years)
DESCRIPTION:Mallee Family Care’s Supported Playgroups and In Home Learning (IHL) sessions provide an opportunity for families to support children to play\, learn and prepare for kindergarten and school. Playgroups are also a great place to make friends. \nLake Boga Smalltalk Supported Playgroup is held from 9:30am until 11:30am each Friday at 15 Lalbert Road\, Lake Boga. \nAll Mallee Family Care Supported Playgroups\, IHL and 1:1 Support sessions are FREE and facilitated by qualified staff who support families in their parenting/caring journey. \nSessions are held during Victorian school terms.
URL:https://earlyyearsonlinehub.org.au/event/smalltalk-playgroup-lake-boga-0-5-years/2025-11-14/
LOCATION:Lake Boga Preschool\, 15 Lalbert Road\, LAKE BOGA\, VIC\, 3584\, Australia
CATEGORIES:Weekly Programs
ATTACH;FMTTYPE=image/png:https://earlyyearsonlinehub.org.au/wp-content/uploads/2025/06/mfc-playgroups.png
END:VEVENT
BEGIN:VEVENT
DTSTART;TZID=Australia/Melbourne:20251107T093000
DTEND;TZID=Australia/Melbourne:20251107T113000
DTSTAMP:20260424T024947
CREATED:20250717T225901Z
LAST-MODIFIED:20251016T011657Z
UID:10000553-1762507800-1762515000@earlyyearsonlinehub.org.au
SUMMARY:Lake Boga Smalltalk Supported Playgroup (0-5 years)
DESCRIPTION:Mallee Family Care’s Supported Playgroups and In Home Learning (IHL) sessions provide an opportunity for families to support children to play\, learn and prepare for kindergarten and school. Playgroups are also a great place to make friends. \nLake Boga Smalltalk Supported Playgroup is held from 9:30am until 11:30am each Friday at 15 Lalbert Road\, Lake Boga. \nAll Mallee Family Care Supported Playgroups\, IHL and 1:1 Support sessions are FREE and facilitated by qualified staff who support families in their parenting/caring journey. \nSessions are held during Victorian school terms.
URL:https://earlyyearsonlinehub.org.au/event/smalltalk-playgroup-lake-boga-0-5-years/2025-11-07/
LOCATION:Lake Boga Preschool\, 15 Lalbert Road\, LAKE BOGA\, VIC\, 3584\, Australia
CATEGORIES:Weekly Programs
ATTACH;FMTTYPE=image/png:https://earlyyearsonlinehub.org.au/wp-content/uploads/2025/06/mfc-playgroups.png
END:VEVENT
BEGIN:VEVENT
DTSTART;TZID=Australia/Melbourne:20251031T093000
DTEND;TZID=Australia/Melbourne:20251031T113000
DTSTAMP:20260424T024947
CREATED:20250717T225901Z
LAST-MODIFIED:20251016T011657Z
UID:10000552-1761903000-1761910200@earlyyearsonlinehub.org.au
SUMMARY:Lake Boga Smalltalk Supported Playgroup (0-5 years)
DESCRIPTION:Mallee Family Care’s Supported Playgroups and In Home Learning (IHL) sessions provide an opportunity for families to support children to play\, learn and prepare for kindergarten and school. Playgroups are also a great place to make friends. \nLake Boga Smalltalk Supported Playgroup is held from 9:30am until 11:30am each Friday at 15 Lalbert Road\, Lake Boga. \nAll Mallee Family Care Supported Playgroups\, IHL and 1:1 Support sessions are FREE and facilitated by qualified staff who support families in their parenting/caring journey. \nSessions are held during Victorian school terms.
URL:https://earlyyearsonlinehub.org.au/event/smalltalk-playgroup-lake-boga-0-5-years/2025-10-31/
LOCATION:Lake Boga Preschool\, 15 Lalbert Road\, LAKE BOGA\, VIC\, 3584\, Australia
CATEGORIES:Weekly Programs
ATTACH;FMTTYPE=image/png:https://earlyyearsonlinehub.org.au/wp-content/uploads/2025/06/mfc-playgroups.png
END:VEVENT
BEGIN:VEVENT
DTSTART;TZID=Australia/Melbourne:20251024T093000
DTEND;TZID=Australia/Melbourne:20251024T113000
DTSTAMP:20260424T024947
CREATED:20250717T225901Z
LAST-MODIFIED:20251016T011657Z
UID:10000551-1761298200-1761305400@earlyyearsonlinehub.org.au
SUMMARY:Lake Boga Smalltalk Supported Playgroup (0-5 years)
DESCRIPTION:Mallee Family Care’s Supported Playgroups and In Home Learning (IHL) sessions provide an opportunity for families to support children to play\, learn and prepare for kindergarten and school. Playgroups are also a great place to make friends. \nLake Boga Smalltalk Supported Playgroup is held from 9:30am until 11:30am each Friday at 15 Lalbert Road\, Lake Boga. \nAll Mallee Family Care Supported Playgroups\, IHL and 1:1 Support sessions are FREE and facilitated by qualified staff who support families in their parenting/caring journey. \nSessions are held during Victorian school terms.
URL:https://earlyyearsonlinehub.org.au/event/smalltalk-playgroup-lake-boga-0-5-years/2025-10-24/
LOCATION:Lake Boga Preschool\, 15 Lalbert Road\, LAKE BOGA\, VIC\, 3584\, Australia
CATEGORIES:Weekly Programs
ATTACH;FMTTYPE=image/png:https://earlyyearsonlinehub.org.au/wp-content/uploads/2025/06/mfc-playgroups.png
END:VEVENT
BEGIN:VEVENT
DTSTART;TZID=Australia/Melbourne:20251017T093000
DTEND;TZID=Australia/Melbourne:20251017T113000
DTSTAMP:20260424T024947
CREATED:20250717T225901Z
LAST-MODIFIED:20251016T011657Z
UID:10000550-1760693400-1760700600@earlyyearsonlinehub.org.au
SUMMARY:Lake Boga Smalltalk Supported Playgroup (0-5 years)
DESCRIPTION:Mallee Family Care’s Supported Playgroups and In Home Learning (IHL) sessions provide an opportunity for families to support children to play\, learn and prepare for kindergarten and school. Playgroups are also a great place to make friends. \nLake Boga Smalltalk Supported Playgroup is held from 9:30am until 11:30am each Friday at 15 Lalbert Road\, Lake Boga. \nAll Mallee Family Care Supported Playgroups\, IHL and 1:1 Support sessions are FREE and facilitated by qualified staff who support families in their parenting/caring journey. \nSessions are held during Victorian school terms.
URL:https://earlyyearsonlinehub.org.au/event/smalltalk-playgroup-lake-boga-0-5-years/2025-10-17/
LOCATION:Lake Boga Preschool\, 15 Lalbert Road\, LAKE BOGA\, VIC\, 3584\, Australia
CATEGORIES:Weekly Programs
ATTACH;FMTTYPE=image/png:https://earlyyearsonlinehub.org.au/wp-content/uploads/2025/06/mfc-playgroups.png
END:VEVENT
BEGIN:VEVENT
DTSTART;TZID=Australia/Melbourne:20251010T093000
DTEND;TZID=Australia/Melbourne:20251010T113000
DTSTAMP:20260424T024947
CREATED:20250717T225901Z
LAST-MODIFIED:20251016T011657Z
UID:10000549-1760088600-1760095800@earlyyearsonlinehub.org.au
SUMMARY:Lake Boga Smalltalk Supported Playgroup (0-5 years)
DESCRIPTION:Mallee Family Care’s Supported Playgroups and In Home Learning (IHL) sessions provide an opportunity for families to support children to play\, learn and prepare for kindergarten and school. Playgroups are also a great place to make friends. \nLake Boga Smalltalk Supported Playgroup is held from 9:30am until 11:30am each Friday at 15 Lalbert Road\, Lake Boga. \nAll Mallee Family Care Supported Playgroups\, IHL and 1:1 Support sessions are FREE and facilitated by qualified staff who support families in their parenting/caring journey. \nSessions are held during Victorian school terms.
URL:https://earlyyearsonlinehub.org.au/event/smalltalk-playgroup-lake-boga-0-5-years/2025-10-10/
LOCATION:Lake Boga Preschool\, 15 Lalbert Road\, LAKE BOGA\, VIC\, 3584\, Australia
CATEGORIES:Weekly Programs
ATTACH;FMTTYPE=image/png:https://earlyyearsonlinehub.org.au/wp-content/uploads/2025/06/mfc-playgroups.png
END:VEVENT
BEGIN:VEVENT
DTSTART;TZID=Australia/Melbourne:20250919T093000
DTEND;TZID=Australia/Melbourne:20250919T113000
DTSTAMP:20260424T024947
CREATED:20250717T225901Z
LAST-MODIFIED:20251016T011657Z
UID:10000546-1758274200-1758281400@earlyyearsonlinehub.org.au
SUMMARY:Lake Boga Smalltalk Supported Playgroup (0-5 years)
DESCRIPTION:Mallee Family Care’s Supported Playgroups and In Home Learning (IHL) sessions provide an opportunity for families to support children to play\, learn and prepare for kindergarten and school. Playgroups are also a great place to make friends. \nLake Boga Smalltalk Supported Playgroup is held from 9:30am until 11:30am each Friday at 15 Lalbert Road\, Lake Boga. \nAll Mallee Family Care Supported Playgroups\, IHL and 1:1 Support sessions are FREE and facilitated by qualified staff who support families in their parenting/caring journey. \nSessions are held during Victorian school terms.
URL:https://earlyyearsonlinehub.org.au/event/smalltalk-playgroup-lake-boga-0-5-years/2025-09-19/
LOCATION:Lake Boga Preschool\, 15 Lalbert Road\, LAKE BOGA\, VIC\, 3584\, Australia
CATEGORIES:Weekly Programs
ATTACH;FMTTYPE=image/png:https://earlyyearsonlinehub.org.au/wp-content/uploads/2025/06/mfc-playgroups.png
END:VEVENT
BEGIN:VEVENT
DTSTART;TZID=Australia/Melbourne:20250912T093000
DTEND;TZID=Australia/Melbourne:20250912T113000
DTSTAMP:20260424T024947
CREATED:20250717T225901Z
LAST-MODIFIED:20251016T011657Z
UID:10000545-1757669400-1757676600@earlyyearsonlinehub.org.au
SUMMARY:Lake Boga Smalltalk Supported Playgroup (0-5 years)
DESCRIPTION:Mallee Family Care’s Supported Playgroups and In Home Learning (IHL) sessions provide an opportunity for families to support children to play\, learn and prepare for kindergarten and school. Playgroups are also a great place to make friends. \nLake Boga Smalltalk Supported Playgroup is held from 9:30am until 11:30am each Friday at 15 Lalbert Road\, Lake Boga. \nAll Mallee Family Care Supported Playgroups\, IHL and 1:1 Support sessions are FREE and facilitated by qualified staff who support families in their parenting/caring journey. \nSessions are held during Victorian school terms.
URL:https://earlyyearsonlinehub.org.au/event/smalltalk-playgroup-lake-boga-0-5-years/2025-09-12/
LOCATION:Lake Boga Preschool\, 15 Lalbert Road\, LAKE BOGA\, VIC\, 3584\, Australia
CATEGORIES:Weekly Programs
ATTACH;FMTTYPE=image/png:https://earlyyearsonlinehub.org.au/wp-content/uploads/2025/06/mfc-playgroups.png
END:VEVENT
BEGIN:VEVENT
DTSTART;TZID=Australia/Melbourne:20250905T093000
DTEND;TZID=Australia/Melbourne:20250905T113000
DTSTAMP:20260424T024947
CREATED:20250717T225901Z
LAST-MODIFIED:20251016T011657Z
UID:10000544-1757064600-1757071800@earlyyearsonlinehub.org.au
SUMMARY:Lake Boga Smalltalk Supported Playgroup (0-5 years)
DESCRIPTION:Mallee Family Care’s Supported Playgroups and In Home Learning (IHL) sessions provide an opportunity for families to support children to play\, learn and prepare for kindergarten and school. Playgroups are also a great place to make friends. \nLake Boga Smalltalk Supported Playgroup is held from 9:30am until 11:30am each Friday at 15 Lalbert Road\, Lake Boga. \nAll Mallee Family Care Supported Playgroups\, IHL and 1:1 Support sessions are FREE and facilitated by qualified staff who support families in their parenting/caring journey. \nSessions are held during Victorian school terms.
URL:https://earlyyearsonlinehub.org.au/event/smalltalk-playgroup-lake-boga-0-5-years/2025-09-05/
LOCATION:Lake Boga Preschool\, 15 Lalbert Road\, LAKE BOGA\, VIC\, 3584\, Australia
CATEGORIES:Weekly Programs
ATTACH;FMTTYPE=image/png:https://earlyyearsonlinehub.org.au/wp-content/uploads/2025/06/mfc-playgroups.png
END:VEVENT
BEGIN:VEVENT
DTSTART;TZID=Australia/Melbourne:20250829T093000
DTEND;TZID=Australia/Melbourne:20250829T113000
DTSTAMP:20260424T024947
CREATED:20250717T225901Z
LAST-MODIFIED:20251016T011657Z
UID:10000543-1756459800-1756467000@earlyyearsonlinehub.org.au
SUMMARY:Lake Boga Smalltalk Supported Playgroup (0-5 years)
DESCRIPTION:Mallee Family Care’s Supported Playgroups and In Home Learning (IHL) sessions provide an opportunity for families to support children to play\, learn and prepare for kindergarten and school. Playgroups are also a great place to make friends. \nLake Boga Smalltalk Supported Playgroup is held from 9:30am until 11:30am each Friday at 15 Lalbert Road\, Lake Boga. \nAll Mallee Family Care Supported Playgroups\, IHL and 1:1 Support sessions are FREE and facilitated by qualified staff who support families in their parenting/caring journey. \nSessions are held during Victorian school terms.
URL:https://earlyyearsonlinehub.org.au/event/smalltalk-playgroup-lake-boga-0-5-years/2025-08-29/
LOCATION:Lake Boga Preschool\, 15 Lalbert Road\, LAKE BOGA\, VIC\, 3584\, Australia
CATEGORIES:Weekly Programs
ATTACH;FMTTYPE=image/png:https://earlyyearsonlinehub.org.au/wp-content/uploads/2025/06/mfc-playgroups.png
END:VEVENT
BEGIN:VEVENT
DTSTART;TZID=Australia/Melbourne:20250822T093000
DTEND;TZID=Australia/Melbourne:20250822T113000
DTSTAMP:20260424T024947
CREATED:20250717T225901Z
LAST-MODIFIED:20251016T011657Z
UID:10000542-1755855000-1755862200@earlyyearsonlinehub.org.au
SUMMARY:Lake Boga Smalltalk Supported Playgroup (0-5 years)
DESCRIPTION:Mallee Family Care’s Supported Playgroups and In Home Learning (IHL) sessions provide an opportunity for families to support children to play\, learn and prepare for kindergarten and school. Playgroups are also a great place to make friends. \nLake Boga Smalltalk Supported Playgroup is held from 9:30am until 11:30am each Friday at 15 Lalbert Road\, Lake Boga. \nAll Mallee Family Care Supported Playgroups\, IHL and 1:1 Support sessions are FREE and facilitated by qualified staff who support families in their parenting/caring journey. \nSessions are held during Victorian school terms.
URL:https://earlyyearsonlinehub.org.au/event/smalltalk-playgroup-lake-boga-0-5-years/2025-08-22/
LOCATION:Lake Boga Preschool\, 15 Lalbert Road\, LAKE BOGA\, VIC\, 3584\, Australia
CATEGORIES:Weekly Programs
ATTACH;FMTTYPE=image/png:https://earlyyearsonlinehub.org.au/wp-content/uploads/2025/06/mfc-playgroups.png
END:VEVENT
BEGIN:VEVENT
DTSTART;TZID=Australia/Melbourne:20250815T093000
DTEND;TZID=Australia/Melbourne:20250815T113000
DTSTAMP:20260424T024947
CREATED:20250717T225901Z
LAST-MODIFIED:20251016T011657Z
UID:10000541-1755250200-1755257400@earlyyearsonlinehub.org.au
SUMMARY:Lake Boga Smalltalk Supported Playgroup (0-5 years)
DESCRIPTION:Mallee Family Care’s Supported Playgroups and In Home Learning (IHL) sessions provide an opportunity for families to support children to play\, learn and prepare for kindergarten and school. Playgroups are also a great place to make friends. \nLake Boga Smalltalk Supported Playgroup is held from 9:30am until 11:30am each Friday at 15 Lalbert Road\, Lake Boga. \nAll Mallee Family Care Supported Playgroups\, IHL and 1:1 Support sessions are FREE and facilitated by qualified staff who support families in their parenting/caring journey. \nSessions are held during Victorian school terms.
URL:https://earlyyearsonlinehub.org.au/event/smalltalk-playgroup-lake-boga-0-5-years/2025-08-15/
LOCATION:Lake Boga Preschool\, 15 Lalbert Road\, LAKE BOGA\, VIC\, 3584\, Australia
CATEGORIES:Weekly Programs
ATTACH;FMTTYPE=image/png:https://earlyyearsonlinehub.org.au/wp-content/uploads/2025/06/mfc-playgroups.png
END:VEVENT
BEGIN:VEVENT
DTSTART;TZID=Australia/Melbourne:20250808T093000
DTEND;TZID=Australia/Melbourne:20250808T113000
DTSTAMP:20260424T024947
CREATED:20250717T225901Z
LAST-MODIFIED:20251016T011657Z
UID:10000540-1754645400-1754652600@earlyyearsonlinehub.org.au
SUMMARY:Lake Boga Smalltalk Supported Playgroup (0-5 years)
DESCRIPTION:Mallee Family Care’s Supported Playgroups and In Home Learning (IHL) sessions provide an opportunity for families to support children to play\, learn and prepare for kindergarten and school. Playgroups are also a great place to make friends. \nLake Boga Smalltalk Supported Playgroup is held from 9:30am until 11:30am each Friday at 15 Lalbert Road\, Lake Boga. \nAll Mallee Family Care Supported Playgroups\, IHL and 1:1 Support sessions are FREE and facilitated by qualified staff who support families in their parenting/caring journey. \nSessions are held during Victorian school terms.
URL:https://earlyyearsonlinehub.org.au/event/smalltalk-playgroup-lake-boga-0-5-years/2025-08-08/
LOCATION:Lake Boga Preschool\, 15 Lalbert Road\, LAKE BOGA\, VIC\, 3584\, Australia
CATEGORIES:Weekly Programs
ATTACH;FMTTYPE=image/png:https://earlyyearsonlinehub.org.au/wp-content/uploads/2025/06/mfc-playgroups.png
END:VEVENT
BEGIN:VEVENT
DTSTART;TZID=Australia/Melbourne:20250801T093000
DTEND;TZID=Australia/Melbourne:20250801T113000
DTSTAMP:20260424T024947
CREATED:20250717T225901Z
LAST-MODIFIED:20251016T011657Z
UID:10000539-1754040600-1754047800@earlyyearsonlinehub.org.au
SUMMARY:Lake Boga Smalltalk Supported Playgroup (0-5 years)
DESCRIPTION:Mallee Family Care’s Supported Playgroups and In Home Learning (IHL) sessions provide an opportunity for families to support children to play\, learn and prepare for kindergarten and school. Playgroups are also a great place to make friends. \nLake Boga Smalltalk Supported Playgroup is held from 9:30am until 11:30am each Friday at 15 Lalbert Road\, Lake Boga. \nAll Mallee Family Care Supported Playgroups\, IHL and 1:1 Support sessions are FREE and facilitated by qualified staff who support families in their parenting/caring journey. \nSessions are held during Victorian school terms.
URL:https://earlyyearsonlinehub.org.au/event/smalltalk-playgroup-lake-boga-0-5-years/2025-08-01/
LOCATION:Lake Boga Preschool\, 15 Lalbert Road\, LAKE BOGA\, VIC\, 3584\, Australia
CATEGORIES:Weekly Programs
ATTACH;FMTTYPE=image/png:https://earlyyearsonlinehub.org.au/wp-content/uploads/2025/06/mfc-playgroups.png
END:VEVENT
BEGIN:VEVENT
DTSTART;TZID=Australia/Melbourne:20250725T093000
DTEND;TZID=Australia/Melbourne:20250725T113000
DTSTAMP:20260424T024947
CREATED:20250717T225901Z
LAST-MODIFIED:20251016T011657Z
UID:10000020-1753435800-1753443000@earlyyearsonlinehub.org.au
SUMMARY:Lake Boga Smalltalk Supported Playgroup (0-5 years)
DESCRIPTION:Mallee Family Care’s Supported Playgroups and In Home Learning (IHL) sessions provide an opportunity for families to support children to play\, learn and prepare for kindergarten and school. Playgroups are also a great place to make friends. \nLake Boga Smalltalk Supported Playgroup is held from 9:30am until 11:30am each Friday at 15 Lalbert Road\, Lake Boga. \nAll Mallee Family Care Supported Playgroups\, IHL and 1:1 Support sessions are FREE and facilitated by qualified staff who support families in their parenting/caring journey. \nSessions are held during Victorian school terms.
URL:https://earlyyearsonlinehub.org.au/event/smalltalk-playgroup-lake-boga-0-5-years/2025-07-25/2/
LOCATION:Lake Boga Preschool\, 15 Lalbert Road\, LAKE BOGA\, VIC\, 3584\, Australia
CATEGORIES:Weekly Programs
ATTACH;FMTTYPE=image/png:https://earlyyearsonlinehub.org.au/wp-content/uploads/2025/06/mfc-playgroups.png
END:VEVENT
BEGIN:VEVENT
DTSTART;TZID=Australia/Melbourne:20250725T080000
DTEND;TZID=Australia/Melbourne:20250725T170000
DTSTAMP:20260424T024947
CREATED:20250717T225901Z
LAST-MODIFIED:20251016T011657Z
UID:10004521-1753430400-1753462800@earlyyearsonlinehub.org.au
SUMMARY:Lake Boga Smalltalk Supported Playgroup (0-5 years)
DESCRIPTION:Mallee Family Care’s Supported Playgroups and In Home Learning (IHL) sessions provide an opportunity for families to support children to play\, learn and prepare for kindergarten and school. Playgroups are also a great place to make friends. \nLake Boga Smalltalk Supported Playgroup is held from 9:30am until 11:30am each Friday at 15 Lalbert Road\, Lake Boga. \nAll Mallee Family Care Supported Playgroups\, IHL and 1:1 Support sessions are FREE and facilitated by qualified staff who support families in their parenting/caring journey. \nSessions are held during Victorian school terms.
URL:https://earlyyearsonlinehub.org.au/event/smalltalk-playgroup-lake-boga-0-5-years/2025-07-25/1/
LOCATION:Lake Boga Preschool\, 15 Lalbert Road\, LAKE BOGA\, VIC\, 3584\, Australia
CATEGORIES:Weekly Programs
ATTACH;FMTTYPE=image/png:https://earlyyearsonlinehub.org.au/wp-content/uploads/2025/06/mfc-playgroups.png
END:VEVENT
END:VCALENDAR