BEGIN:VCALENDAR
VERSION:2.0
PRODID:-//Early Years Online Hub - ECPv6.15.20//NONSGML v1.0//EN
CALSCALE:GREGORIAN
METHOD:PUBLISH
X-WR-CALNAME:Early Years Online Hub
X-ORIGINAL-URL:https://earlyyearsonlinehub.org.au
X-WR-CALDESC:Events for Early Years Online Hub
REFRESH-INTERVAL;VALUE=DURATION:PT1H
X-Robots-Tag:noindex
X-PUBLISHED-TTL:PT1H
BEGIN:VTIMEZONE
TZID:Australia/Melbourne
BEGIN:STANDARD
TZOFFSETFROM:+1100
TZOFFSETTO:+1000
TZNAME:AEST
DTSTART:20240406T160000
END:STANDARD
BEGIN:DAYLIGHT
TZOFFSETFROM:+1000
TZOFFSETTO:+1100
TZNAME:AEDT
DTSTART:20241005T160000
END:DAYLIGHT
BEGIN:STANDARD
TZOFFSETFROM:+1100
TZOFFSETTO:+1000
TZNAME:AEST
DTSTART:20250405T160000
END:STANDARD
BEGIN:DAYLIGHT
TZOFFSETFROM:+1000
TZOFFSETTO:+1100
TZNAME:AEDT
DTSTART:20251004T160000
END:DAYLIGHT
BEGIN:STANDARD
TZOFFSETFROM:+1100
TZOFFSETTO:+1000
TZNAME:AEST
DTSTART:20260404T160000
END:STANDARD
BEGIN:DAYLIGHT
TZOFFSETFROM:+1000
TZOFFSETTO:+1100
TZNAME:AEDT
DTSTART:20261003T160000
END:DAYLIGHT
END:VTIMEZONE
BEGIN:VEVENT
DTSTART;TZID=Australia/Melbourne:20250904T093000
DTEND;TZID=Australia/Melbourne:20250904T110000
DTSTAMP:20260424T081146
CREATED:20250804T000527Z
LAST-MODIFIED:20251013T224222Z
UID:10006952-1756978200-1756983600@earlyyearsonlinehub.org.au
SUMMARY:Swan Hill Breastfeeding Group
DESCRIPTION:Come together with other parents and carers to find support and share experiences of your infant feeding journey. A free community group\, with our local breastfeeding support service in attendance most weeks to help answer any of your questions. \nGroup runs weekly on Thursdays from 9:30am – 11am at the Child and Family Hub on 63 McCrae Street\, Swan Hill. Check eat.move.smile Facebook for updates or contact Tara at thiggins@shdh.org.au for more information.
URL:https://earlyyearsonlinehub.org.au/event/swan-hill-breastfeeding-group/2025-09-04/
LOCATION:Child & Family Hub\, 63 McCrae St\, SWAN HILL\, VIC\, 3585\, Australia
CATEGORIES:Weekly Programs
ATTACH;FMTTYPE=image/jpeg:https://earlyyearsonlinehub.org.au/wp-content/uploads/2025/08/breastfeeding-group-1.jpg
END:VEVENT
BEGIN:VEVENT
DTSTART;TZID=Australia/Melbourne:20250903T093000
DTEND;TZID=Australia/Melbourne:20250903T113000
DTSTAMP:20260424T081146
CREATED:20250717T225027Z
LAST-MODIFIED:20251016T012808Z
UID:10002104-1756891800-1756899000@earlyyearsonlinehub.org.au
SUMMARY:Child & Family Hub Smalltalk Supported Playgroup (0-5 years)
DESCRIPTION:Mallee Family Care’s Supported Playgroups and In Home Learning (IHL) sessions provide an opportunity for families to support children to play\, learn and prepare for kindergarten and school. Playgroups are also a great place to make friends. \nChild & Family Hub Smalltalk Supported Playgroups are held from 9:30am until 11:30am\, on Wednesday’s at the The Child & Family Hub 63 McCrae Street\, Swan Hill \nAll our Supported Playgroups\, IHL and 1:1 Support sessions are FREE and facilitated by qualified staff who support families in their parenting/caring journey. \nSessions are held during Victorian school terms.
URL:https://earlyyearsonlinehub.org.au/event/smalltalk-playgroup-child-family-hub-0-5-years/2025-09-03/
LOCATION:Child & Family Hub\, 63 McCrae St\, SWAN HILL\, VIC\, 3585\, Australia
CATEGORIES:Weekly Programs
ATTACH;FMTTYPE=image/png:https://earlyyearsonlinehub.org.au/wp-content/uploads/2025/06/mfc-playgroups.png
END:VEVENT
BEGIN:VEVENT
DTSTART;TZID=Australia/Melbourne:20250828T093000
DTEND;TZID=Australia/Melbourne:20250828T110000
DTSTAMP:20260424T081146
CREATED:20250804T000527Z
LAST-MODIFIED:20251013T224222Z
UID:10006951-1756373400-1756378800@earlyyearsonlinehub.org.au
SUMMARY:Swan Hill Breastfeeding Group
DESCRIPTION:Come together with other parents and carers to find support and share experiences of your infant feeding journey. A free community group\, with our local breastfeeding support service in attendance most weeks to help answer any of your questions. \nGroup runs weekly on Thursdays from 9:30am – 11am at the Child and Family Hub on 63 McCrae Street\, Swan Hill. Check eat.move.smile Facebook for updates or contact Tara at thiggins@shdh.org.au for more information.
URL:https://earlyyearsonlinehub.org.au/event/swan-hill-breastfeeding-group/2025-08-28/
LOCATION:Child & Family Hub\, 63 McCrae St\, SWAN HILL\, VIC\, 3585\, Australia
CATEGORIES:Weekly Programs
ATTACH;FMTTYPE=image/jpeg:https://earlyyearsonlinehub.org.au/wp-content/uploads/2025/08/breastfeeding-group-1.jpg
END:VEVENT
BEGIN:VEVENT
DTSTART;TZID=Australia/Melbourne:20250827T093000
DTEND;TZID=Australia/Melbourne:20250827T113000
DTSTAMP:20260424T081146
CREATED:20250717T225027Z
LAST-MODIFIED:20251016T012808Z
UID:10002103-1756287000-1756294200@earlyyearsonlinehub.org.au
SUMMARY:Child & Family Hub Smalltalk Supported Playgroup (0-5 years)
DESCRIPTION:Mallee Family Care’s Supported Playgroups and In Home Learning (IHL) sessions provide an opportunity for families to support children to play\, learn and prepare for kindergarten and school. Playgroups are also a great place to make friends. \nChild & Family Hub Smalltalk Supported Playgroups are held from 9:30am until 11:30am\, on Wednesday’s at the The Child & Family Hub 63 McCrae Street\, Swan Hill \nAll our Supported Playgroups\, IHL and 1:1 Support sessions are FREE and facilitated by qualified staff who support families in their parenting/caring journey. \nSessions are held during Victorian school terms.
URL:https://earlyyearsonlinehub.org.au/event/smalltalk-playgroup-child-family-hub-0-5-years/2025-08-27/
LOCATION:Child & Family Hub\, 63 McCrae St\, SWAN HILL\, VIC\, 3585\, Australia
CATEGORIES:Weekly Programs
ATTACH;FMTTYPE=image/png:https://earlyyearsonlinehub.org.au/wp-content/uploads/2025/06/mfc-playgroups.png
END:VEVENT
BEGIN:VEVENT
DTSTART;TZID=Australia/Melbourne:20250821T093000
DTEND;TZID=Australia/Melbourne:20250821T110000
DTSTAMP:20260424T081146
CREATED:20250804T000527Z
LAST-MODIFIED:20251013T224222Z
UID:10006950-1755768600-1755774000@earlyyearsonlinehub.org.au
SUMMARY:Swan Hill Breastfeeding Group
DESCRIPTION:Come together with other parents and carers to find support and share experiences of your infant feeding journey. A free community group\, with our local breastfeeding support service in attendance most weeks to help answer any of your questions. \nGroup runs weekly on Thursdays from 9:30am – 11am at the Child and Family Hub on 63 McCrae Street\, Swan Hill. Check eat.move.smile Facebook for updates or contact Tara at thiggins@shdh.org.au for more information.
URL:https://earlyyearsonlinehub.org.au/event/swan-hill-breastfeeding-group/2025-08-21/
LOCATION:Child & Family Hub\, 63 McCrae St\, SWAN HILL\, VIC\, 3585\, Australia
CATEGORIES:Weekly Programs
ATTACH;FMTTYPE=image/jpeg:https://earlyyearsonlinehub.org.au/wp-content/uploads/2025/08/breastfeeding-group-1.jpg
END:VEVENT
BEGIN:VEVENT
DTSTART;TZID=Australia/Melbourne:20250820T093000
DTEND;TZID=Australia/Melbourne:20250820T113000
DTSTAMP:20260424T081146
CREATED:20250717T225027Z
LAST-MODIFIED:20251016T012808Z
UID:10002102-1755682200-1755689400@earlyyearsonlinehub.org.au
SUMMARY:Child & Family Hub Smalltalk Supported Playgroup (0-5 years)
DESCRIPTION:Mallee Family Care’s Supported Playgroups and In Home Learning (IHL) sessions provide an opportunity for families to support children to play\, learn and prepare for kindergarten and school. Playgroups are also a great place to make friends. \nChild & Family Hub Smalltalk Supported Playgroups are held from 9:30am until 11:30am\, on Wednesday’s at the The Child & Family Hub 63 McCrae Street\, Swan Hill \nAll our Supported Playgroups\, IHL and 1:1 Support sessions are FREE and facilitated by qualified staff who support families in their parenting/caring journey. \nSessions are held during Victorian school terms.
URL:https://earlyyearsonlinehub.org.au/event/smalltalk-playgroup-child-family-hub-0-5-years/2025-08-20/
LOCATION:Child & Family Hub\, 63 McCrae St\, SWAN HILL\, VIC\, 3585\, Australia
CATEGORIES:Weekly Programs
ATTACH;FMTTYPE=image/png:https://earlyyearsonlinehub.org.au/wp-content/uploads/2025/06/mfc-playgroups.png
END:VEVENT
BEGIN:VEVENT
DTSTART;TZID=Australia/Melbourne:20250814T093000
DTEND;TZID=Australia/Melbourne:20250814T110000
DTSTAMP:20260424T081146
CREATED:20250804T000527Z
LAST-MODIFIED:20251013T224222Z
UID:10006949-1755163800-1755169200@earlyyearsonlinehub.org.au
SUMMARY:Swan Hill Breastfeeding Group
DESCRIPTION:Come together with other parents and carers to find support and share experiences of your infant feeding journey. A free community group\, with our local breastfeeding support service in attendance most weeks to help answer any of your questions. \nGroup runs weekly on Thursdays from 9:30am – 11am at the Child and Family Hub on 63 McCrae Street\, Swan Hill. Check eat.move.smile Facebook for updates or contact Tara at thiggins@shdh.org.au for more information.
URL:https://earlyyearsonlinehub.org.au/event/swan-hill-breastfeeding-group/2025-08-14/
LOCATION:Child & Family Hub\, 63 McCrae St\, SWAN HILL\, VIC\, 3585\, Australia
CATEGORIES:Weekly Programs
ATTACH;FMTTYPE=image/jpeg:https://earlyyearsonlinehub.org.au/wp-content/uploads/2025/08/breastfeeding-group-1.jpg
END:VEVENT
BEGIN:VEVENT
DTSTART;TZID=Australia/Melbourne:20250813T093000
DTEND;TZID=Australia/Melbourne:20250813T113000
DTSTAMP:20260424T081146
CREATED:20250717T225027Z
LAST-MODIFIED:20251016T012808Z
UID:10002101-1755077400-1755084600@earlyyearsonlinehub.org.au
SUMMARY:Child & Family Hub Smalltalk Supported Playgroup (0-5 years)
DESCRIPTION:Mallee Family Care’s Supported Playgroups and In Home Learning (IHL) sessions provide an opportunity for families to support children to play\, learn and prepare for kindergarten and school. Playgroups are also a great place to make friends. \nChild & Family Hub Smalltalk Supported Playgroups are held from 9:30am until 11:30am\, on Wednesday’s at the The Child & Family Hub 63 McCrae Street\, Swan Hill \nAll our Supported Playgroups\, IHL and 1:1 Support sessions are FREE and facilitated by qualified staff who support families in their parenting/caring journey. \nSessions are held during Victorian school terms.
URL:https://earlyyearsonlinehub.org.au/event/smalltalk-playgroup-child-family-hub-0-5-years/2025-08-13/
LOCATION:Child & Family Hub\, 63 McCrae St\, SWAN HILL\, VIC\, 3585\, Australia
CATEGORIES:Weekly Programs
ATTACH;FMTTYPE=image/png:https://earlyyearsonlinehub.org.au/wp-content/uploads/2025/06/mfc-playgroups.png
END:VEVENT
BEGIN:VEVENT
DTSTART;TZID=Australia/Melbourne:20250807T093000
DTEND;TZID=Australia/Melbourne:20250807T110000
DTSTAMP:20260424T081146
CREATED:20250804T000527Z
LAST-MODIFIED:20251013T224222Z
UID:10003739-1754559000-1754564400@earlyyearsonlinehub.org.au
SUMMARY:Swan Hill Breastfeeding Group
DESCRIPTION:Come together with other parents and carers to find support and share experiences of your infant feeding journey. A free community group\, with our local breastfeeding support service in attendance most weeks to help answer any of your questions. \nGroup runs weekly on Thursdays from 9:30am – 11am at the Child and Family Hub on 63 McCrae Street\, Swan Hill. Check eat.move.smile Facebook for updates or contact Tara at thiggins@shdh.org.au for more information.
URL:https://earlyyearsonlinehub.org.au/event/swan-hill-breastfeeding-group/2025-08-07/
LOCATION:Child & Family Hub\, 63 McCrae St\, SWAN HILL\, VIC\, 3585\, Australia
CATEGORIES:Weekly Programs
ATTACH;FMTTYPE=image/jpeg:https://earlyyearsonlinehub.org.au/wp-content/uploads/2025/08/breastfeeding-group-1.jpg
END:VEVENT
BEGIN:VEVENT
DTSTART;TZID=Australia/Melbourne:20250806T093000
DTEND;TZID=Australia/Melbourne:20250806T113000
DTSTAMP:20260424T081146
CREATED:20250717T225027Z
LAST-MODIFIED:20251016T012808Z
UID:10002100-1754472600-1754479800@earlyyearsonlinehub.org.au
SUMMARY:Child & Family Hub Smalltalk Supported Playgroup (0-5 years)
DESCRIPTION:Mallee Family Care’s Supported Playgroups and In Home Learning (IHL) sessions provide an opportunity for families to support children to play\, learn and prepare for kindergarten and school. Playgroups are also a great place to make friends. \nChild & Family Hub Smalltalk Supported Playgroups are held from 9:30am until 11:30am\, on Wednesday’s at the The Child & Family Hub 63 McCrae Street\, Swan Hill \nAll our Supported Playgroups\, IHL and 1:1 Support sessions are FREE and facilitated by qualified staff who support families in their parenting/caring journey. \nSessions are held during Victorian school terms.
URL:https://earlyyearsonlinehub.org.au/event/smalltalk-playgroup-child-family-hub-0-5-years/2025-08-06/
LOCATION:Child & Family Hub\, 63 McCrae St\, SWAN HILL\, VIC\, 3585\, Australia
CATEGORIES:Weekly Programs
ATTACH;FMTTYPE=image/png:https://earlyyearsonlinehub.org.au/wp-content/uploads/2025/06/mfc-playgroups.png
END:VEVENT
BEGIN:VEVENT
DTSTART;TZID=Australia/Melbourne:20250730T093000
DTEND;TZID=Australia/Melbourne:20250730T113000
DTSTAMP:20260424T081146
CREATED:20250717T225027Z
LAST-MODIFIED:20251016T012808Z
UID:10002099-1753867800-1753875000@earlyyearsonlinehub.org.au
SUMMARY:Child & Family Hub Smalltalk Supported Playgroup (0-5 years)
DESCRIPTION:Mallee Family Care’s Supported Playgroups and In Home Learning (IHL) sessions provide an opportunity for families to support children to play\, learn and prepare for kindergarten and school. Playgroups are also a great place to make friends. \nChild & Family Hub Smalltalk Supported Playgroups are held from 9:30am until 11:30am\, on Wednesday’s at the The Child & Family Hub 63 McCrae Street\, Swan Hill \nAll our Supported Playgroups\, IHL and 1:1 Support sessions are FREE and facilitated by qualified staff who support families in their parenting/caring journey. \nSessions are held during Victorian school terms.
URL:https://earlyyearsonlinehub.org.au/event/smalltalk-playgroup-child-family-hub-0-5-years/2025-07-30/
LOCATION:Child & Family Hub\, 63 McCrae St\, SWAN HILL\, VIC\, 3585\, Australia
CATEGORIES:Weekly Programs
ATTACH;FMTTYPE=image/png:https://earlyyearsonlinehub.org.au/wp-content/uploads/2025/06/mfc-playgroups.png
END:VEVENT
BEGIN:VEVENT
DTSTART;TZID=Australia/Melbourne:20250723T093000
DTEND;TZID=Australia/Melbourne:20250723T113000
DTSTAMP:20260424T081146
CREATED:20250717T225027Z
LAST-MODIFIED:20251016T012808Z
UID:10000017-1753263000-1753270200@earlyyearsonlinehub.org.au
SUMMARY:Child & Family Hub Smalltalk Supported Playgroup (0-5 years)
DESCRIPTION:Mallee Family Care’s Supported Playgroups and In Home Learning (IHL) sessions provide an opportunity for families to support children to play\, learn and prepare for kindergarten and school. Playgroups are also a great place to make friends. \nChild & Family Hub Smalltalk Supported Playgroups are held from 9:30am until 11:30am\, on Wednesday’s at the The Child & Family Hub 63 McCrae Street\, Swan Hill \nAll our Supported Playgroups\, IHL and 1:1 Support sessions are FREE and facilitated by qualified staff who support families in their parenting/caring journey. \nSessions are held during Victorian school terms.
URL:https://earlyyearsonlinehub.org.au/event/smalltalk-playgroup-child-family-hub-0-5-years/2025-07-23/
LOCATION:Child & Family Hub\, 63 McCrae St\, SWAN HILL\, VIC\, 3585\, Australia
CATEGORIES:Weekly Programs
ATTACH;FMTTYPE=image/png:https://earlyyearsonlinehub.org.au/wp-content/uploads/2025/06/mfc-playgroups.png
END:VEVENT
END:VCALENDAR