BEGIN:VCALENDAR
VERSION:2.0
PRODID:-//Early Years Online Hub - ECPv6.15.20//NONSGML v1.0//EN
CALSCALE:GREGORIAN
METHOD:PUBLISH
X-WR-CALNAME:Early Years Online Hub
X-ORIGINAL-URL:https://earlyyearsonlinehub.org.au
X-WR-CALDESC:Events for Early Years Online Hub
REFRESH-INTERVAL;VALUE=DURATION:PT1H
X-Robots-Tag:noindex
X-PUBLISHED-TTL:PT1H
BEGIN:VTIMEZONE
TZID:Australia/Melbourne
BEGIN:STANDARD
TZOFFSETFROM:+1100
TZOFFSETTO:+1000
TZNAME:AEST
DTSTART:20240406T160000
END:STANDARD
BEGIN:DAYLIGHT
TZOFFSETFROM:+1000
TZOFFSETTO:+1100
TZNAME:AEDT
DTSTART:20241005T160000
END:DAYLIGHT
BEGIN:STANDARD
TZOFFSETFROM:+1100
TZOFFSETTO:+1000
TZNAME:AEST
DTSTART:20250405T160000
END:STANDARD
BEGIN:DAYLIGHT
TZOFFSETFROM:+1000
TZOFFSETTO:+1100
TZNAME:AEDT
DTSTART:20251004T160000
END:DAYLIGHT
BEGIN:STANDARD
TZOFFSETFROM:+1100
TZOFFSETTO:+1000
TZNAME:AEST
DTSTART:20260404T160000
END:STANDARD
BEGIN:DAYLIGHT
TZOFFSETFROM:+1000
TZOFFSETTO:+1100
TZNAME:AEDT
DTSTART:20261003T160000
END:DAYLIGHT
END:VTIMEZONE
BEGIN:VEVENT
DTSTART;TZID=Australia/Melbourne:20250806T103000
DTEND;TZID=Australia/Melbourne:20250806T111500
DTSTAMP:20260424T064644
CREATED:20250729T225134Z
LAST-MODIFIED:20251013T224302Z
UID:10007761-1754476200-1754478900@earlyyearsonlinehub.org.au
SUMMARY:Move and Groove - Swan Hill Library
DESCRIPTION:Move and Groove sessions at the Swan Hill Regional Library on Wednesdays are aimed at ages 18 months to 3 years but children of all ages are welcome. \nThese highly interactive free sessions are tailored for a toddler’s social\, emotional and physical development. Children are encouraged to move as they sing\, dance and shake their way through action rhymes and songs. Maracas\, a parachute and other simple props are used to engage and enthral the children. \nThe session includes a short\, interactive story. If they choose to\, children can also do a basic craft activity at the end of the session.
URL:https://earlyyearsonlinehub.org.au/event/move-and-groove-swan-hill-library/2025-08-06/
LOCATION:Swan Hill Library\, 53-67 Campbell Street\, Swan Hill\, Victoria\, 3585\, Australia
CATEGORIES:Weekly Programs
ATTACH;FMTTYPE=image/png:https://earlyyearsonlinehub.org.au/wp-content/uploads/2025/07/moveandgroove.png
END:VEVENT
BEGIN:VEVENT
DTSTART;TZID=Australia/Melbourne:20250802T103000
DTEND;TZID=Australia/Melbourne:20250802T111500
DTSTAMP:20260424T064644
CREATED:20250729T233836Z
LAST-MODIFIED:20251013T224233Z
UID:10003677-1754130600-1754133300@earlyyearsonlinehub.org.au
SUMMARY:Storytime - Swan Hill Library
DESCRIPTION:Storytime on Saturdays at the Swan Hill Library is an engaging session with stories\, action rhymes and craft. It supports children to develop their literacy skills in a fun and inclusive environment. \nStorytime sessions are aimed at primary school aged children\, but children of all ages are welcome.
URL:https://earlyyearsonlinehub.org.au/event/storytime-swan-hill-library/2025-08-02/
LOCATION:Swan Hill Library\, 53-67 Campbell Street\, Swan Hill\, Victoria\, 3585\, Australia
CATEGORIES:Weekly Programs
ATTACH;FMTTYPE=image/jpeg:https://earlyyearsonlinehub.org.au/wp-content/uploads/2025/07/shstorytime.jpg
END:VEVENT
BEGIN:VEVENT
DTSTART;TZID=Australia/Melbourne:20250801T103000
DTEND;TZID=Australia/Melbourne:20250801T110000
DTSTAMP:20260424T064644
CREATED:20250729T233622Z
LAST-MODIFIED:20251013T224250Z
UID:10003676-1754044200-1754046000@earlyyearsonlinehub.org.au
SUMMARY:Baby Rhyme Time - Swan Hill Library
DESCRIPTION:Baby Rhyme Time held on Friday mornings at the Swan Hill Regional Library \nBaby Rhyme Time is a fun and interactive session for parents and carers with babies under 18 months old. It promotes the development of your baby’s literacy skills through interactive rhymes and songs.
URL:https://earlyyearsonlinehub.org.au/event/baby-rhyme-time-swan-hill-library/2025-08-01/
LOCATION:Swan Hill Library\, 53-67 Campbell Street\, Swan Hill\, Victoria\, 3585\, Australia
CATEGORIES:Weekly Programs
ATTACH;FMTTYPE=image/png:https://earlyyearsonlinehub.org.au/wp-content/uploads/2025/07/rhyme-time.png
END:VEVENT
BEGIN:VEVENT
DTSTART;TZID=Australia/Melbourne:20250730T103000
DTEND;TZID=Australia/Melbourne:20250730T111500
DTSTAMP:20260424T064644
CREATED:20250729T225134Z
LAST-MODIFIED:20251013T224302Z
UID:10003675-1753871400-1753874100@earlyyearsonlinehub.org.au
SUMMARY:Move and Groove - Swan Hill Library
DESCRIPTION:Move and Groove sessions at the Swan Hill Regional Library on Wednesdays are aimed at ages 18 months to 3 years but children of all ages are welcome. \nThese highly interactive free sessions are tailored for a toddler’s social\, emotional and physical development. Children are encouraged to move as they sing\, dance and shake their way through action rhymes and songs. Maracas\, a parachute and other simple props are used to engage and enthral the children. \nThe session includes a short\, interactive story. If they choose to\, children can also do a basic craft activity at the end of the session.
URL:https://earlyyearsonlinehub.org.au/event/move-and-groove-swan-hill-library/2025-07-30/
LOCATION:Swan Hill Library\, 53-67 Campbell Street\, Swan Hill\, Victoria\, 3585\, Australia
CATEGORIES:Weekly Programs
ATTACH;FMTTYPE=image/png:https://earlyyearsonlinehub.org.au/wp-content/uploads/2025/07/moveandgroove.png
END:VEVENT
END:VCALENDAR