BEGIN:VCALENDAR
VERSION:2.0
PRODID:-//Early Years Online Hub - ECPv6.15.20//NONSGML v1.0//EN
CALSCALE:GREGORIAN
METHOD:PUBLISH
X-ORIGINAL-URL:https://earlyyearsonlinehub.org.au
X-WR-CALDESC:Events for Early Years Online Hub
REFRESH-INTERVAL;VALUE=DURATION:PT1H
X-Robots-Tag:noindex
X-PUBLISHED-TTL:PT1H
BEGIN:VTIMEZONE
TZID:Australia/Melbourne
BEGIN:STANDARD
TZOFFSETFROM:+1100
TZOFFSETTO:+1000
TZNAME:AEST
DTSTART:20240406T160000
END:STANDARD
BEGIN:DAYLIGHT
TZOFFSETFROM:+1000
TZOFFSETTO:+1100
TZNAME:AEDT
DTSTART:20241005T160000
END:DAYLIGHT
BEGIN:STANDARD
TZOFFSETFROM:+1100
TZOFFSETTO:+1000
TZNAME:AEST
DTSTART:20250405T160000
END:STANDARD
BEGIN:DAYLIGHT
TZOFFSETFROM:+1000
TZOFFSETTO:+1100
TZNAME:AEDT
DTSTART:20251004T160000
END:DAYLIGHT
BEGIN:STANDARD
TZOFFSETFROM:+1100
TZOFFSETTO:+1000
TZNAME:AEST
DTSTART:20260404T160000
END:STANDARD
BEGIN:DAYLIGHT
TZOFFSETFROM:+1000
TZOFFSETTO:+1100
TZNAME:AEDT
DTSTART:20261003T160000
END:DAYLIGHT
END:VTIMEZONE
BEGIN:VEVENT
DTSTART;TZID=Australia/Melbourne:20251015T190000
DTEND;TZID=Australia/Melbourne:20251015T203000
DTSTAMP:20260424T063331
CREATED:20250901T003031Z
LAST-MODIFIED:20251013T224052Z
UID:10006421-1760554800-1760560200@earlyyearsonlinehub.org.au
SUMMARY:Trans & Gender Diverse Social Support Group - Swan Hill
DESCRIPTION:Are you transgender or gender diverse and looking to connect with others in a safe\, supportive\, and welcoming space?\n\n\n\nCome along to the social support group for trans and gender diverse adults (18+) in Swan Hill! This group is all about creating positive peer connections\, sharing lived experiences\, and accessing local resources together.\n\n\n\nTo be held on Wednesdays at the Swan Hill Library from 7:00pm – 8:30pm\nBonus: Free pizza provided!\n\n\n\nWhether you’re looking for support\, new friends\, or just a space where you can be your authentic self – come along. No pressure\, no expectations\, just community.\n\n\n\nEveryone is welcome\n\n\n\nFor more info contact the Swan Hill District Health Community Health team on 03 5033 9337
URL:https://earlyyearsonlinehub.org.au/event/trans-gender-diverse-social-support-group-swan-hill/2025-10-15/
LOCATION:Swan Hill Library\, 53-67 Campbell Street\, Swan Hill\, Victoria\, 3585\, Australia
CATEGORIES:Weekly Programs
ATTACH;FMTTYPE=image/jpeg:https://earlyyearsonlinehub.org.au/wp-content/uploads/2025/09/538368146_1192432636238441_4659953393942193427_n.jpg
END:VEVENT
BEGIN:VEVENT
DTSTART;TZID=Australia/Melbourne:20251009T093000
DTEND;TZID=Australia/Melbourne:20251009T110000
DTSTAMP:20260424T063331
CREATED:20250804T000527Z
LAST-MODIFIED:20251013T224222Z
UID:10006957-1760002200-1760007600@earlyyearsonlinehub.org.au
SUMMARY:Swan Hill Breastfeeding Group
DESCRIPTION:Come together with other parents and carers to find support and share experiences of your infant feeding journey. A free community group\, with our local breastfeeding support service in attendance most weeks to help answer any of your questions. \nGroup runs weekly on Thursdays from 9:30am – 11am at the Child and Family Hub on 63 McCrae Street\, Swan Hill. Check eat.move.smile Facebook for updates or contact Tara at thiggins@shdh.org.au for more information.
URL:https://earlyyearsonlinehub.org.au/event/swan-hill-breastfeeding-group/2025-10-09/
LOCATION:Child & Family Hub\, 63 McCrae St\, SWAN HILL\, VIC\, 3585\, Australia
CATEGORIES:Weekly Programs
ATTACH;FMTTYPE=image/jpeg:https://earlyyearsonlinehub.org.au/wp-content/uploads/2025/08/breastfeeding-group-1.jpg
END:VEVENT
BEGIN:VEVENT
DTSTART;TZID=Australia/Melbourne:20251008T190000
DTEND;TZID=Australia/Melbourne:20251008T203000
DTSTAMP:20260424T063331
CREATED:20250901T003031Z
LAST-MODIFIED:20251013T224052Z
UID:10006420-1759950000-1759955400@earlyyearsonlinehub.org.au
SUMMARY:Trans & Gender Diverse Social Support Group - Swan Hill
DESCRIPTION:Are you transgender or gender diverse and looking to connect with others in a safe\, supportive\, and welcoming space?\n\n\n\nCome along to the social support group for trans and gender diverse adults (18+) in Swan Hill! This group is all about creating positive peer connections\, sharing lived experiences\, and accessing local resources together.\n\n\n\nTo be held on Wednesdays at the Swan Hill Library from 7:00pm – 8:30pm\nBonus: Free pizza provided!\n\n\n\nWhether you’re looking for support\, new friends\, or just a space where you can be your authentic self – come along. No pressure\, no expectations\, just community.\n\n\n\nEveryone is welcome\n\n\n\nFor more info contact the Swan Hill District Health Community Health team on 03 5033 9337
URL:https://earlyyearsonlinehub.org.au/event/trans-gender-diverse-social-support-group-swan-hill/2025-10-08/
LOCATION:Swan Hill Library\, 53-67 Campbell Street\, Swan Hill\, Victoria\, 3585\, Australia
CATEGORIES:Weekly Programs
ATTACH;FMTTYPE=image/jpeg:https://earlyyearsonlinehub.org.au/wp-content/uploads/2025/09/538368146_1192432636238441_4659953393942193427_n.jpg
END:VEVENT
BEGIN:VEVENT
DTSTART;TZID=Australia/Melbourne:20251002T093000
DTEND;TZID=Australia/Melbourne:20251002T110000
DTSTAMP:20260424T063331
CREATED:20250804T000527Z
LAST-MODIFIED:20251013T224222Z
UID:10006956-1759397400-1759402800@earlyyearsonlinehub.org.au
SUMMARY:Swan Hill Breastfeeding Group
DESCRIPTION:Come together with other parents and carers to find support and share experiences of your infant feeding journey. A free community group\, with our local breastfeeding support service in attendance most weeks to help answer any of your questions. \nGroup runs weekly on Thursdays from 9:30am – 11am at the Child and Family Hub on 63 McCrae Street\, Swan Hill. Check eat.move.smile Facebook for updates or contact Tara at thiggins@shdh.org.au for more information.
URL:https://earlyyearsonlinehub.org.au/event/swan-hill-breastfeeding-group/2025-10-02/
LOCATION:Child & Family Hub\, 63 McCrae St\, SWAN HILL\, VIC\, 3585\, Australia
CATEGORIES:Weekly Programs
ATTACH;FMTTYPE=image/jpeg:https://earlyyearsonlinehub.org.au/wp-content/uploads/2025/08/breastfeeding-group-1.jpg
END:VEVENT
BEGIN:VEVENT
DTSTART;TZID=Australia/Melbourne:20251001T190000
DTEND;TZID=Australia/Melbourne:20251001T203000
DTSTAMP:20260424T063331
CREATED:20250901T003031Z
LAST-MODIFIED:20251013T224052Z
UID:10006419-1759345200-1759350600@earlyyearsonlinehub.org.au
SUMMARY:Trans & Gender Diverse Social Support Group - Swan Hill
DESCRIPTION:Are you transgender or gender diverse and looking to connect with others in a safe\, supportive\, and welcoming space?\n\n\n\nCome along to the social support group for trans and gender diverse adults (18+) in Swan Hill! This group is all about creating positive peer connections\, sharing lived experiences\, and accessing local resources together.\n\n\n\nTo be held on Wednesdays at the Swan Hill Library from 7:00pm – 8:30pm\nBonus: Free pizza provided!\n\n\n\nWhether you’re looking for support\, new friends\, or just a space where you can be your authentic self – come along. No pressure\, no expectations\, just community.\n\n\n\nEveryone is welcome\n\n\n\nFor more info contact the Swan Hill District Health Community Health team on 03 5033 9337
URL:https://earlyyearsonlinehub.org.au/event/trans-gender-diverse-social-support-group-swan-hill/2025-10-01/
LOCATION:Swan Hill Library\, 53-67 Campbell Street\, Swan Hill\, Victoria\, 3585\, Australia
CATEGORIES:Weekly Programs
ATTACH;FMTTYPE=image/jpeg:https://earlyyearsonlinehub.org.au/wp-content/uploads/2025/09/538368146_1192432636238441_4659953393942193427_n.jpg
END:VEVENT
BEGIN:VEVENT
DTSTART;TZID=Australia/Melbourne:20250925T093000
DTEND;TZID=Australia/Melbourne:20250925T110000
DTSTAMP:20260424T063331
CREATED:20250804T000527Z
LAST-MODIFIED:20251013T224222Z
UID:10006955-1758792600-1758798000@earlyyearsonlinehub.org.au
SUMMARY:Swan Hill Breastfeeding Group
DESCRIPTION:Come together with other parents and carers to find support and share experiences of your infant feeding journey. A free community group\, with our local breastfeeding support service in attendance most weeks to help answer any of your questions. \nGroup runs weekly on Thursdays from 9:30am – 11am at the Child and Family Hub on 63 McCrae Street\, Swan Hill. Check eat.move.smile Facebook for updates or contact Tara at thiggins@shdh.org.au for more information.
URL:https://earlyyearsonlinehub.org.au/event/swan-hill-breastfeeding-group/2025-09-25/
LOCATION:Child & Family Hub\, 63 McCrae St\, SWAN HILL\, VIC\, 3585\, Australia
CATEGORIES:Weekly Programs
ATTACH;FMTTYPE=image/jpeg:https://earlyyearsonlinehub.org.au/wp-content/uploads/2025/08/breastfeeding-group-1.jpg
END:VEVENT
BEGIN:VEVENT
DTSTART;TZID=Australia/Melbourne:20250924T190000
DTEND;TZID=Australia/Melbourne:20250924T203000
DTSTAMP:20260424T063331
CREATED:20250901T003031Z
LAST-MODIFIED:20251013T224052Z
UID:10006418-1758740400-1758745800@earlyyearsonlinehub.org.au
SUMMARY:Trans & Gender Diverse Social Support Group - Swan Hill
DESCRIPTION:Are you transgender or gender diverse and looking to connect with others in a safe\, supportive\, and welcoming space?\n\n\n\nCome along to the social support group for trans and gender diverse adults (18+) in Swan Hill! This group is all about creating positive peer connections\, sharing lived experiences\, and accessing local resources together.\n\n\n\nTo be held on Wednesdays at the Swan Hill Library from 7:00pm – 8:30pm\nBonus: Free pizza provided!\n\n\n\nWhether you’re looking for support\, new friends\, or just a space where you can be your authentic self – come along. No pressure\, no expectations\, just community.\n\n\n\nEveryone is welcome\n\n\n\nFor more info contact the Swan Hill District Health Community Health team on 03 5033 9337
URL:https://earlyyearsonlinehub.org.au/event/trans-gender-diverse-social-support-group-swan-hill/2025-09-24/
LOCATION:Swan Hill Library\, 53-67 Campbell Street\, Swan Hill\, Victoria\, 3585\, Australia
CATEGORIES:Weekly Programs
ATTACH;FMTTYPE=image/jpeg:https://earlyyearsonlinehub.org.au/wp-content/uploads/2025/09/538368146_1192432636238441_4659953393942193427_n.jpg
END:VEVENT
BEGIN:VEVENT
DTSTART;TZID=Australia/Melbourne:20250918T093000
DTEND;TZID=Australia/Melbourne:20250918T110000
DTSTAMP:20260424T063331
CREATED:20250804T000527Z
LAST-MODIFIED:20251013T224222Z
UID:10006954-1758187800-1758193200@earlyyearsonlinehub.org.au
SUMMARY:Swan Hill Breastfeeding Group
DESCRIPTION:Come together with other parents and carers to find support and share experiences of your infant feeding journey. A free community group\, with our local breastfeeding support service in attendance most weeks to help answer any of your questions. \nGroup runs weekly on Thursdays from 9:30am – 11am at the Child and Family Hub on 63 McCrae Street\, Swan Hill. Check eat.move.smile Facebook for updates or contact Tara at thiggins@shdh.org.au for more information.
URL:https://earlyyearsonlinehub.org.au/event/swan-hill-breastfeeding-group/2025-09-18/
LOCATION:Child & Family Hub\, 63 McCrae St\, SWAN HILL\, VIC\, 3585\, Australia
CATEGORIES:Weekly Programs
ATTACH;FMTTYPE=image/jpeg:https://earlyyearsonlinehub.org.au/wp-content/uploads/2025/08/breastfeeding-group-1.jpg
END:VEVENT
BEGIN:VEVENT
DTSTART;TZID=Australia/Melbourne:20250917T190000
DTEND;TZID=Australia/Melbourne:20250917T203000
DTSTAMP:20260424T063331
CREATED:20250901T003031Z
LAST-MODIFIED:20251013T224052Z
UID:10006417-1758135600-1758141000@earlyyearsonlinehub.org.au
SUMMARY:Trans & Gender Diverse Social Support Group - Swan Hill
DESCRIPTION:Are you transgender or gender diverse and looking to connect with others in a safe\, supportive\, and welcoming space?\n\n\n\nCome along to the social support group for trans and gender diverse adults (18+) in Swan Hill! This group is all about creating positive peer connections\, sharing lived experiences\, and accessing local resources together.\n\n\n\nTo be held on Wednesdays at the Swan Hill Library from 7:00pm – 8:30pm\nBonus: Free pizza provided!\n\n\n\nWhether you’re looking for support\, new friends\, or just a space where you can be your authentic self – come along. No pressure\, no expectations\, just community.\n\n\n\nEveryone is welcome\n\n\n\nFor more info contact the Swan Hill District Health Community Health team on 03 5033 9337
URL:https://earlyyearsonlinehub.org.au/event/trans-gender-diverse-social-support-group-swan-hill/2025-09-17/
LOCATION:Swan Hill Library\, 53-67 Campbell Street\, Swan Hill\, Victoria\, 3585\, Australia
CATEGORIES:Weekly Programs
ATTACH;FMTTYPE=image/jpeg:https://earlyyearsonlinehub.org.au/wp-content/uploads/2025/09/538368146_1192432636238441_4659953393942193427_n.jpg
END:VEVENT
BEGIN:VEVENT
DTSTART;TZID=Australia/Melbourne:20250911T093000
DTEND;TZID=Australia/Melbourne:20250911T110000
DTSTAMP:20260424T063331
CREATED:20250804T000527Z
LAST-MODIFIED:20251013T224222Z
UID:10006953-1757583000-1757588400@earlyyearsonlinehub.org.au
SUMMARY:Swan Hill Breastfeeding Group
DESCRIPTION:Come together with other parents and carers to find support and share experiences of your infant feeding journey. A free community group\, with our local breastfeeding support service in attendance most weeks to help answer any of your questions. \nGroup runs weekly on Thursdays from 9:30am – 11am at the Child and Family Hub on 63 McCrae Street\, Swan Hill. Check eat.move.smile Facebook for updates or contact Tara at thiggins@shdh.org.au for more information.
URL:https://earlyyearsonlinehub.org.au/event/swan-hill-breastfeeding-group/2025-09-11/
LOCATION:Child & Family Hub\, 63 McCrae St\, SWAN HILL\, VIC\, 3585\, Australia
CATEGORIES:Weekly Programs
ATTACH;FMTTYPE=image/jpeg:https://earlyyearsonlinehub.org.au/wp-content/uploads/2025/08/breastfeeding-group-1.jpg
END:VEVENT
BEGIN:VEVENT
DTSTART;TZID=Australia/Melbourne:20250910T190000
DTEND;TZID=Australia/Melbourne:20250910T203000
DTSTAMP:20260424T063331
CREATED:20250901T003031Z
LAST-MODIFIED:20251013T224052Z
UID:10003752-1757530800-1757536200@earlyyearsonlinehub.org.au
SUMMARY:Trans & Gender Diverse Social Support Group - Swan Hill
DESCRIPTION:Are you transgender or gender diverse and looking to connect with others in a safe\, supportive\, and welcoming space?\n\n\n\nCome along to the social support group for trans and gender diverse adults (18+) in Swan Hill! This group is all about creating positive peer connections\, sharing lived experiences\, and accessing local resources together.\n\n\n\nTo be held on Wednesdays at the Swan Hill Library from 7:00pm – 8:30pm\nBonus: Free pizza provided!\n\n\n\nWhether you’re looking for support\, new friends\, or just a space where you can be your authentic self – come along. No pressure\, no expectations\, just community.\n\n\n\nEveryone is welcome\n\n\n\nFor more info contact the Swan Hill District Health Community Health team on 03 5033 9337
URL:https://earlyyearsonlinehub.org.au/event/trans-gender-diverse-social-support-group-swan-hill/2025-09-10/
LOCATION:Swan Hill Library\, 53-67 Campbell Street\, Swan Hill\, Victoria\, 3585\, Australia
CATEGORIES:Weekly Programs
ATTACH;FMTTYPE=image/jpeg:https://earlyyearsonlinehub.org.au/wp-content/uploads/2025/09/538368146_1192432636238441_4659953393942193427_n.jpg
END:VEVENT
BEGIN:VEVENT
DTSTART;TZID=Australia/Melbourne:20250904T093000
DTEND;TZID=Australia/Melbourne:20250904T110000
DTSTAMP:20260424T063331
CREATED:20250804T000527Z
LAST-MODIFIED:20251013T224222Z
UID:10006952-1756978200-1756983600@earlyyearsonlinehub.org.au
SUMMARY:Swan Hill Breastfeeding Group
DESCRIPTION:Come together with other parents and carers to find support and share experiences of your infant feeding journey. A free community group\, with our local breastfeeding support service in attendance most weeks to help answer any of your questions. \nGroup runs weekly on Thursdays from 9:30am – 11am at the Child and Family Hub on 63 McCrae Street\, Swan Hill. Check eat.move.smile Facebook for updates or contact Tara at thiggins@shdh.org.au for more information.
URL:https://earlyyearsonlinehub.org.au/event/swan-hill-breastfeeding-group/2025-09-04/
LOCATION:Child & Family Hub\, 63 McCrae St\, SWAN HILL\, VIC\, 3585\, Australia
CATEGORIES:Weekly Programs
ATTACH;FMTTYPE=image/jpeg:https://earlyyearsonlinehub.org.au/wp-content/uploads/2025/08/breastfeeding-group-1.jpg
END:VEVENT
BEGIN:VEVENT
DTSTART;TZID=Australia/Melbourne:20250828T093000
DTEND;TZID=Australia/Melbourne:20250828T110000
DTSTAMP:20260424T063331
CREATED:20250804T000527Z
LAST-MODIFIED:20251013T224222Z
UID:10006951-1756373400-1756378800@earlyyearsonlinehub.org.au
SUMMARY:Swan Hill Breastfeeding Group
DESCRIPTION:Come together with other parents and carers to find support and share experiences of your infant feeding journey. A free community group\, with our local breastfeeding support service in attendance most weeks to help answer any of your questions. \nGroup runs weekly on Thursdays from 9:30am – 11am at the Child and Family Hub on 63 McCrae Street\, Swan Hill. Check eat.move.smile Facebook for updates or contact Tara at thiggins@shdh.org.au for more information.
URL:https://earlyyearsonlinehub.org.au/event/swan-hill-breastfeeding-group/2025-08-28/
LOCATION:Child & Family Hub\, 63 McCrae St\, SWAN HILL\, VIC\, 3585\, Australia
CATEGORIES:Weekly Programs
ATTACH;FMTTYPE=image/jpeg:https://earlyyearsonlinehub.org.au/wp-content/uploads/2025/08/breastfeeding-group-1.jpg
END:VEVENT
BEGIN:VEVENT
DTSTART;TZID=Australia/Melbourne:20250821T093000
DTEND;TZID=Australia/Melbourne:20250821T110000
DTSTAMP:20260424T063331
CREATED:20250804T000527Z
LAST-MODIFIED:20251013T224222Z
UID:10006950-1755768600-1755774000@earlyyearsonlinehub.org.au
SUMMARY:Swan Hill Breastfeeding Group
DESCRIPTION:Come together with other parents and carers to find support and share experiences of your infant feeding journey. A free community group\, with our local breastfeeding support service in attendance most weeks to help answer any of your questions. \nGroup runs weekly on Thursdays from 9:30am – 11am at the Child and Family Hub on 63 McCrae Street\, Swan Hill. Check eat.move.smile Facebook for updates or contact Tara at thiggins@shdh.org.au for more information.
URL:https://earlyyearsonlinehub.org.au/event/swan-hill-breastfeeding-group/2025-08-21/
LOCATION:Child & Family Hub\, 63 McCrae St\, SWAN HILL\, VIC\, 3585\, Australia
CATEGORIES:Weekly Programs
ATTACH;FMTTYPE=image/jpeg:https://earlyyearsonlinehub.org.au/wp-content/uploads/2025/08/breastfeeding-group-1.jpg
END:VEVENT
BEGIN:VEVENT
DTSTART;TZID=Australia/Melbourne:20250814T093000
DTEND;TZID=Australia/Melbourne:20250814T110000
DTSTAMP:20260424T063331
CREATED:20250804T000527Z
LAST-MODIFIED:20251013T224222Z
UID:10006949-1755163800-1755169200@earlyyearsonlinehub.org.au
SUMMARY:Swan Hill Breastfeeding Group
DESCRIPTION:Come together with other parents and carers to find support and share experiences of your infant feeding journey. A free community group\, with our local breastfeeding support service in attendance most weeks to help answer any of your questions. \nGroup runs weekly on Thursdays from 9:30am – 11am at the Child and Family Hub on 63 McCrae Street\, Swan Hill. Check eat.move.smile Facebook for updates or contact Tara at thiggins@shdh.org.au for more information.
URL:https://earlyyearsonlinehub.org.au/event/swan-hill-breastfeeding-group/2025-08-14/
LOCATION:Child & Family Hub\, 63 McCrae St\, SWAN HILL\, VIC\, 3585\, Australia
CATEGORIES:Weekly Programs
ATTACH;FMTTYPE=image/jpeg:https://earlyyearsonlinehub.org.au/wp-content/uploads/2025/08/breastfeeding-group-1.jpg
END:VEVENT
BEGIN:VEVENT
DTSTART;TZID=Australia/Melbourne:20250807T093000
DTEND;TZID=Australia/Melbourne:20250807T110000
DTSTAMP:20260424T063331
CREATED:20250804T000527Z
LAST-MODIFIED:20251013T224222Z
UID:10003739-1754559000-1754564400@earlyyearsonlinehub.org.au
SUMMARY:Swan Hill Breastfeeding Group
DESCRIPTION:Come together with other parents and carers to find support and share experiences of your infant feeding journey. A free community group\, with our local breastfeeding support service in attendance most weeks to help answer any of your questions. \nGroup runs weekly on Thursdays from 9:30am – 11am at the Child and Family Hub on 63 McCrae Street\, Swan Hill. Check eat.move.smile Facebook for updates or contact Tara at thiggins@shdh.org.au for more information.
URL:https://earlyyearsonlinehub.org.au/event/swan-hill-breastfeeding-group/2025-08-07/
LOCATION:Child & Family Hub\, 63 McCrae St\, SWAN HILL\, VIC\, 3585\, Australia
CATEGORIES:Weekly Programs
ATTACH;FMTTYPE=image/jpeg:https://earlyyearsonlinehub.org.au/wp-content/uploads/2025/08/breastfeeding-group-1.jpg
END:VEVENT
END:VCALENDAR