BEGIN:VCALENDAR
VERSION:2.0
PRODID:-//Early Years Online Hub - ECPv6.15.20//NONSGML v1.0//EN
CALSCALE:GREGORIAN
METHOD:PUBLISH
X-WR-CALNAME:Early Years Online Hub
X-ORIGINAL-URL:https://earlyyearsonlinehub.org.au
X-WR-CALDESC:Events for Early Years Online Hub
REFRESH-INTERVAL;VALUE=DURATION:PT1H
X-Robots-Tag:noindex
X-PUBLISHED-TTL:PT1H
BEGIN:VTIMEZONE
TZID:Australia/Melbourne
BEGIN:STANDARD
TZOFFSETFROM:+1100
TZOFFSETTO:+1000
TZNAME:AEST
DTSTART:20240406T160000
END:STANDARD
BEGIN:DAYLIGHT
TZOFFSETFROM:+1000
TZOFFSETTO:+1100
TZNAME:AEDT
DTSTART:20241005T160000
END:DAYLIGHT
BEGIN:STANDARD
TZOFFSETFROM:+1100
TZOFFSETTO:+1000
TZNAME:AEST
DTSTART:20250405T160000
END:STANDARD
BEGIN:DAYLIGHT
TZOFFSETFROM:+1000
TZOFFSETTO:+1100
TZNAME:AEDT
DTSTART:20251004T160000
END:DAYLIGHT
BEGIN:STANDARD
TZOFFSETFROM:+1100
TZOFFSETTO:+1000
TZNAME:AEST
DTSTART:20260404T160000
END:STANDARD
BEGIN:DAYLIGHT
TZOFFSETFROM:+1000
TZOFFSETTO:+1100
TZNAME:AEDT
DTSTART:20261003T160000
END:DAYLIGHT
END:VTIMEZONE
BEGIN:VEVENT
DTSTART;TZID=Australia/Melbourne:20250729T090000
DTEND;TZID=Australia/Melbourne:20250729T110000
DTSTAMP:20260425T014326
CREATED:20250625T034544Z
LAST-MODIFIED:20251016T012456Z
UID:10002619-1753779600-1753786800@earlyyearsonlinehub.org.au
SUMMARY:Little Emu's Smalltalk Supported Playgroup (0-5 years)
DESCRIPTION:Mallee Family Care’s Supported Playgroups and In Home Learning (IHL) sessions provide an opportunity for families to support children to play\, learn and prepare for kindergarten and school. Playgroups are also a great place to make friends. \nLittle Emu’s Smalltalk Supported Playgroup is held from 9am until 11am\, each Tuesday at St Mary’s Primary School – 2 Murlong Street\, Swan Hill \nAll Mallee Family Care Supported Playgroups\, IHL and 1:1 Support sessions are FREE and facilitated by qualified staff who support families in their parenting/caring journey. \nSessions are held during Victorian school terms.
URL:https://earlyyearsonlinehub.org.au/event/smalltalk-little-emus-st-marys-playground-0-5-years/2025-07-29/
LOCATION:St. Mary’s Primary School\, 2 Murlong Street\, Swan Hill\, Victoria\, 3585\, Australia
CATEGORIES:Weekly Programs
ATTACH;FMTTYPE=image/png:https://earlyyearsonlinehub.org.au/wp-content/uploads/2025/06/mfc-playgroups.png
END:VEVENT
BEGIN:VEVENT
DTSTART;TZID=Australia/Melbourne:20250729T080000
DTEND;TZID=Australia/Melbourne:20250729T100000
DTSTAMP:20260425T014326
CREATED:20250716T034355Z
LAST-MODIFIED:20251016T012335Z
UID:10002879-1753776000-1753783200@earlyyearsonlinehub.org.au
SUMMARY:Little Joey's Smalltalk Supported Playgroup (0-5 years)
DESCRIPTION:Mallee Family Care’s Supported Playgroups and In Home Learning (IHL) sessions provide an opportunity for families to support children to play\, learn and prepare for kindergarten and school. Playgroups are also a great place to make friends. \nLittle Joey’s Smalltalk Supported Playgroup is held from 9am until 11am\, each Tuesday at Swan Hill Specialist School 27-33 Yana Street\, Swan Hill \nAll Mallee Family Care Supported Playgroups\, IHL and 1:1 Support sessions are FREE and facilitated by qualified staff who support families in their parenting/caring journey. \nSessions are held during Victorian school terms.
URL:https://earlyyearsonlinehub.org.au/event/small-talk-little-joeys-swan-hill-south-playgroup-0-5-years/2025-07-29/
LOCATION:Swan Hill Specialist School\, 27-33 Yana Street\, SWAN HILL\, VIC\, 3585\, Australia
CATEGORIES:Weekly Programs
ATTACH;FMTTYPE=image/png:https://earlyyearsonlinehub.org.au/wp-content/uploads/2025/06/mfc-playgroups.png
END:VEVENT
BEGIN:VEVENT
DTSTART;TZID=Australia/Melbourne:20250728T110000
DTEND;TZID=Australia/Melbourne:20250728T120000
DTSTAMP:20260425T014326
CREATED:20250717T230117Z
LAST-MODIFIED:20251016T011929Z
UID:10003139-1753700400-1753704000@earlyyearsonlinehub.org.au
SUMMARY:Nyah West Smalltalk Supported Playgroup (0-5 years)
DESCRIPTION:Mallee Family Care’s Supported Playgroups and In Home Learning (IHL) sessions provide an opportunity for families to support children to play\, learn and prepare for kindergarten and school. Playgroups are also a great place to make friends. \nNyah West Smalltalk Supported Playgroup is held from 10am until 12pm\, each Monday at Nyah West Children’s Centre\, 13 Lloyd Street\, Nyah West. \nAll Mallee Family Care Supported Playgroups\, IHL and 1:1 Support sessions are FREE and facilitated by qualified staff who support families in their parenting/caring journey. \nSessions are held during Victorian school terms.
URL:https://earlyyearsonlinehub.org.au/event/smalltalk-plygroups-nyah-west-0-5-years/2025-07-28/
LOCATION:Nyah West Chilren’s Centre\, 31 Lloyd Street\, NYAH WEST\, VIC\, 3595\, Australia
CATEGORIES:Weekly Programs
ATTACH;FMTTYPE=image/png:https://earlyyearsonlinehub.org.au/wp-content/uploads/2025/06/mfc-playgroups.png
END:VEVENT
BEGIN:VEVENT
DTSTART;TZID=Australia/Melbourne:20250725T093000
DTEND;TZID=Australia/Melbourne:20250725T113000
DTSTAMP:20260425T014326
CREATED:20250717T225901Z
LAST-MODIFIED:20251016T011657Z
UID:10000020-1753435800-1753443000@earlyyearsonlinehub.org.au
SUMMARY:Lake Boga Smalltalk Supported Playgroup (0-5 years)
DESCRIPTION:Mallee Family Care’s Supported Playgroups and In Home Learning (IHL) sessions provide an opportunity for families to support children to play\, learn and prepare for kindergarten and school. Playgroups are also a great place to make friends. \nLake Boga Smalltalk Supported Playgroup is held from 9:30am until 11:30am each Friday at 15 Lalbert Road\, Lake Boga. \nAll Mallee Family Care Supported Playgroups\, IHL and 1:1 Support sessions are FREE and facilitated by qualified staff who support families in their parenting/caring journey. \nSessions are held during Victorian school terms.
URL:https://earlyyearsonlinehub.org.au/event/smalltalk-playgroup-lake-boga-0-5-years/2025-07-25/2/
LOCATION:Lake Boga Preschool\, 15 Lalbert Road\, LAKE BOGA\, VIC\, 3584\, Australia
CATEGORIES:Weekly Programs
ATTACH;FMTTYPE=image/png:https://earlyyearsonlinehub.org.au/wp-content/uploads/2025/06/mfc-playgroups.png
END:VEVENT
BEGIN:VEVENT
DTSTART;TZID=Australia/Melbourne:20250725T080000
DTEND;TZID=Australia/Melbourne:20250725T170000
DTSTAMP:20260425T014326
CREATED:20250717T225901Z
LAST-MODIFIED:20251016T011657Z
UID:10004521-1753430400-1753462800@earlyyearsonlinehub.org.au
SUMMARY:Lake Boga Smalltalk Supported Playgroup (0-5 years)
DESCRIPTION:Mallee Family Care’s Supported Playgroups and In Home Learning (IHL) sessions provide an opportunity for families to support children to play\, learn and prepare for kindergarten and school. Playgroups are also a great place to make friends. \nLake Boga Smalltalk Supported Playgroup is held from 9:30am until 11:30am each Friday at 15 Lalbert Road\, Lake Boga. \nAll Mallee Family Care Supported Playgroups\, IHL and 1:1 Support sessions are FREE and facilitated by qualified staff who support families in their parenting/caring journey. \nSessions are held during Victorian school terms.
URL:https://earlyyearsonlinehub.org.au/event/smalltalk-playgroup-lake-boga-0-5-years/2025-07-25/1/
LOCATION:Lake Boga Preschool\, 15 Lalbert Road\, LAKE BOGA\, VIC\, 3584\, Australia
CATEGORIES:Weekly Programs
ATTACH;FMTTYPE=image/png:https://earlyyearsonlinehub.org.au/wp-content/uploads/2025/06/mfc-playgroups.png
END:VEVENT
BEGIN:VEVENT
DTSTART;TZID=Australia/Melbourne:20250724T090000
DTEND;TZID=Australia/Melbourne:20250724T110000
DTSTAMP:20260425T014326
CREATED:20250717T230757Z
LAST-MODIFIED:20250923T233552Z
UID:10000023-1753347600-1753354800@earlyyearsonlinehub.org.au
SUMMARY:smalltalk playgroup – Little Emu’s (0-5 years)
DESCRIPTION:Mallee Family Care’s Supported Playgroups and In Home Learning (IHL) sessions provide an opportunity for families to support children to play\, learn and prepare for kindergarten and school. Playgroups are also a great place to make friends. \nsmalltalk Little Emu’s Playgroup held from 9am until 11am Thursdays at St Mary’s Primary School – 2 Murlong Street\, Swan Hill \nAll our Supported Playgroups\, IHL and 1:1 Support sessions are FREE and facilitated by qualified staff who support families in their parenting/caring journey. \nSessions are held during Victorian school terms.
URL:https://earlyyearsonlinehub.org.au/event/smalltalk-playgroup-little-emus-0-5-years/2025-07-24/
LOCATION:St. Mary’s Primary School\, 2 Murlong Street\, Swan Hill\, Victoria\, 3585\, Australia
CATEGORIES:Weekly Programs
ATTACH;FMTTYPE=image/png:https://earlyyearsonlinehub.org.au/wp-content/uploads/2025/06/mfc-playgroups.png
END:VEVENT
BEGIN:VEVENT
DTSTART;TZID=Australia/Melbourne:20250723T093000
DTEND;TZID=Australia/Melbourne:20250723T113000
DTSTAMP:20260425T014326
CREATED:20250717T225027Z
LAST-MODIFIED:20251016T012808Z
UID:10000017-1753263000-1753270200@earlyyearsonlinehub.org.au
SUMMARY:Child & Family Hub Smalltalk Supported Playgroup (0-5 years)
DESCRIPTION:Mallee Family Care’s Supported Playgroups and In Home Learning (IHL) sessions provide an opportunity for families to support children to play\, learn and prepare for kindergarten and school. Playgroups are also a great place to make friends. \nChild & Family Hub Smalltalk Supported Playgroups are held from 9:30am until 11:30am\, on Wednesday’s at the The Child & Family Hub 63 McCrae Street\, Swan Hill \nAll our Supported Playgroups\, IHL and 1:1 Support sessions are FREE and facilitated by qualified staff who support families in their parenting/caring journey. \nSessions are held during Victorian school terms.
URL:https://earlyyearsonlinehub.org.au/event/smalltalk-playgroup-child-family-hub-0-5-years/2025-07-23/
LOCATION:Child & Family Hub\, 63 McCrae St\, SWAN HILL\, VIC\, 3585\, Australia
CATEGORIES:Weekly Programs
ATTACH;FMTTYPE=image/png:https://earlyyearsonlinehub.org.au/wp-content/uploads/2025/06/mfc-playgroups.png
END:VEVENT
BEGIN:VEVENT
DTSTART;TZID=Australia/Melbourne:20250722T090000
DTEND;TZID=Australia/Melbourne:20250722T110000
DTSTAMP:20260425T014326
CREATED:20250717T225326Z
LAST-MODIFIED:20251016T012637Z
UID:10000018-1753174800-1753182000@earlyyearsonlinehub.org.au
SUMMARY:Swan Hill North\, Pop Up Smalltalk Playgroup (0-5 years)
DESCRIPTION:Mallee Family Care’s Supported Playgroups and In Home Learning (IHL) sessions provide an opportunity for families to support children to play\, learn and prepare for kindergarten and school. Playgroups are also a great place to make friends. \nSwan Hill North Pop Up Playgroup’s are held from 9am until 11am Tuesdays. \nPlease call Palwinder for more information and location on 0436 374 115. \nAll our Supported Playgroups\, IHL and 1:1 Support sessions are FREE and facilitated by qualified staff who support families in their parenting/caring journey. \nSessions are held during Victorian school terms.
URL:https://earlyyearsonlinehub.org.au/event/smalltalk-playgroup-swan-hill-north-0-5-years/2025-07-22/
LOCATION:Swan Hill North Primary School\, 118 Chapman Street\, SWAN HILL\, VIC\, 3585\, Australia
CATEGORIES:Weekly Programs
ATTACH;FMTTYPE=image/png:https://earlyyearsonlinehub.org.au/wp-content/uploads/2025/06/mfc-playgroups.png
END:VEVENT
BEGIN:VEVENT
DTSTART;TZID=Australia/Melbourne:20250722T090000
DTEND;TZID=Australia/Melbourne:20250722T110000
DTSTAMP:20260425T014326
CREATED:20250625T034544Z
LAST-MODIFIED:20251016T012456Z
UID:10000010-1753174800-1753182000@earlyyearsonlinehub.org.au
SUMMARY:Little Emu's Smalltalk Supported Playgroup (0-5 years)
DESCRIPTION:Mallee Family Care’s Supported Playgroups and In Home Learning (IHL) sessions provide an opportunity for families to support children to play\, learn and prepare for kindergarten and school. Playgroups are also a great place to make friends. \nLittle Emu’s Smalltalk Supported Playgroup is held from 9am until 11am\, each Tuesday at St Mary’s Primary School – 2 Murlong Street\, Swan Hill \nAll Mallee Family Care Supported Playgroups\, IHL and 1:1 Support sessions are FREE and facilitated by qualified staff who support families in their parenting/caring journey. \nSessions are held during Victorian school terms.
URL:https://earlyyearsonlinehub.org.au/event/smalltalk-little-emus-st-marys-playground-0-5-years/2025-07-22/
LOCATION:St. Mary’s Primary School\, 2 Murlong Street\, Swan Hill\, Victoria\, 3585\, Australia
CATEGORIES:Weekly Programs
ATTACH;FMTTYPE=image/png:https://earlyyearsonlinehub.org.au/wp-content/uploads/2025/06/mfc-playgroups.png
END:VEVENT
BEGIN:VEVENT
DTSTART;TZID=Australia/Melbourne:20250722T080000
DTEND;TZID=Australia/Melbourne:20250722T100000
DTSTAMP:20260425T014326
CREATED:20250716T034355Z
LAST-MODIFIED:20251016T012335Z
UID:10000009-1753171200-1753178400@earlyyearsonlinehub.org.au
SUMMARY:Little Joey's Smalltalk Supported Playgroup (0-5 years)
DESCRIPTION:Mallee Family Care’s Supported Playgroups and In Home Learning (IHL) sessions provide an opportunity for families to support children to play\, learn and prepare for kindergarten and school. Playgroups are also a great place to make friends. \nLittle Joey’s Smalltalk Supported Playgroup is held from 9am until 11am\, each Tuesday at Swan Hill Specialist School 27-33 Yana Street\, Swan Hill \nAll Mallee Family Care Supported Playgroups\, IHL and 1:1 Support sessions are FREE and facilitated by qualified staff who support families in their parenting/caring journey. \nSessions are held during Victorian school terms.
URL:https://earlyyearsonlinehub.org.au/event/small-talk-little-joeys-swan-hill-south-playgroup-0-5-years/2025-07-22/
LOCATION:Swan Hill Specialist School\, 27-33 Yana Street\, SWAN HILL\, VIC\, 3585\, Australia
CATEGORIES:Weekly Programs
ATTACH;FMTTYPE=image/png:https://earlyyearsonlinehub.org.au/wp-content/uploads/2025/06/mfc-playgroups.png
END:VEVENT
BEGIN:VEVENT
DTSTART;TZID=Australia/Melbourne:20250721T110000
DTEND;TZID=Australia/Melbourne:20250721T120000
DTSTAMP:20260425T014326
CREATED:20250717T230117Z
LAST-MODIFIED:20251016T011929Z
UID:10000021-1753095600-1753099200@earlyyearsonlinehub.org.au
SUMMARY:Nyah West Smalltalk Supported Playgroup (0-5 years)
DESCRIPTION:Mallee Family Care’s Supported Playgroups and In Home Learning (IHL) sessions provide an opportunity for families to support children to play\, learn and prepare for kindergarten and school. Playgroups are also a great place to make friends. \nNyah West Smalltalk Supported Playgroup is held from 10am until 12pm\, each Monday at Nyah West Children’s Centre\, 13 Lloyd Street\, Nyah West. \nAll Mallee Family Care Supported Playgroups\, IHL and 1:1 Support sessions are FREE and facilitated by qualified staff who support families in their parenting/caring journey. \nSessions are held during Victorian school terms.
URL:https://earlyyearsonlinehub.org.au/event/smalltalk-plygroups-nyah-west-0-5-years/2025-07-21/
LOCATION:Nyah West Chilren’s Centre\, 31 Lloyd Street\, NYAH WEST\, VIC\, 3595\, Australia
CATEGORIES:Weekly Programs
ATTACH;FMTTYPE=image/png:https://earlyyearsonlinehub.org.au/wp-content/uploads/2025/06/mfc-playgroups.png
END:VEVENT
END:VCALENDAR