BEGIN:VCALENDAR
VERSION:2.0
PRODID:-//Early Years Online Hub - ECPv6.15.20//NONSGML v1.0//EN
CALSCALE:GREGORIAN
METHOD:PUBLISH
X-WR-CALNAME:Early Years Online Hub
X-ORIGINAL-URL:https://earlyyearsonlinehub.org.au
X-WR-CALDESC:Events for Early Years Online Hub
REFRESH-INTERVAL;VALUE=DURATION:PT1H
X-Robots-Tag:noindex
X-PUBLISHED-TTL:PT1H
BEGIN:VTIMEZONE
TZID:Australia/Melbourne
BEGIN:STANDARD
TZOFFSETFROM:+1100
TZOFFSETTO:+1000
TZNAME:AEST
DTSTART:20250405T160000
END:STANDARD
BEGIN:DAYLIGHT
TZOFFSETFROM:+1000
TZOFFSETTO:+1100
TZNAME:AEDT
DTSTART:20251004T160000
END:DAYLIGHT
BEGIN:STANDARD
TZOFFSETFROM:+1100
TZOFFSETTO:+1000
TZNAME:AEST
DTSTART:20260404T160000
END:STANDARD
BEGIN:DAYLIGHT
TZOFFSETFROM:+1000
TZOFFSETTO:+1100
TZNAME:AEDT
DTSTART:20261003T160000
END:DAYLIGHT
BEGIN:STANDARD
TZOFFSETFROM:+1100
TZOFFSETTO:+1000
TZNAME:AEST
DTSTART:20270403T160000
END:STANDARD
BEGIN:DAYLIGHT
TZOFFSETFROM:+1000
TZOFFSETTO:+1100
TZNAME:AEDT
DTSTART:20271002T160000
END:DAYLIGHT
END:VTIMEZONE
BEGIN:VEVENT
DTSTART;TZID=Australia/Melbourne:20260424T103000
DTEND;TZID=Australia/Melbourne:20260424T110000
DTSTAMP:20260423T205117
CREATED:20260209T221559Z
LAST-MODIFIED:20260209T221759Z
UID:10007527-1777026600-1777028400@earlyyearsonlinehub.org.au
SUMMARY:Baby Rhyme Time - Swan Hill Library
DESCRIPTION:Baby Rhyme Time held on Friday mornings at the Swan Hill Regional Library \nBaby Rhyme Time is a fun and interactive session for parents and carers with babies under 18 months old. It promotes the development of your baby’s literacy skills through interactive rhymes and songs.
URL:https://earlyyearsonlinehub.org.au/event/baby-rhyme-time-swan-hill-library-2/2026-04-24/
LOCATION:Swan Hill Library\, 53-67 Campbell Street\, Swan Hill\, Victoria\, 3585\, Australia
CATEGORIES:Weekly Programs
ATTACH;FMTTYPE=image/png:https://earlyyearsonlinehub.org.au/wp-content/uploads/2025/07/SHRL-logo.png
END:VEVENT
BEGIN:VEVENT
DTSTART;TZID=Australia/Melbourne:20260501T103000
DTEND;TZID=Australia/Melbourne:20260501T110000
DTSTAMP:20260423T205117
CREATED:20260209T221559Z
LAST-MODIFIED:20260209T221759Z
UID:10007528-1777631400-1777633200@earlyyearsonlinehub.org.au
SUMMARY:Baby Rhyme Time - Swan Hill Library
DESCRIPTION:Baby Rhyme Time held on Friday mornings at the Swan Hill Regional Library \nBaby Rhyme Time is a fun and interactive session for parents and carers with babies under 18 months old. It promotes the development of your baby’s literacy skills through interactive rhymes and songs.
URL:https://earlyyearsonlinehub.org.au/event/baby-rhyme-time-swan-hill-library-2/2026-05-01/
LOCATION:Swan Hill Library\, 53-67 Campbell Street\, Swan Hill\, Victoria\, 3585\, Australia
CATEGORIES:Weekly Programs
ATTACH;FMTTYPE=image/png:https://earlyyearsonlinehub.org.au/wp-content/uploads/2025/07/SHRL-logo.png
END:VEVENT
BEGIN:VEVENT
DTSTART;TZID=Australia/Melbourne:20260508T103000
DTEND;TZID=Australia/Melbourne:20260508T110000
DTSTAMP:20260423T205117
CREATED:20260209T221559Z
LAST-MODIFIED:20260209T221759Z
UID:10007529-1778236200-1778238000@earlyyearsonlinehub.org.au
SUMMARY:Baby Rhyme Time - Swan Hill Library
DESCRIPTION:Baby Rhyme Time held on Friday mornings at the Swan Hill Regional Library \nBaby Rhyme Time is a fun and interactive session for parents and carers with babies under 18 months old. It promotes the development of your baby’s literacy skills through interactive rhymes and songs.
URL:https://earlyyearsonlinehub.org.au/event/baby-rhyme-time-swan-hill-library-2/2026-05-08/
LOCATION:Swan Hill Library\, 53-67 Campbell Street\, Swan Hill\, Victoria\, 3585\, Australia
CATEGORIES:Weekly Programs
ATTACH;FMTTYPE=image/png:https://earlyyearsonlinehub.org.au/wp-content/uploads/2025/07/SHRL-logo.png
END:VEVENT
BEGIN:VEVENT
DTSTART;TZID=Australia/Melbourne:20260515T103000
DTEND;TZID=Australia/Melbourne:20260515T110000
DTSTAMP:20260423T205117
CREATED:20260209T221559Z
LAST-MODIFIED:20260209T221759Z
UID:10007530-1778841000-1778842800@earlyyearsonlinehub.org.au
SUMMARY:Baby Rhyme Time - Swan Hill Library
DESCRIPTION:Baby Rhyme Time held on Friday mornings at the Swan Hill Regional Library \nBaby Rhyme Time is a fun and interactive session for parents and carers with babies under 18 months old. It promotes the development of your baby’s literacy skills through interactive rhymes and songs.
URL:https://earlyyearsonlinehub.org.au/event/baby-rhyme-time-swan-hill-library-2/2026-05-15/
LOCATION:Swan Hill Library\, 53-67 Campbell Street\, Swan Hill\, Victoria\, 3585\, Australia
CATEGORIES:Weekly Programs
ATTACH;FMTTYPE=image/png:https://earlyyearsonlinehub.org.au/wp-content/uploads/2025/07/SHRL-logo.png
END:VEVENT
BEGIN:VEVENT
DTSTART;TZID=Australia/Melbourne:20260522T103000
DTEND;TZID=Australia/Melbourne:20260522T110000
DTSTAMP:20260423T205117
CREATED:20260209T221559Z
LAST-MODIFIED:20260209T221759Z
UID:10007531-1779445800-1779447600@earlyyearsonlinehub.org.au
SUMMARY:Baby Rhyme Time - Swan Hill Library
DESCRIPTION:Baby Rhyme Time held on Friday mornings at the Swan Hill Regional Library \nBaby Rhyme Time is a fun and interactive session for parents and carers with babies under 18 months old. It promotes the development of your baby’s literacy skills through interactive rhymes and songs.
URL:https://earlyyearsonlinehub.org.au/event/baby-rhyme-time-swan-hill-library-2/2026-05-22/
LOCATION:Swan Hill Library\, 53-67 Campbell Street\, Swan Hill\, Victoria\, 3585\, Australia
CATEGORIES:Weekly Programs
ATTACH;FMTTYPE=image/png:https://earlyyearsonlinehub.org.au/wp-content/uploads/2025/07/SHRL-logo.png
END:VEVENT
BEGIN:VEVENT
DTSTART;TZID=Australia/Melbourne:20260529T103000
DTEND;TZID=Australia/Melbourne:20260529T110000
DTSTAMP:20260423T205117
CREATED:20260209T221559Z
LAST-MODIFIED:20260209T221759Z
UID:10007532-1780050600-1780052400@earlyyearsonlinehub.org.au
SUMMARY:Baby Rhyme Time - Swan Hill Library
DESCRIPTION:Baby Rhyme Time held on Friday mornings at the Swan Hill Regional Library \nBaby Rhyme Time is a fun and interactive session for parents and carers with babies under 18 months old. It promotes the development of your baby’s literacy skills through interactive rhymes and songs.
URL:https://earlyyearsonlinehub.org.au/event/baby-rhyme-time-swan-hill-library-2/2026-05-29/
LOCATION:Swan Hill Library\, 53-67 Campbell Street\, Swan Hill\, Victoria\, 3585\, Australia
CATEGORIES:Weekly Programs
ATTACH;FMTTYPE=image/png:https://earlyyearsonlinehub.org.au/wp-content/uploads/2025/07/SHRL-logo.png
END:VEVENT
BEGIN:VEVENT
DTSTART;TZID=Australia/Melbourne:20260605T103000
DTEND;TZID=Australia/Melbourne:20260605T110000
DTSTAMP:20260423T205117
CREATED:20260209T221559Z
LAST-MODIFIED:20260209T221759Z
UID:10007533-1780655400-1780657200@earlyyearsonlinehub.org.au
SUMMARY:Baby Rhyme Time - Swan Hill Library
DESCRIPTION:Baby Rhyme Time held on Friday mornings at the Swan Hill Regional Library \nBaby Rhyme Time is a fun and interactive session for parents and carers with babies under 18 months old. It promotes the development of your baby’s literacy skills through interactive rhymes and songs.
URL:https://earlyyearsonlinehub.org.au/event/baby-rhyme-time-swan-hill-library-2/2026-06-05/
LOCATION:Swan Hill Library\, 53-67 Campbell Street\, Swan Hill\, Victoria\, 3585\, Australia
CATEGORIES:Weekly Programs
ATTACH;FMTTYPE=image/png:https://earlyyearsonlinehub.org.au/wp-content/uploads/2025/07/SHRL-logo.png
END:VEVENT
BEGIN:VEVENT
DTSTART;TZID=Australia/Melbourne:20260612T103000
DTEND;TZID=Australia/Melbourne:20260612T110000
DTSTAMP:20260423T205117
CREATED:20260209T221559Z
LAST-MODIFIED:20260209T221759Z
UID:10007534-1781260200-1781262000@earlyyearsonlinehub.org.au
SUMMARY:Baby Rhyme Time - Swan Hill Library
DESCRIPTION:Baby Rhyme Time held on Friday mornings at the Swan Hill Regional Library \nBaby Rhyme Time is a fun and interactive session for parents and carers with babies under 18 months old. It promotes the development of your baby’s literacy skills through interactive rhymes and songs.
URL:https://earlyyearsonlinehub.org.au/event/baby-rhyme-time-swan-hill-library-2/2026-06-12/
LOCATION:Swan Hill Library\, 53-67 Campbell Street\, Swan Hill\, Victoria\, 3585\, Australia
CATEGORIES:Weekly Programs
ATTACH;FMTTYPE=image/png:https://earlyyearsonlinehub.org.au/wp-content/uploads/2025/07/SHRL-logo.png
END:VEVENT
BEGIN:VEVENT
DTSTART;TZID=Australia/Melbourne:20260619T103000
DTEND;TZID=Australia/Melbourne:20260619T110000
DTSTAMP:20260423T205117
CREATED:20260209T221559Z
LAST-MODIFIED:20260209T221759Z
UID:10007535-1781865000-1781866800@earlyyearsonlinehub.org.au
SUMMARY:Baby Rhyme Time - Swan Hill Library
DESCRIPTION:Baby Rhyme Time held on Friday mornings at the Swan Hill Regional Library \nBaby Rhyme Time is a fun and interactive session for parents and carers with babies under 18 months old. It promotes the development of your baby’s literacy skills through interactive rhymes and songs.
URL:https://earlyyearsonlinehub.org.au/event/baby-rhyme-time-swan-hill-library-2/2026-06-19/
LOCATION:Swan Hill Library\, 53-67 Campbell Street\, Swan Hill\, Victoria\, 3585\, Australia
CATEGORIES:Weekly Programs
ATTACH;FMTTYPE=image/png:https://earlyyearsonlinehub.org.au/wp-content/uploads/2025/07/SHRL-logo.png
END:VEVENT
BEGIN:VEVENT
DTSTART;TZID=Australia/Melbourne:20260626T103000
DTEND;TZID=Australia/Melbourne:20260626T110000
DTSTAMP:20260423T205117
CREATED:20260209T221559Z
LAST-MODIFIED:20260209T221759Z
UID:10007536-1782469800-1782471600@earlyyearsonlinehub.org.au
SUMMARY:Baby Rhyme Time - Swan Hill Library
DESCRIPTION:Baby Rhyme Time held on Friday mornings at the Swan Hill Regional Library \nBaby Rhyme Time is a fun and interactive session for parents and carers with babies under 18 months old. It promotes the development of your baby’s literacy skills through interactive rhymes and songs.
URL:https://earlyyearsonlinehub.org.au/event/baby-rhyme-time-swan-hill-library-2/2026-06-26/
LOCATION:Swan Hill Library\, 53-67 Campbell Street\, Swan Hill\, Victoria\, 3585\, Australia
CATEGORIES:Weekly Programs
ATTACH;FMTTYPE=image/png:https://earlyyearsonlinehub.org.au/wp-content/uploads/2025/07/SHRL-logo.png
END:VEVENT
BEGIN:VEVENT
DTSTART;TZID=Australia/Melbourne:20260703T103000
DTEND;TZID=Australia/Melbourne:20260703T110000
DTSTAMP:20260423T205117
CREATED:20260209T221559Z
LAST-MODIFIED:20260209T221759Z
UID:10007537-1783074600-1783076400@earlyyearsonlinehub.org.au
SUMMARY:Baby Rhyme Time - Swan Hill Library
DESCRIPTION:Baby Rhyme Time held on Friday mornings at the Swan Hill Regional Library \nBaby Rhyme Time is a fun and interactive session for parents and carers with babies under 18 months old. It promotes the development of your baby’s literacy skills through interactive rhymes and songs.
URL:https://earlyyearsonlinehub.org.au/event/baby-rhyme-time-swan-hill-library-2/2026-07-03/
LOCATION:Swan Hill Library\, 53-67 Campbell Street\, Swan Hill\, Victoria\, 3585\, Australia
CATEGORIES:Weekly Programs
ATTACH;FMTTYPE=image/png:https://earlyyearsonlinehub.org.au/wp-content/uploads/2025/07/SHRL-logo.png
END:VEVENT
BEGIN:VEVENT
DTSTART;TZID=Australia/Melbourne:20260710T103000
DTEND;TZID=Australia/Melbourne:20260710T110000
DTSTAMP:20260423T205117
CREATED:20260209T221559Z
LAST-MODIFIED:20260209T221759Z
UID:10007538-1783679400-1783681200@earlyyearsonlinehub.org.au
SUMMARY:Baby Rhyme Time - Swan Hill Library
DESCRIPTION:Baby Rhyme Time held on Friday mornings at the Swan Hill Regional Library \nBaby Rhyme Time is a fun and interactive session for parents and carers with babies under 18 months old. It promotes the development of your baby’s literacy skills through interactive rhymes and songs.
URL:https://earlyyearsonlinehub.org.au/event/baby-rhyme-time-swan-hill-library-2/2026-07-10/
LOCATION:Swan Hill Library\, 53-67 Campbell Street\, Swan Hill\, Victoria\, 3585\, Australia
CATEGORIES:Weekly Programs
ATTACH;FMTTYPE=image/png:https://earlyyearsonlinehub.org.au/wp-content/uploads/2025/07/SHRL-logo.png
END:VEVENT
BEGIN:VEVENT
DTSTART;TZID=Australia/Melbourne:20260717T103000
DTEND;TZID=Australia/Melbourne:20260717T110000
DTSTAMP:20260423T205117
CREATED:20260209T221559Z
LAST-MODIFIED:20260209T221759Z
UID:10007539-1784284200-1784286000@earlyyearsonlinehub.org.au
SUMMARY:Baby Rhyme Time - Swan Hill Library
DESCRIPTION:Baby Rhyme Time held on Friday mornings at the Swan Hill Regional Library \nBaby Rhyme Time is a fun and interactive session for parents and carers with babies under 18 months old. It promotes the development of your baby’s literacy skills through interactive rhymes and songs.
URL:https://earlyyearsonlinehub.org.au/event/baby-rhyme-time-swan-hill-library-2/2026-07-17/
LOCATION:Swan Hill Library\, 53-67 Campbell Street\, Swan Hill\, Victoria\, 3585\, Australia
CATEGORIES:Weekly Programs
ATTACH;FMTTYPE=image/png:https://earlyyearsonlinehub.org.au/wp-content/uploads/2025/07/SHRL-logo.png
END:VEVENT
BEGIN:VEVENT
DTSTART;TZID=Australia/Melbourne:20260724T103000
DTEND;TZID=Australia/Melbourne:20260724T110000
DTSTAMP:20260423T205117
CREATED:20260209T221559Z
LAST-MODIFIED:20260209T221759Z
UID:10007540-1784889000-1784890800@earlyyearsonlinehub.org.au
SUMMARY:Baby Rhyme Time - Swan Hill Library
DESCRIPTION:Baby Rhyme Time held on Friday mornings at the Swan Hill Regional Library \nBaby Rhyme Time is a fun and interactive session for parents and carers with babies under 18 months old. It promotes the development of your baby’s literacy skills through interactive rhymes and songs.
URL:https://earlyyearsonlinehub.org.au/event/baby-rhyme-time-swan-hill-library-2/2026-07-24/
LOCATION:Swan Hill Library\, 53-67 Campbell Street\, Swan Hill\, Victoria\, 3585\, Australia
CATEGORIES:Weekly Programs
ATTACH;FMTTYPE=image/png:https://earlyyearsonlinehub.org.au/wp-content/uploads/2025/07/SHRL-logo.png
END:VEVENT
BEGIN:VEVENT
DTSTART;TZID=Australia/Melbourne:20260731T103000
DTEND;TZID=Australia/Melbourne:20260731T110000
DTSTAMP:20260423T205117
CREATED:20260209T221559Z
LAST-MODIFIED:20260209T221759Z
UID:10007541-1785493800-1785495600@earlyyearsonlinehub.org.au
SUMMARY:Baby Rhyme Time - Swan Hill Library
DESCRIPTION:Baby Rhyme Time held on Friday mornings at the Swan Hill Regional Library \nBaby Rhyme Time is a fun and interactive session for parents and carers with babies under 18 months old. It promotes the development of your baby’s literacy skills through interactive rhymes and songs.
URL:https://earlyyearsonlinehub.org.au/event/baby-rhyme-time-swan-hill-library-2/2026-07-31/
LOCATION:Swan Hill Library\, 53-67 Campbell Street\, Swan Hill\, Victoria\, 3585\, Australia
CATEGORIES:Weekly Programs
ATTACH;FMTTYPE=image/png:https://earlyyearsonlinehub.org.au/wp-content/uploads/2025/07/SHRL-logo.png
END:VEVENT
BEGIN:VEVENT
DTSTART;TZID=Australia/Melbourne:20260807T103000
DTEND;TZID=Australia/Melbourne:20260807T110000
DTSTAMP:20260423T205117
CREATED:20260209T221559Z
LAST-MODIFIED:20260209T221759Z
UID:10007542-1786098600-1786100400@earlyyearsonlinehub.org.au
SUMMARY:Baby Rhyme Time - Swan Hill Library
DESCRIPTION:Baby Rhyme Time held on Friday mornings at the Swan Hill Regional Library \nBaby Rhyme Time is a fun and interactive session for parents and carers with babies under 18 months old. It promotes the development of your baby’s literacy skills through interactive rhymes and songs.
URL:https://earlyyearsonlinehub.org.au/event/baby-rhyme-time-swan-hill-library-2/2026-08-07/
LOCATION:Swan Hill Library\, 53-67 Campbell Street\, Swan Hill\, Victoria\, 3585\, Australia
CATEGORIES:Weekly Programs
ATTACH;FMTTYPE=image/png:https://earlyyearsonlinehub.org.au/wp-content/uploads/2025/07/SHRL-logo.png
END:VEVENT
BEGIN:VEVENT
DTSTART;TZID=Australia/Melbourne:20260814T103000
DTEND;TZID=Australia/Melbourne:20260814T110000
DTSTAMP:20260423T205117
CREATED:20260209T221559Z
LAST-MODIFIED:20260209T221759Z
UID:10007543-1786703400-1786705200@earlyyearsonlinehub.org.au
SUMMARY:Baby Rhyme Time - Swan Hill Library
DESCRIPTION:Baby Rhyme Time held on Friday mornings at the Swan Hill Regional Library \nBaby Rhyme Time is a fun and interactive session for parents and carers with babies under 18 months old. It promotes the development of your baby’s literacy skills through interactive rhymes and songs.
URL:https://earlyyearsonlinehub.org.au/event/baby-rhyme-time-swan-hill-library-2/2026-08-14/
LOCATION:Swan Hill Library\, 53-67 Campbell Street\, Swan Hill\, Victoria\, 3585\, Australia
CATEGORIES:Weekly Programs
ATTACH;FMTTYPE=image/png:https://earlyyearsonlinehub.org.au/wp-content/uploads/2025/07/SHRL-logo.png
END:VEVENT
BEGIN:VEVENT
DTSTART;TZID=Australia/Melbourne:20260821T103000
DTEND;TZID=Australia/Melbourne:20260821T110000
DTSTAMP:20260423T205117
CREATED:20260209T221559Z
LAST-MODIFIED:20260209T221759Z
UID:10007544-1787308200-1787310000@earlyyearsonlinehub.org.au
SUMMARY:Baby Rhyme Time - Swan Hill Library
DESCRIPTION:Baby Rhyme Time held on Friday mornings at the Swan Hill Regional Library \nBaby Rhyme Time is a fun and interactive session for parents and carers with babies under 18 months old. It promotes the development of your baby’s literacy skills through interactive rhymes and songs.
URL:https://earlyyearsonlinehub.org.au/event/baby-rhyme-time-swan-hill-library-2/2026-08-21/
LOCATION:Swan Hill Library\, 53-67 Campbell Street\, Swan Hill\, Victoria\, 3585\, Australia
CATEGORIES:Weekly Programs
ATTACH;FMTTYPE=image/png:https://earlyyearsonlinehub.org.au/wp-content/uploads/2025/07/SHRL-logo.png
END:VEVENT
BEGIN:VEVENT
DTSTART;TZID=Australia/Melbourne:20260828T103000
DTEND;TZID=Australia/Melbourne:20260828T110000
DTSTAMP:20260423T205117
CREATED:20260209T221559Z
LAST-MODIFIED:20260209T221759Z
UID:10007545-1787913000-1787914800@earlyyearsonlinehub.org.au
SUMMARY:Baby Rhyme Time - Swan Hill Library
DESCRIPTION:Baby Rhyme Time held on Friday mornings at the Swan Hill Regional Library \nBaby Rhyme Time is a fun and interactive session for parents and carers with babies under 18 months old. It promotes the development of your baby’s literacy skills through interactive rhymes and songs.
URL:https://earlyyearsonlinehub.org.au/event/baby-rhyme-time-swan-hill-library-2/2026-08-28/
LOCATION:Swan Hill Library\, 53-67 Campbell Street\, Swan Hill\, Victoria\, 3585\, Australia
CATEGORIES:Weekly Programs
ATTACH;FMTTYPE=image/png:https://earlyyearsonlinehub.org.au/wp-content/uploads/2025/07/SHRL-logo.png
END:VEVENT
BEGIN:VEVENT
DTSTART;TZID=Australia/Melbourne:20260904T103000
DTEND;TZID=Australia/Melbourne:20260904T110000
DTSTAMP:20260423T205117
CREATED:20260209T221559Z
LAST-MODIFIED:20260209T221759Z
UID:10007546-1788517800-1788519600@earlyyearsonlinehub.org.au
SUMMARY:Baby Rhyme Time - Swan Hill Library
DESCRIPTION:Baby Rhyme Time held on Friday mornings at the Swan Hill Regional Library \nBaby Rhyme Time is a fun and interactive session for parents and carers with babies under 18 months old. It promotes the development of your baby’s literacy skills through interactive rhymes and songs.
URL:https://earlyyearsonlinehub.org.au/event/baby-rhyme-time-swan-hill-library-2/2026-09-04/
LOCATION:Swan Hill Library\, 53-67 Campbell Street\, Swan Hill\, Victoria\, 3585\, Australia
CATEGORIES:Weekly Programs
ATTACH;FMTTYPE=image/png:https://earlyyearsonlinehub.org.au/wp-content/uploads/2025/07/SHRL-logo.png
END:VEVENT
BEGIN:VEVENT
DTSTART;TZID=Australia/Melbourne:20260911T103000
DTEND;TZID=Australia/Melbourne:20260911T110000
DTSTAMP:20260423T205117
CREATED:20260209T221559Z
LAST-MODIFIED:20260209T221759Z
UID:10007547-1789122600-1789124400@earlyyearsonlinehub.org.au
SUMMARY:Baby Rhyme Time - Swan Hill Library
DESCRIPTION:Baby Rhyme Time held on Friday mornings at the Swan Hill Regional Library \nBaby Rhyme Time is a fun and interactive session for parents and carers with babies under 18 months old. It promotes the development of your baby’s literacy skills through interactive rhymes and songs.
URL:https://earlyyearsonlinehub.org.au/event/baby-rhyme-time-swan-hill-library-2/2026-09-11/
LOCATION:Swan Hill Library\, 53-67 Campbell Street\, Swan Hill\, Victoria\, 3585\, Australia
CATEGORIES:Weekly Programs
ATTACH;FMTTYPE=image/png:https://earlyyearsonlinehub.org.au/wp-content/uploads/2025/07/SHRL-logo.png
END:VEVENT
BEGIN:VEVENT
DTSTART;TZID=Australia/Melbourne:20260918T103000
DTEND;TZID=Australia/Melbourne:20260918T110000
DTSTAMP:20260423T205117
CREATED:20260209T221559Z
LAST-MODIFIED:20260209T221759Z
UID:10007548-1789727400-1789729200@earlyyearsonlinehub.org.au
SUMMARY:Baby Rhyme Time - Swan Hill Library
DESCRIPTION:Baby Rhyme Time held on Friday mornings at the Swan Hill Regional Library \nBaby Rhyme Time is a fun and interactive session for parents and carers with babies under 18 months old. It promotes the development of your baby’s literacy skills through interactive rhymes and songs.
URL:https://earlyyearsonlinehub.org.au/event/baby-rhyme-time-swan-hill-library-2/2026-09-18/
LOCATION:Swan Hill Library\, 53-67 Campbell Street\, Swan Hill\, Victoria\, 3585\, Australia
CATEGORIES:Weekly Programs
ATTACH;FMTTYPE=image/png:https://earlyyearsonlinehub.org.au/wp-content/uploads/2025/07/SHRL-logo.png
END:VEVENT
BEGIN:VEVENT
DTSTART;TZID=Australia/Melbourne:20260925T103000
DTEND;TZID=Australia/Melbourne:20260925T110000
DTSTAMP:20260423T205117
CREATED:20260209T221559Z
LAST-MODIFIED:20260209T221759Z
UID:10007549-1790332200-1790334000@earlyyearsonlinehub.org.au
SUMMARY:Baby Rhyme Time - Swan Hill Library
DESCRIPTION:Baby Rhyme Time held on Friday mornings at the Swan Hill Regional Library \nBaby Rhyme Time is a fun and interactive session for parents and carers with babies under 18 months old. It promotes the development of your baby’s literacy skills through interactive rhymes and songs.
URL:https://earlyyearsonlinehub.org.au/event/baby-rhyme-time-swan-hill-library-2/2026-09-25/
LOCATION:Swan Hill Library\, 53-67 Campbell Street\, Swan Hill\, Victoria\, 3585\, Australia
CATEGORIES:Weekly Programs
ATTACH;FMTTYPE=image/png:https://earlyyearsonlinehub.org.au/wp-content/uploads/2025/07/SHRL-logo.png
END:VEVENT
BEGIN:VEVENT
DTSTART;TZID=Australia/Melbourne:20261002T103000
DTEND;TZID=Australia/Melbourne:20261002T110000
DTSTAMP:20260423T205117
CREATED:20260209T221559Z
LAST-MODIFIED:20260209T221759Z
UID:10007550-1790937000-1790938800@earlyyearsonlinehub.org.au
SUMMARY:Baby Rhyme Time - Swan Hill Library
DESCRIPTION:Baby Rhyme Time held on Friday mornings at the Swan Hill Regional Library \nBaby Rhyme Time is a fun and interactive session for parents and carers with babies under 18 months old. It promotes the development of your baby’s literacy skills through interactive rhymes and songs.
URL:https://earlyyearsonlinehub.org.au/event/baby-rhyme-time-swan-hill-library-2/2026-10-02/
LOCATION:Swan Hill Library\, 53-67 Campbell Street\, Swan Hill\, Victoria\, 3585\, Australia
CATEGORIES:Weekly Programs
ATTACH;FMTTYPE=image/png:https://earlyyearsonlinehub.org.au/wp-content/uploads/2025/07/SHRL-logo.png
END:VEVENT
BEGIN:VEVENT
DTSTART;TZID=Australia/Melbourne:20261009T103000
DTEND;TZID=Australia/Melbourne:20261009T110000
DTSTAMP:20260423T205117
CREATED:20260209T221559Z
LAST-MODIFIED:20260209T221759Z
UID:10007551-1791541800-1791543600@earlyyearsonlinehub.org.au
SUMMARY:Baby Rhyme Time - Swan Hill Library
DESCRIPTION:Baby Rhyme Time held on Friday mornings at the Swan Hill Regional Library \nBaby Rhyme Time is a fun and interactive session for parents and carers with babies under 18 months old. It promotes the development of your baby’s literacy skills through interactive rhymes and songs.
URL:https://earlyyearsonlinehub.org.au/event/baby-rhyme-time-swan-hill-library-2/2026-10-09/
LOCATION:Swan Hill Library\, 53-67 Campbell Street\, Swan Hill\, Victoria\, 3585\, Australia
CATEGORIES:Weekly Programs
ATTACH;FMTTYPE=image/png:https://earlyyearsonlinehub.org.au/wp-content/uploads/2025/07/SHRL-logo.png
END:VEVENT
BEGIN:VEVENT
DTSTART;TZID=Australia/Melbourne:20261016T103000
DTEND;TZID=Australia/Melbourne:20261016T110000
DTSTAMP:20260423T205117
CREATED:20260209T221559Z
LAST-MODIFIED:20260209T221759Z
UID:10007552-1792146600-1792148400@earlyyearsonlinehub.org.au
SUMMARY:Baby Rhyme Time - Swan Hill Library
DESCRIPTION:Baby Rhyme Time held on Friday mornings at the Swan Hill Regional Library \nBaby Rhyme Time is a fun and interactive session for parents and carers with babies under 18 months old. It promotes the development of your baby’s literacy skills through interactive rhymes and songs.
URL:https://earlyyearsonlinehub.org.au/event/baby-rhyme-time-swan-hill-library-2/2026-10-16/
LOCATION:Swan Hill Library\, 53-67 Campbell Street\, Swan Hill\, Victoria\, 3585\, Australia
CATEGORIES:Weekly Programs
ATTACH;FMTTYPE=image/png:https://earlyyearsonlinehub.org.au/wp-content/uploads/2025/07/SHRL-logo.png
END:VEVENT
BEGIN:VEVENT
DTSTART;TZID=Australia/Melbourne:20261023T103000
DTEND;TZID=Australia/Melbourne:20261023T110000
DTSTAMP:20260423T205117
CREATED:20260209T221559Z
LAST-MODIFIED:20260209T221759Z
UID:10007553-1792751400-1792753200@earlyyearsonlinehub.org.au
SUMMARY:Baby Rhyme Time - Swan Hill Library
DESCRIPTION:Baby Rhyme Time held on Friday mornings at the Swan Hill Regional Library \nBaby Rhyme Time is a fun and interactive session for parents and carers with babies under 18 months old. It promotes the development of your baby’s literacy skills through interactive rhymes and songs.
URL:https://earlyyearsonlinehub.org.au/event/baby-rhyme-time-swan-hill-library-2/2026-10-23/
LOCATION:Swan Hill Library\, 53-67 Campbell Street\, Swan Hill\, Victoria\, 3585\, Australia
CATEGORIES:Weekly Programs
ATTACH;FMTTYPE=image/png:https://earlyyearsonlinehub.org.au/wp-content/uploads/2025/07/SHRL-logo.png
END:VEVENT
BEGIN:VEVENT
DTSTART;TZID=Australia/Melbourne:20261030T103000
DTEND;TZID=Australia/Melbourne:20261030T110000
DTSTAMP:20260423T205117
CREATED:20260209T221559Z
LAST-MODIFIED:20260209T221759Z
UID:10007554-1793356200-1793358000@earlyyearsonlinehub.org.au
SUMMARY:Baby Rhyme Time - Swan Hill Library
DESCRIPTION:Baby Rhyme Time held on Friday mornings at the Swan Hill Regional Library \nBaby Rhyme Time is a fun and interactive session for parents and carers with babies under 18 months old. It promotes the development of your baby’s literacy skills through interactive rhymes and songs.
URL:https://earlyyearsonlinehub.org.au/event/baby-rhyme-time-swan-hill-library-2/2026-10-30/
LOCATION:Swan Hill Library\, 53-67 Campbell Street\, Swan Hill\, Victoria\, 3585\, Australia
CATEGORIES:Weekly Programs
ATTACH;FMTTYPE=image/png:https://earlyyearsonlinehub.org.au/wp-content/uploads/2025/07/SHRL-logo.png
END:VEVENT
BEGIN:VEVENT
DTSTART;TZID=Australia/Melbourne:20261106T103000
DTEND;TZID=Australia/Melbourne:20261106T110000
DTSTAMP:20260423T205117
CREATED:20260209T221559Z
LAST-MODIFIED:20260209T221759Z
UID:10007555-1793961000-1793962800@earlyyearsonlinehub.org.au
SUMMARY:Baby Rhyme Time - Swan Hill Library
DESCRIPTION:Baby Rhyme Time held on Friday mornings at the Swan Hill Regional Library \nBaby Rhyme Time is a fun and interactive session for parents and carers with babies under 18 months old. It promotes the development of your baby’s literacy skills through interactive rhymes and songs.
URL:https://earlyyearsonlinehub.org.au/event/baby-rhyme-time-swan-hill-library-2/2026-11-06/
LOCATION:Swan Hill Library\, 53-67 Campbell Street\, Swan Hill\, Victoria\, 3585\, Australia
CATEGORIES:Weekly Programs
ATTACH;FMTTYPE=image/png:https://earlyyearsonlinehub.org.au/wp-content/uploads/2025/07/SHRL-logo.png
END:VEVENT
BEGIN:VEVENT
DTSTART;TZID=Australia/Melbourne:20261113T103000
DTEND;TZID=Australia/Melbourne:20261113T110000
DTSTAMP:20260423T205117
CREATED:20260209T221559Z
LAST-MODIFIED:20260209T221759Z
UID:10007556-1794565800-1794567600@earlyyearsonlinehub.org.au
SUMMARY:Baby Rhyme Time - Swan Hill Library
DESCRIPTION:Baby Rhyme Time held on Friday mornings at the Swan Hill Regional Library \nBaby Rhyme Time is a fun and interactive session for parents and carers with babies under 18 months old. It promotes the development of your baby’s literacy skills through interactive rhymes and songs.
URL:https://earlyyearsonlinehub.org.au/event/baby-rhyme-time-swan-hill-library-2/2026-11-13/
LOCATION:Swan Hill Library\, 53-67 Campbell Street\, Swan Hill\, Victoria\, 3585\, Australia
CATEGORIES:Weekly Programs
ATTACH;FMTTYPE=image/png:https://earlyyearsonlinehub.org.au/wp-content/uploads/2025/07/SHRL-logo.png
END:VEVENT
END:VCALENDAR