BEGIN:VCALENDAR
VERSION:2.0
PRODID:-//Early Years Online Hub - ECPv6.15.20//NONSGML v1.0//EN
CALSCALE:GREGORIAN
METHOD:PUBLISH
X-WR-CALNAME:Early Years Online Hub
X-ORIGINAL-URL:https://earlyyearsonlinehub.org.au
X-WR-CALDESC:Events for Early Years Online Hub
REFRESH-INTERVAL;VALUE=DURATION:PT1H
X-Robots-Tag:noindex
X-PUBLISHED-TTL:PT1H
BEGIN:VTIMEZONE
TZID:Australia/Melbourne
BEGIN:STANDARD
TZOFFSETFROM:+1100
TZOFFSETTO:+1000
TZNAME:AEST
DTSTART:20250405T160000
END:STANDARD
BEGIN:DAYLIGHT
TZOFFSETFROM:+1000
TZOFFSETTO:+1100
TZNAME:AEDT
DTSTART:20251004T160000
END:DAYLIGHT
BEGIN:STANDARD
TZOFFSETFROM:+1100
TZOFFSETTO:+1000
TZNAME:AEST
DTSTART:20260404T160000
END:STANDARD
BEGIN:DAYLIGHT
TZOFFSETFROM:+1000
TZOFFSETTO:+1100
TZNAME:AEDT
DTSTART:20261003T160000
END:DAYLIGHT
BEGIN:STANDARD
TZOFFSETFROM:+1100
TZOFFSETTO:+1000
TZNAME:AEST
DTSTART:20270403T160000
END:STANDARD
BEGIN:DAYLIGHT
TZOFFSETFROM:+1000
TZOFFSETTO:+1100
TZNAME:AEDT
DTSTART:20271002T160000
END:DAYLIGHT
END:VTIMEZONE
BEGIN:VEVENT
DTSTART;TZID=Australia/Melbourne:20260430T093000
DTEND;TZID=Australia/Melbourne:20260430T110000
DTSTAMP:20260424T005811
CREATED:20250924T040708Z
LAST-MODIFIED:20250924T040709Z
UID:10005155-1777541400-1777546800@earlyyearsonlinehub.org.au
SUMMARY:Mainly Music
DESCRIPTION:Cost: $5 per family. An interactive music session followed by playtime. Open to all children (babies to pre-schoolers) with a caregiver present. Morning tea provided.
URL:https://earlyyearsonlinehub.org.au/event/mainly-music-2/2026-04-30/
LOCATION:Swan Hill Library\, 53-67 Campbell Street\, Swan Hill\, Victoria\, 3585\, Australia
CATEGORIES:Weekly Programs
ATTACH;FMTTYPE=image/png:https://earlyyearsonlinehub.org.au/wp-content/uploads/2025/06/mainly-music.png
END:VEVENT
BEGIN:VEVENT
DTSTART;TZID=Australia/Melbourne:20260507T093000
DTEND;TZID=Australia/Melbourne:20260507T110000
DTSTAMP:20260424T005811
CREATED:20250924T040708Z
LAST-MODIFIED:20250924T040709Z
UID:10005156-1778146200-1778151600@earlyyearsonlinehub.org.au
SUMMARY:Mainly Music
DESCRIPTION:Cost: $5 per family. An interactive music session followed by playtime. Open to all children (babies to pre-schoolers) with a caregiver present. Morning tea provided.
URL:https://earlyyearsonlinehub.org.au/event/mainly-music-2/2026-05-07/
LOCATION:Swan Hill Library\, 53-67 Campbell Street\, Swan Hill\, Victoria\, 3585\, Australia
CATEGORIES:Weekly Programs
ATTACH;FMTTYPE=image/png:https://earlyyearsonlinehub.org.au/wp-content/uploads/2025/06/mainly-music.png
END:VEVENT
BEGIN:VEVENT
DTSTART;TZID=Australia/Melbourne:20260514T093000
DTEND;TZID=Australia/Melbourne:20260514T110000
DTSTAMP:20260424T005811
CREATED:20250924T040708Z
LAST-MODIFIED:20250924T040709Z
UID:10005157-1778751000-1778756400@earlyyearsonlinehub.org.au
SUMMARY:Mainly Music
DESCRIPTION:Cost: $5 per family. An interactive music session followed by playtime. Open to all children (babies to pre-schoolers) with a caregiver present. Morning tea provided.
URL:https://earlyyearsonlinehub.org.au/event/mainly-music-2/2026-05-14/
LOCATION:Swan Hill Library\, 53-67 Campbell Street\, Swan Hill\, Victoria\, 3585\, Australia
CATEGORIES:Weekly Programs
ATTACH;FMTTYPE=image/png:https://earlyyearsonlinehub.org.au/wp-content/uploads/2025/06/mainly-music.png
END:VEVENT
BEGIN:VEVENT
DTSTART;TZID=Australia/Melbourne:20260521T093000
DTEND;TZID=Australia/Melbourne:20260521T110000
DTSTAMP:20260424T005811
CREATED:20250924T040708Z
LAST-MODIFIED:20250924T040709Z
UID:10005158-1779355800-1779361200@earlyyearsonlinehub.org.au
SUMMARY:Mainly Music
DESCRIPTION:Cost: $5 per family. An interactive music session followed by playtime. Open to all children (babies to pre-schoolers) with a caregiver present. Morning tea provided.
URL:https://earlyyearsonlinehub.org.au/event/mainly-music-2/2026-05-21/
LOCATION:Swan Hill Library\, 53-67 Campbell Street\, Swan Hill\, Victoria\, 3585\, Australia
CATEGORIES:Weekly Programs
ATTACH;FMTTYPE=image/png:https://earlyyearsonlinehub.org.au/wp-content/uploads/2025/06/mainly-music.png
END:VEVENT
BEGIN:VEVENT
DTSTART;TZID=Australia/Melbourne:20260528T093000
DTEND;TZID=Australia/Melbourne:20260528T110000
DTSTAMP:20260424T005811
CREATED:20250924T040708Z
LAST-MODIFIED:20250924T040709Z
UID:10005159-1779960600-1779966000@earlyyearsonlinehub.org.au
SUMMARY:Mainly Music
DESCRIPTION:Cost: $5 per family. An interactive music session followed by playtime. Open to all children (babies to pre-schoolers) with a caregiver present. Morning tea provided.
URL:https://earlyyearsonlinehub.org.au/event/mainly-music-2/2026-05-28/
LOCATION:Swan Hill Library\, 53-67 Campbell Street\, Swan Hill\, Victoria\, 3585\, Australia
CATEGORIES:Weekly Programs
ATTACH;FMTTYPE=image/png:https://earlyyearsonlinehub.org.au/wp-content/uploads/2025/06/mainly-music.png
END:VEVENT
BEGIN:VEVENT
DTSTART;TZID=Australia/Melbourne:20260604T093000
DTEND;TZID=Australia/Melbourne:20260604T110000
DTSTAMP:20260424T005811
CREATED:20250924T040708Z
LAST-MODIFIED:20250924T040709Z
UID:10005160-1780565400-1780570800@earlyyearsonlinehub.org.au
SUMMARY:Mainly Music
DESCRIPTION:Cost: $5 per family. An interactive music session followed by playtime. Open to all children (babies to pre-schoolers) with a caregiver present. Morning tea provided.
URL:https://earlyyearsonlinehub.org.au/event/mainly-music-2/2026-06-04/
LOCATION:Swan Hill Library\, 53-67 Campbell Street\, Swan Hill\, Victoria\, 3585\, Australia
CATEGORIES:Weekly Programs
ATTACH;FMTTYPE=image/png:https://earlyyearsonlinehub.org.au/wp-content/uploads/2025/06/mainly-music.png
END:VEVENT
BEGIN:VEVENT
DTSTART;TZID=Australia/Melbourne:20260611T093000
DTEND;TZID=Australia/Melbourne:20260611T110000
DTSTAMP:20260424T005811
CREATED:20250924T040708Z
LAST-MODIFIED:20250924T040709Z
UID:10005161-1781170200-1781175600@earlyyearsonlinehub.org.au
SUMMARY:Mainly Music
DESCRIPTION:Cost: $5 per family. An interactive music session followed by playtime. Open to all children (babies to pre-schoolers) with a caregiver present. Morning tea provided.
URL:https://earlyyearsonlinehub.org.au/event/mainly-music-2/2026-06-11/
LOCATION:Swan Hill Library\, 53-67 Campbell Street\, Swan Hill\, Victoria\, 3585\, Australia
CATEGORIES:Weekly Programs
ATTACH;FMTTYPE=image/png:https://earlyyearsonlinehub.org.au/wp-content/uploads/2025/06/mainly-music.png
END:VEVENT
BEGIN:VEVENT
DTSTART;TZID=Australia/Melbourne:20260618T093000
DTEND;TZID=Australia/Melbourne:20260618T110000
DTSTAMP:20260424T005811
CREATED:20250924T040708Z
LAST-MODIFIED:20250924T040709Z
UID:10005162-1781775000-1781780400@earlyyearsonlinehub.org.au
SUMMARY:Mainly Music
DESCRIPTION:Cost: $5 per family. An interactive music session followed by playtime. Open to all children (babies to pre-schoolers) with a caregiver present. Morning tea provided.
URL:https://earlyyearsonlinehub.org.au/event/mainly-music-2/2026-06-18/
LOCATION:Swan Hill Library\, 53-67 Campbell Street\, Swan Hill\, Victoria\, 3585\, Australia
CATEGORIES:Weekly Programs
ATTACH;FMTTYPE=image/png:https://earlyyearsonlinehub.org.au/wp-content/uploads/2025/06/mainly-music.png
END:VEVENT
BEGIN:VEVENT
DTSTART;TZID=Australia/Melbourne:20260625T093000
DTEND;TZID=Australia/Melbourne:20260625T110000
DTSTAMP:20260424T005811
CREATED:20250924T040708Z
LAST-MODIFIED:20250924T040709Z
UID:10005163-1782379800-1782385200@earlyyearsonlinehub.org.au
SUMMARY:Mainly Music
DESCRIPTION:Cost: $5 per family. An interactive music session followed by playtime. Open to all children (babies to pre-schoolers) with a caregiver present. Morning tea provided.
URL:https://earlyyearsonlinehub.org.au/event/mainly-music-2/2026-06-25/
LOCATION:Swan Hill Library\, 53-67 Campbell Street\, Swan Hill\, Victoria\, 3585\, Australia
CATEGORIES:Weekly Programs
ATTACH;FMTTYPE=image/png:https://earlyyearsonlinehub.org.au/wp-content/uploads/2025/06/mainly-music.png
END:VEVENT
BEGIN:VEVENT
DTSTART;TZID=Australia/Melbourne:20260702T093000
DTEND;TZID=Australia/Melbourne:20260702T110000
DTSTAMP:20260424T005811
CREATED:20250924T040708Z
LAST-MODIFIED:20250924T040709Z
UID:10005164-1782984600-1782990000@earlyyearsonlinehub.org.au
SUMMARY:Mainly Music
DESCRIPTION:Cost: $5 per family. An interactive music session followed by playtime. Open to all children (babies to pre-schoolers) with a caregiver present. Morning tea provided.
URL:https://earlyyearsonlinehub.org.au/event/mainly-music-2/2026-07-02/
LOCATION:Swan Hill Library\, 53-67 Campbell Street\, Swan Hill\, Victoria\, 3585\, Australia
CATEGORIES:Weekly Programs
ATTACH;FMTTYPE=image/png:https://earlyyearsonlinehub.org.au/wp-content/uploads/2025/06/mainly-music.png
END:VEVENT
BEGIN:VEVENT
DTSTART;TZID=Australia/Melbourne:20260709T093000
DTEND;TZID=Australia/Melbourne:20260709T110000
DTSTAMP:20260424T005811
CREATED:20250924T040708Z
LAST-MODIFIED:20250924T040709Z
UID:10005165-1783589400-1783594800@earlyyearsonlinehub.org.au
SUMMARY:Mainly Music
DESCRIPTION:Cost: $5 per family. An interactive music session followed by playtime. Open to all children (babies to pre-schoolers) with a caregiver present. Morning tea provided.
URL:https://earlyyearsonlinehub.org.au/event/mainly-music-2/2026-07-09/
LOCATION:Swan Hill Library\, 53-67 Campbell Street\, Swan Hill\, Victoria\, 3585\, Australia
CATEGORIES:Weekly Programs
ATTACH;FMTTYPE=image/png:https://earlyyearsonlinehub.org.au/wp-content/uploads/2025/06/mainly-music.png
END:VEVENT
BEGIN:VEVENT
DTSTART;TZID=Australia/Melbourne:20260716T093000
DTEND;TZID=Australia/Melbourne:20260716T110000
DTSTAMP:20260424T005811
CREATED:20250924T040708Z
LAST-MODIFIED:20250924T040709Z
UID:10005166-1784194200-1784199600@earlyyearsonlinehub.org.au
SUMMARY:Mainly Music
DESCRIPTION:Cost: $5 per family. An interactive music session followed by playtime. Open to all children (babies to pre-schoolers) with a caregiver present. Morning tea provided.
URL:https://earlyyearsonlinehub.org.au/event/mainly-music-2/2026-07-16/
LOCATION:Swan Hill Library\, 53-67 Campbell Street\, Swan Hill\, Victoria\, 3585\, Australia
CATEGORIES:Weekly Programs
ATTACH;FMTTYPE=image/png:https://earlyyearsonlinehub.org.au/wp-content/uploads/2025/06/mainly-music.png
END:VEVENT
BEGIN:VEVENT
DTSTART;TZID=Australia/Melbourne:20260723T093000
DTEND;TZID=Australia/Melbourne:20260723T110000
DTSTAMP:20260424T005811
CREATED:20250924T040708Z
LAST-MODIFIED:20250924T040709Z
UID:10005167-1784799000-1784804400@earlyyearsonlinehub.org.au
SUMMARY:Mainly Music
DESCRIPTION:Cost: $5 per family. An interactive music session followed by playtime. Open to all children (babies to pre-schoolers) with a caregiver present. Morning tea provided.
URL:https://earlyyearsonlinehub.org.au/event/mainly-music-2/2026-07-23/
LOCATION:Swan Hill Library\, 53-67 Campbell Street\, Swan Hill\, Victoria\, 3585\, Australia
CATEGORIES:Weekly Programs
ATTACH;FMTTYPE=image/png:https://earlyyearsonlinehub.org.au/wp-content/uploads/2025/06/mainly-music.png
END:VEVENT
BEGIN:VEVENT
DTSTART;TZID=Australia/Melbourne:20260730T093000
DTEND;TZID=Australia/Melbourne:20260730T110000
DTSTAMP:20260424T005811
CREATED:20250924T040708Z
LAST-MODIFIED:20250924T040709Z
UID:10005168-1785403800-1785409200@earlyyearsonlinehub.org.au
SUMMARY:Mainly Music
DESCRIPTION:Cost: $5 per family. An interactive music session followed by playtime. Open to all children (babies to pre-schoolers) with a caregiver present. Morning tea provided.
URL:https://earlyyearsonlinehub.org.au/event/mainly-music-2/2026-07-30/
LOCATION:Swan Hill Library\, 53-67 Campbell Street\, Swan Hill\, Victoria\, 3585\, Australia
CATEGORIES:Weekly Programs
ATTACH;FMTTYPE=image/png:https://earlyyearsonlinehub.org.au/wp-content/uploads/2025/06/mainly-music.png
END:VEVENT
BEGIN:VEVENT
DTSTART;TZID=Australia/Melbourne:20260806T093000
DTEND;TZID=Australia/Melbourne:20260806T110000
DTSTAMP:20260424T005811
CREATED:20250924T040708Z
LAST-MODIFIED:20250924T040709Z
UID:10005169-1786008600-1786014000@earlyyearsonlinehub.org.au
SUMMARY:Mainly Music
DESCRIPTION:Cost: $5 per family. An interactive music session followed by playtime. Open to all children (babies to pre-schoolers) with a caregiver present. Morning tea provided.
URL:https://earlyyearsonlinehub.org.au/event/mainly-music-2/2026-08-06/
LOCATION:Swan Hill Library\, 53-67 Campbell Street\, Swan Hill\, Victoria\, 3585\, Australia
CATEGORIES:Weekly Programs
ATTACH;FMTTYPE=image/png:https://earlyyearsonlinehub.org.au/wp-content/uploads/2025/06/mainly-music.png
END:VEVENT
BEGIN:VEVENT
DTSTART;TZID=Australia/Melbourne:20260813T093000
DTEND;TZID=Australia/Melbourne:20260813T110000
DTSTAMP:20260424T005811
CREATED:20250924T040708Z
LAST-MODIFIED:20250924T040709Z
UID:10005170-1786613400-1786618800@earlyyearsonlinehub.org.au
SUMMARY:Mainly Music
DESCRIPTION:Cost: $5 per family. An interactive music session followed by playtime. Open to all children (babies to pre-schoolers) with a caregiver present. Morning tea provided.
URL:https://earlyyearsonlinehub.org.au/event/mainly-music-2/2026-08-13/
LOCATION:Swan Hill Library\, 53-67 Campbell Street\, Swan Hill\, Victoria\, 3585\, Australia
CATEGORIES:Weekly Programs
ATTACH;FMTTYPE=image/png:https://earlyyearsonlinehub.org.au/wp-content/uploads/2025/06/mainly-music.png
END:VEVENT
BEGIN:VEVENT
DTSTART;TZID=Australia/Melbourne:20260820T093000
DTEND;TZID=Australia/Melbourne:20260820T110000
DTSTAMP:20260424T005811
CREATED:20250924T040708Z
LAST-MODIFIED:20250924T040709Z
UID:10005171-1787218200-1787223600@earlyyearsonlinehub.org.au
SUMMARY:Mainly Music
DESCRIPTION:Cost: $5 per family. An interactive music session followed by playtime. Open to all children (babies to pre-schoolers) with a caregiver present. Morning tea provided.
URL:https://earlyyearsonlinehub.org.au/event/mainly-music-2/2026-08-20/
LOCATION:Swan Hill Library\, 53-67 Campbell Street\, Swan Hill\, Victoria\, 3585\, Australia
CATEGORIES:Weekly Programs
ATTACH;FMTTYPE=image/png:https://earlyyearsonlinehub.org.au/wp-content/uploads/2025/06/mainly-music.png
END:VEVENT
BEGIN:VEVENT
DTSTART;TZID=Australia/Melbourne:20260827T093000
DTEND;TZID=Australia/Melbourne:20260827T110000
DTSTAMP:20260424T005811
CREATED:20250924T040708Z
LAST-MODIFIED:20250924T040709Z
UID:10005172-1787823000-1787828400@earlyyearsonlinehub.org.au
SUMMARY:Mainly Music
DESCRIPTION:Cost: $5 per family. An interactive music session followed by playtime. Open to all children (babies to pre-schoolers) with a caregiver present. Morning tea provided.
URL:https://earlyyearsonlinehub.org.au/event/mainly-music-2/2026-08-27/
LOCATION:Swan Hill Library\, 53-67 Campbell Street\, Swan Hill\, Victoria\, 3585\, Australia
CATEGORIES:Weekly Programs
ATTACH;FMTTYPE=image/png:https://earlyyearsonlinehub.org.au/wp-content/uploads/2025/06/mainly-music.png
END:VEVENT
BEGIN:VEVENT
DTSTART;TZID=Australia/Melbourne:20260903T093000
DTEND;TZID=Australia/Melbourne:20260903T110000
DTSTAMP:20260424T005811
CREATED:20250924T040708Z
LAST-MODIFIED:20250924T040709Z
UID:10005173-1788427800-1788433200@earlyyearsonlinehub.org.au
SUMMARY:Mainly Music
DESCRIPTION:Cost: $5 per family. An interactive music session followed by playtime. Open to all children (babies to pre-schoolers) with a caregiver present. Morning tea provided.
URL:https://earlyyearsonlinehub.org.au/event/mainly-music-2/2026-09-03/
LOCATION:Swan Hill Library\, 53-67 Campbell Street\, Swan Hill\, Victoria\, 3585\, Australia
CATEGORIES:Weekly Programs
ATTACH;FMTTYPE=image/png:https://earlyyearsonlinehub.org.au/wp-content/uploads/2025/06/mainly-music.png
END:VEVENT
BEGIN:VEVENT
DTSTART;TZID=Australia/Melbourne:20260910T093000
DTEND;TZID=Australia/Melbourne:20260910T110000
DTSTAMP:20260424T005811
CREATED:20250924T040708Z
LAST-MODIFIED:20250924T040709Z
UID:10005174-1789032600-1789038000@earlyyearsonlinehub.org.au
SUMMARY:Mainly Music
DESCRIPTION:Cost: $5 per family. An interactive music session followed by playtime. Open to all children (babies to pre-schoolers) with a caregiver present. Morning tea provided.
URL:https://earlyyearsonlinehub.org.au/event/mainly-music-2/2026-09-10/
LOCATION:Swan Hill Library\, 53-67 Campbell Street\, Swan Hill\, Victoria\, 3585\, Australia
CATEGORIES:Weekly Programs
ATTACH;FMTTYPE=image/png:https://earlyyearsonlinehub.org.au/wp-content/uploads/2025/06/mainly-music.png
END:VEVENT
BEGIN:VEVENT
DTSTART;TZID=Australia/Melbourne:20260917T093000
DTEND;TZID=Australia/Melbourne:20260917T110000
DTSTAMP:20260424T005811
CREATED:20250924T040708Z
LAST-MODIFIED:20250924T040709Z
UID:10005175-1789637400-1789642800@earlyyearsonlinehub.org.au
SUMMARY:Mainly Music
DESCRIPTION:Cost: $5 per family. An interactive music session followed by playtime. Open to all children (babies to pre-schoolers) with a caregiver present. Morning tea provided.
URL:https://earlyyearsonlinehub.org.au/event/mainly-music-2/2026-09-17/
LOCATION:Swan Hill Library\, 53-67 Campbell Street\, Swan Hill\, Victoria\, 3585\, Australia
CATEGORIES:Weekly Programs
ATTACH;FMTTYPE=image/png:https://earlyyearsonlinehub.org.au/wp-content/uploads/2025/06/mainly-music.png
END:VEVENT
BEGIN:VEVENT
DTSTART;TZID=Australia/Melbourne:20260924T093000
DTEND;TZID=Australia/Melbourne:20260924T110000
DTSTAMP:20260424T005811
CREATED:20250924T040708Z
LAST-MODIFIED:20250924T040709Z
UID:10005176-1790242200-1790247600@earlyyearsonlinehub.org.au
SUMMARY:Mainly Music
DESCRIPTION:Cost: $5 per family. An interactive music session followed by playtime. Open to all children (babies to pre-schoolers) with a caregiver present. Morning tea provided.
URL:https://earlyyearsonlinehub.org.au/event/mainly-music-2/2026-09-24/
LOCATION:Swan Hill Library\, 53-67 Campbell Street\, Swan Hill\, Victoria\, 3585\, Australia
CATEGORIES:Weekly Programs
ATTACH;FMTTYPE=image/png:https://earlyyearsonlinehub.org.au/wp-content/uploads/2025/06/mainly-music.png
END:VEVENT
BEGIN:VEVENT
DTSTART;TZID=Australia/Melbourne:20261001T093000
DTEND;TZID=Australia/Melbourne:20261001T110000
DTSTAMP:20260424T005811
CREATED:20250924T040708Z
LAST-MODIFIED:20250924T040709Z
UID:10005177-1790847000-1790852400@earlyyearsonlinehub.org.au
SUMMARY:Mainly Music
DESCRIPTION:Cost: $5 per family. An interactive music session followed by playtime. Open to all children (babies to pre-schoolers) with a caregiver present. Morning tea provided.
URL:https://earlyyearsonlinehub.org.au/event/mainly-music-2/2026-10-01/
LOCATION:Swan Hill Library\, 53-67 Campbell Street\, Swan Hill\, Victoria\, 3585\, Australia
CATEGORIES:Weekly Programs
ATTACH;FMTTYPE=image/png:https://earlyyearsonlinehub.org.au/wp-content/uploads/2025/06/mainly-music.png
END:VEVENT
BEGIN:VEVENT
DTSTART;TZID=Australia/Melbourne:20261008T093000
DTEND;TZID=Australia/Melbourne:20261008T110000
DTSTAMP:20260424T005811
CREATED:20250924T040708Z
LAST-MODIFIED:20250924T040709Z
UID:10005178-1791451800-1791457200@earlyyearsonlinehub.org.au
SUMMARY:Mainly Music
DESCRIPTION:Cost: $5 per family. An interactive music session followed by playtime. Open to all children (babies to pre-schoolers) with a caregiver present. Morning tea provided.
URL:https://earlyyearsonlinehub.org.au/event/mainly-music-2/2026-10-08/
LOCATION:Swan Hill Library\, 53-67 Campbell Street\, Swan Hill\, Victoria\, 3585\, Australia
CATEGORIES:Weekly Programs
ATTACH;FMTTYPE=image/png:https://earlyyearsonlinehub.org.au/wp-content/uploads/2025/06/mainly-music.png
END:VEVENT
BEGIN:VEVENT
DTSTART;TZID=Australia/Melbourne:20261015T093000
DTEND;TZID=Australia/Melbourne:20261015T110000
DTSTAMP:20260424T005811
CREATED:20250924T040708Z
LAST-MODIFIED:20250924T040709Z
UID:10005179-1792056600-1792062000@earlyyearsonlinehub.org.au
SUMMARY:Mainly Music
DESCRIPTION:Cost: $5 per family. An interactive music session followed by playtime. Open to all children (babies to pre-schoolers) with a caregiver present. Morning tea provided.
URL:https://earlyyearsonlinehub.org.au/event/mainly-music-2/2026-10-15/
LOCATION:Swan Hill Library\, 53-67 Campbell Street\, Swan Hill\, Victoria\, 3585\, Australia
CATEGORIES:Weekly Programs
ATTACH;FMTTYPE=image/png:https://earlyyearsonlinehub.org.au/wp-content/uploads/2025/06/mainly-music.png
END:VEVENT
BEGIN:VEVENT
DTSTART;TZID=Australia/Melbourne:20261022T093000
DTEND;TZID=Australia/Melbourne:20261022T110000
DTSTAMP:20260424T005811
CREATED:20250924T040708Z
LAST-MODIFIED:20250924T040709Z
UID:10005180-1792661400-1792666800@earlyyearsonlinehub.org.au
SUMMARY:Mainly Music
DESCRIPTION:Cost: $5 per family. An interactive music session followed by playtime. Open to all children (babies to pre-schoolers) with a caregiver present. Morning tea provided.
URL:https://earlyyearsonlinehub.org.au/event/mainly-music-2/2026-10-22/
LOCATION:Swan Hill Library\, 53-67 Campbell Street\, Swan Hill\, Victoria\, 3585\, Australia
CATEGORIES:Weekly Programs
ATTACH;FMTTYPE=image/png:https://earlyyearsonlinehub.org.au/wp-content/uploads/2025/06/mainly-music.png
END:VEVENT
BEGIN:VEVENT
DTSTART;TZID=Australia/Melbourne:20261029T093000
DTEND;TZID=Australia/Melbourne:20261029T110000
DTSTAMP:20260424T005811
CREATED:20250924T040708Z
LAST-MODIFIED:20250924T040709Z
UID:10005181-1793266200-1793271600@earlyyearsonlinehub.org.au
SUMMARY:Mainly Music
DESCRIPTION:Cost: $5 per family. An interactive music session followed by playtime. Open to all children (babies to pre-schoolers) with a caregiver present. Morning tea provided.
URL:https://earlyyearsonlinehub.org.au/event/mainly-music-2/2026-10-29/
LOCATION:Swan Hill Library\, 53-67 Campbell Street\, Swan Hill\, Victoria\, 3585\, Australia
CATEGORIES:Weekly Programs
ATTACH;FMTTYPE=image/png:https://earlyyearsonlinehub.org.au/wp-content/uploads/2025/06/mainly-music.png
END:VEVENT
BEGIN:VEVENT
DTSTART;TZID=Australia/Melbourne:20261105T093000
DTEND;TZID=Australia/Melbourne:20261105T110000
DTSTAMP:20260424T005811
CREATED:20250924T040708Z
LAST-MODIFIED:20250924T040709Z
UID:10005182-1793871000-1793876400@earlyyearsonlinehub.org.au
SUMMARY:Mainly Music
DESCRIPTION:Cost: $5 per family. An interactive music session followed by playtime. Open to all children (babies to pre-schoolers) with a caregiver present. Morning tea provided.
URL:https://earlyyearsonlinehub.org.au/event/mainly-music-2/2026-11-05/
LOCATION:Swan Hill Library\, 53-67 Campbell Street\, Swan Hill\, Victoria\, 3585\, Australia
CATEGORIES:Weekly Programs
ATTACH;FMTTYPE=image/png:https://earlyyearsonlinehub.org.au/wp-content/uploads/2025/06/mainly-music.png
END:VEVENT
BEGIN:VEVENT
DTSTART;TZID=Australia/Melbourne:20261112T093000
DTEND;TZID=Australia/Melbourne:20261112T110000
DTSTAMP:20260424T005811
CREATED:20250924T040708Z
LAST-MODIFIED:20250924T040709Z
UID:10005183-1794475800-1794481200@earlyyearsonlinehub.org.au
SUMMARY:Mainly Music
DESCRIPTION:Cost: $5 per family. An interactive music session followed by playtime. Open to all children (babies to pre-schoolers) with a caregiver present. Morning tea provided.
URL:https://earlyyearsonlinehub.org.au/event/mainly-music-2/2026-11-12/
LOCATION:Swan Hill Library\, 53-67 Campbell Street\, Swan Hill\, Victoria\, 3585\, Australia
CATEGORIES:Weekly Programs
ATTACH;FMTTYPE=image/png:https://earlyyearsonlinehub.org.au/wp-content/uploads/2025/06/mainly-music.png
END:VEVENT
BEGIN:VEVENT
DTSTART;TZID=Australia/Melbourne:20261119T093000
DTEND;TZID=Australia/Melbourne:20261119T110000
DTSTAMP:20260424T005811
CREATED:20250924T040708Z
LAST-MODIFIED:20250924T040709Z
UID:10005184-1795080600-1795086000@earlyyearsonlinehub.org.au
SUMMARY:Mainly Music
DESCRIPTION:Cost: $5 per family. An interactive music session followed by playtime. Open to all children (babies to pre-schoolers) with a caregiver present. Morning tea provided.
URL:https://earlyyearsonlinehub.org.au/event/mainly-music-2/2026-11-19/
LOCATION:Swan Hill Library\, 53-67 Campbell Street\, Swan Hill\, Victoria\, 3585\, Australia
CATEGORIES:Weekly Programs
ATTACH;FMTTYPE=image/png:https://earlyyearsonlinehub.org.au/wp-content/uploads/2025/06/mainly-music.png
END:VEVENT
END:VCALENDAR